Workbook

Sheet Synthèse
A1: Synthèse des ventes de billets
A2: Billets nets | B2: =SUM('Ventes'!I2:I111) | D2: Événement | E2: ='Paramètres'!B2
A3: Chiffre d’affaires net | B3: =SUM('Ventes'!H2:H111) | D3: Date de l’événement | E3: ='Paramètres'!B3
A4: Taux d’objectif billets | B4: =IFERROR(B2/'Paramètres'!B6,"") | D4: Début du suivi | E4: ='Paramètres'!B4
A5: Billets restant à vendre | B5: =MAX(0,'Paramètres'!B6-B2) | D5: Fin du suivi | E5: ='Paramètres'!B5
A6: Capacité disponible | B6: ='Paramètres'!B7-B2 | D6: Objectif de billets | E6: ='Paramètres'!B6
A7: Prix moyen net | B7: =IFERROR(B3/B2,"") | D7: Objectif de CA | E7: ='Paramètres'!B8
A10: Détail par tarif
A11: Tarif | B11: Billets nets | C11: CA net | D11: Part de l’objectif
A12: =IF('Paramètres'!D2="","",'Paramètres'!D2) | B12: =IF(A12="","",SUMIFS('Ventes'!$I$2:$I$111,'Ventes'!$D$2:$D$111,A12)) | C12: =IF(A12="","",SUMIFS('Ventes'!$H$2:$H$111,'Ventes'!$D$2:$D$111,A12)) | D12: =IF(A12="","",IFERROR(B12/'Paramètres'!$B$6,""))
A13: =IF('Paramètres'!D3="","",'Paramètres'!D3) | B13: =IF(A13="","",SUMIFS('Ventes'!$I$2:$I$111,'Ventes'!$D$2:$D$111,A13)) | C13: =IF(A13="","",SUMIFS('Ventes'!$H$2:$H$111,'Ventes'!$D$2:$D$111,A13)) | D13: =IF(A13="","",IFERROR(B13/'Paramètres'!$B$6,""))
A14: =IF('Paramètres'!D4="","",'Paramètres'!D4) | B14: =IF(A14="","",SUMIFS('Ventes'!$I$2:$I$111,'Ventes'!$D$2:$D$111,A14)) | C14: =IF(A14="","",SUMIFS('Ventes'!$H$2:$H$111,'Ventes'!$D$2:$D$111,A14)) | D14: =IF(A14="","",IFERROR(B14/'Paramètres'!$B$6,""))
A15: =IF('Paramètres'!D5="","",'Paramètres'!D5) | B15: =IF(A15="","",SUMIFS('Ventes'!$I$2:$I$111,'Ventes'!$D$2:$D$111,A15)) | C15: =IF(A15="","",SUMIFS('Ventes'!$H$2:$H$111,'Ventes'!$D$2:$D$111,A15)) | D15: =IF(A15="","",IFERROR(B15/'Paramètres'!$B$6,""))
A16: =IF('Paramètres'!D6="","",'Paramètres'!D6) | B16: =IF(A16="","",SUMIFS('Ventes'!$I$2:$I$111,'Ventes'!$D$2:$D$111,A16)) | C16: =IF(A16="","",SUMIFS('Ventes'!$H$2:$H$111,'Ventes'!$D$2:$D$111,A16)) | D16: =IF(A16="","",IFERROR(B16/'Paramètres'!$B$6,""))
A17: =IF('Paramètres'!D7="","",'Paramètres'!D7) | B17: =IF(A17="","",SUMIFS('Ventes'!$I$2:$I$111,'Ventes'!$D$2:$D$111,A17)) | C17: =IF(A17="","",SUMIFS('Ventes'!$H$2:$H$111,'Ventes'!$D$2:$D$111,A17)) | D17: =IF(A17="","",IFERROR(B17/'Paramètres'!$B$6,""))
A18: =IF('Paramètres'!D8="","",'Paramètres'!D8) | B18: =IF(A18="","",SUMIFS('Ventes'!$I$2:$I$111,'Ventes'!$D$2:$D$111,A18)) | C18: =IF(A18="","",SUMIFS('Ventes'!$H$2:$H$111,'Ventes'!$D$2:$D$111,A18)) | D18: =IF(A18="","",IFERROR(B18/'Paramètres'!$B$6,""))
A19: =IF('Paramètres'!D9="","",'Paramètres'!D9) | B19: =IF(A19="","",SUMIFS('Ventes'!$I$2:$I$111,'Ventes'!$D$2:$D$111,A19)) | C19: =IF(A19="","",SUMIFS('Ventes'!$H$2:$H$111,'Ventes'!$D$2:$D$111,A19)) | D19: =IF(A19="","",IFERROR(B19/'Paramètres'!$B$6,""))
A20: =IF('Paramètres'!D10="","",'Paramètres'!D10) | B20: =IF(A20="","",SUMIFS('Ventes'!$I$2:$I$111,'Ventes'!$D$2:$D$111,A20)) | C20: =IF(A20="","",SUMIFS('Ventes'!$H$2:$H$111,'Ventes'!$D$2:$D$111,A20)) | D20: =IF(A20="","",IFERROR(B20/'Paramètres'!$B$6,""))
A21: Total | B21: =SUM(B12:B20) | C21: =SUM(C12:C20) | D21: =IFERROR(B21/'Paramètres'!$B$6,"")

Sheet Paramètres
A1: Paramètre de pilotage | B1: Valeur modifiable | D1: Tarif | E1: Prix unitaire | G1: Types de mouvement | H1: Canaux | I1: Statuts de saisie
A2: Nom de l’événement | B2: Forum Démo 2027 — fictif | D2: Standard | E2: 120 | G2: Vente | H2: Site web | I2: Validé
A3: Date de l’événement | B3: 46466 | D3: Réduit | E3: 80 | G3: Remboursement | H3: Téléphone | I3: À vérifier
A4: Début du suivi | B4: 46296 | D4: Lancement | E4: 95 | H4: Formulaire interne
A5: Fin du suivi | B5: 46465 | H5: Partenaire
A6: Objectif de billets | B6: 500
A7: Capacité de référence | B7: 650
A8: Objectif de chiffre d’affaires | B8: 52000
A10: Repère visuel | B10: Les cellules jaunes sont modifiables.

Sheet Ventes
A1: Référence mouvement | B1: Date mouvement | C1: Type de mouvement | D1: Tarif | E1: Canal | F1: Quantité | G1: Prix unitaire | H1: Montant net | I1: Billets nets | J1: Statut de saisie | K1: Commentaire | L1: Alerte ligne
A2: DÉMO-001 | B2: 46296 | C2: Vente | D2: Lancement | E2: Site web | F2: 12 | G2: =IF(D2="","",IFERROR(VLOOKUP(D2,'Paramètres'!$D$2:$E$10,2,FALSE),"")) | H2: =IF(OR(C2="",F2="",G2="",J2<>"Validé"),"",IF(C2="Vente",F2*G2,-F2*G2)) | I2: =IF(OR(C2="",F2="",J2<>"Validé"),"",IF(C2="Vente",F2,-F2)) | J2: Validé | K2: Exemple fictif | L2: =IF(COUNTA(A2:F2,J2:K2)=0,"",_xlfn.TEXTJOIN(" | ",TRUE,IF(A2="","Référence manquante",""),IF(COUNTIF($A$2:$A$111,A2)>1,"Référence en double",""),IF(OR(B2<'Paramètres'!$B$4,B2>'Paramètres'!$B$5),"Date hors période",""),IF(OR(C2="",D2="",E2="",F2="",J2=""),"Champ requis manquant",""),IF(J2="À vérifier","Saisie à vérifier","")))
A3: DÉMO-002 | B3: 46297 | C3: Vente | D3: Standard | E3: Site web | F3: 5 | G3: =IF(D3="","",IFERROR(VLOOKUP(D3,'Paramètres'!$D$2:$E$10,2,FALSE),"")) | H3: =IF(OR(C3="",F3="",G3="",J3<>"Validé"),"",IF(C3="Vente",F3*G3,-F3*G3)) | I3: =IF(OR(C3="",F3="",J3<>"Validé"),"",IF(C3="Vente",F3,-F3)) | J3: Validé | K3: Exemple fictif | L3: =IF(COUNTA(A3:F3,J3:K3)=0,"",_xlfn.TEXTJOIN(" | ",TRUE,IF(A3="","Référence manquante",""),IF(COUNTIF($A$2:$A$111,A3)>1,"Référence en double",""),IF(OR(B3<'Paramètres'!$B$4,B3>'Paramètres'!$B$5),"Date hors période",""),IF(OR(C3="",D3="",E3="",F3="",J3=""),"Champ requis manquant",""),IF(J3="À vérifier","Saisie à vérifier","")))
A4: DÉMO-003 | B4: 46298 | C4: Vente | D4: Réduit | E4: Téléphone | F4: 3 | G4: =IF(D4="","",IFERROR(VLOOKUP(D4,'Paramètres'!$D$2:$E$10,2,FALSE),"")) | H4: =IF(OR(C4="",F4="",G4="",J4<>"Validé"),"",IF(C4="Vente",F4*G4,-F4*G4)) | I4: =IF(OR(C4="",F4="",J4<>"Validé"),"",IF(C4="Vente",F4,-F4)) | J4: Validé | K4: Exemple fictif | L4: =IF(COUNTA(A4:F4,J4:K4)=0,"",_xlfn.TEXTJOIN(" | ",TRUE,IF(A4="","Référence manquante",""),IF(COUNTIF($A$2:$A$111,A4)>1,"Référence en double",""),IF(OR(B4<'Paramètres'!$B$4,B4>'Paramètres'!$B$5),"Date hors période",""),IF(OR(C4="",D4="",E4="",F4="",J4=""),"Champ requis manquant",""),IF(J4="À vérifier","Saisie à vérifier","")))
A5: DÉMO-004 | B5: 46300 | C5: Vente | D5: Lancement | E5: Partenaire | F5: 8 | G5: =IF(D5="","",IFERROR(VLOOKUP(D5,'Paramètres'!$D$2:$E$10,2,FALSE),"")) | H5: =IF(OR(C5="",F5="",G5="",J5<>"Validé"),"",IF(C5="Vente",F5*G5,-F5*G5)) | I5: =IF(OR(C5="",F5="",J5<>"Validé"),"",IF(C5="Vente",F5,-F5)) | J5: Validé | K5: Exemple fictif | L5: =IF(COUNTA(A5:F5,J5:K5)=0,"",_xlfn.TEXTJOIN(" | ",TRUE,IF(A5="","Référence manquante",""),IF(COUNTIF($A$2:$A$111,A5)>1,"Référence en double",""),IF(OR(B5<'Paramètres'!$B$4,B5>'Paramètres'!$B$5),"Date hors période",""),IF(OR(C5="",D5="",E5="",F5="",J5=""),"Champ requis manquant",""),IF(J5="À vérifier","Saisie à vérifier","")))
A6: DÉMO-005 | B6: 46303 | C6: Remboursement | D6: Lancement | E6: Site web | F6: 1 | G6: =IF(D6="","",IFERROR(VLOOKUP(D6,'Paramètres'!$D$2:$E$10,2,FALSE),"")) | H6: =IF(OR(C6="",F6="",G6="",J6<>"Validé"),"",IF(C6="Vente",F6*G6,-F6*G6)) | I6: =IF(OR(C6="",F6="",J6<>"Validé"),"",IF(C6="Vente",F6,-F6)) | J6: Validé | K6: Exemple fictif | L6: =IF(COUNTA(A6:F6,J6:K6)=0,"",_xlfn.TEXTJOIN(" | ",TRUE,IF(A6="","Référence manquante",""),IF(COUNTIF($A$2:$A$111,A6)>1,"Référence en double",""),IF(OR(B6<'Paramètres'!$B$4,B6>'Paramètres'!$B$5),"Date hors période",""),IF(OR(C6="",D6="",E6="",F6="",J6=""),"Champ requis manquant",""),IF(J6="À vérifier","Saisie à vérifier","")))
A7: DÉMO-006 | B7: 46307 | C7: Vente | D7: Réduit | E7: Site web | F7: 4 | G7: =IF(D7="","",IFERROR(VLOOKUP(D7,'Paramètres'!$D$2:$E$10,2,FALSE),"")) | H7: =IF(OR(C7="",F7="",G7="",J7<>"Validé"),"",IF(C7="Vente",F7*G7,-F7*G7)) | I7: =IF(OR(C7="",F7="",J7<>"Validé"),"",IF(C7="Vente",F7,-F7)) | J7: À vérifier | K7: Exemple fictif | L7: =IF(COUNTA(A7:F7,J7:K7)=0,"",_xlfn.TEXTJOIN(" | ",TRUE,IF(A7="","Référence manquante",""),IF(COUNTIF($A$2:$A$111,A7)>1,"Référence en double",""),IF(OR(B7<'Paramètres'!$B$4,B7>'Paramètres'!$B$5),"Date hors période",""),IF(OR(C7="",D7="",E7="",F7="",J7=""),"Champ requis manquant",""),IF(J7="À vérifier","Saisie à vérifier","")))
A8: DÉMO-007 | B8: 46310 | C8: Vente | D8: Standard | E8: Téléphone | F8: 2 | G8: =IF(D8="","",IFERROR(VLOOKUP(D8,'Paramètres'!$D$2:$E$10,2,FALSE),"")) | H8: =IF(OR(C8="",F8="",G8="",J8<>"Validé"),"",IF(C8="Vente",F8*G8,-F8*G8)) | I8: =IF(OR(C8="",F8="",J8<>"Validé"),"",IF(C8="Vente",F8,-F8)) | J8: Validé | K8: Exemple fictif | L8: =IF(COUNTA(A8:F8,J8:K8)=0,"",_xlfn.TEXTJOIN(" | ",TRUE,IF(A8="","Référence manquante",""),IF(COUNTIF($A$2:$A$111,A8)>1,"Référence en double",""),IF(OR(B8<'Paramètres'!$B$4,B8>'Paramètres'!$B$5),"Date hors période",""),IF(OR(C8="",D8="",E8="",F8="",J8=""),"Champ requis manquant",""),IF(J8="À vérifier","Saisie à vérifier","")))
A9: DÉMO-008 | B9: 46315 | C9: Remboursement | D9: Standard | E9: Téléphone | F9: 1 | G9: =IF(D9="","",IFERROR(VLOOKUP(D9,'Paramètres'!$D$2:$E$10,2,FALSE),"")) | H9: =IF(OR(C9="",F9="",G9="",J9<>"Validé"),"",IF(C9="Vente",F9*G9,-F9*G9)) | I9: =IF(OR(C9="",F9="",J9<>"Validé"),"",IF(C9="Vente",F9,-F9)) | J9: Validé | K9: Exemple fictif | L9: =IF(COUNTA(A9:F9,J9:K9)=0,"",_xlfn.TEXTJOIN(" | ",TRUE,IF(A9="","Référence manquante",""),IF(COUNTIF($A$2:$A$111,A9)>1,"Référence en double",""),IF(OR(B9<'Paramètres'!$B$4,B9>'Paramètres'!$B$5),"Date hors période",""),IF(OR(C9="",D9="",E9="",F9="",J9=""),"Champ requis manquant",""),IF(J9="À vérifier","Saisie à vérifier","")))
A10: DÉMO-009 | B10: 46327 | C10: Vente | D10: Lancement | E10: Formulaire interne | F10: 6 | G10: =IF(D10="","",IFERROR(VLOOKUP(D10,'Paramètres'!$D$2:$E$10,2,FALSE),"")) | H10: =IF(OR(C10="",F10="",G10="",J10<>"Validé"),"",IF(C10="Vente",F10*G10,-F10*G10)) | I10: =IF(OR(C10="",F10="",J10<>"Validé"),"",IF(C10="Vente",F10,-F10)) | J10: Validé | K10: Exemple fictif | L10: =IF(COUNTA(A10:F10,J10:K10)=0,"",_xlfn.TEXTJOIN(" | ",TRUE,IF(A10="","Référence manquante",""),IF(COUNTIF($A$2:$A$111,A10)>1,"Référence en double",""),IF(OR(B10<'Paramètres'!$B$4,B10>'Paramètres'!$B$5),"Date hors période",""),IF(OR(C10="",D10="",E10="",F10="",J10=""),"Champ requis manquant",""),IF(J10="À vérifier","Saisie à vérifier","")))
A11: DÉMO-010 | B11: 46329 | C11: Vente | D11: Standard | E11: Partenaire | F11: 10 | G11: =IF(D11="","",IFERROR(VLOOKUP(D11,'Paramètres'!$D$2:$E$10,2,FALSE),"")) | H11: =IF(OR(C11="",F11="",G11="",J11<>"Validé"),"",IF(C11="Vente",F11*G11,-F11*G11)) | I11: =IF(OR(C11="",F11="",J11<>"Validé"),"",IF(C11="Vente",F11,-F11)) | J11: Validé | K11: Exemple fictif | L11: =IF(COUNTA(A11:F11,J11:K11)=0,"",_xlfn.TEXTJOIN(" | ",TRUE,IF(A11="","Référence manquante",""),IF(COUNTIF($A$2:$A$111,A11)>1,"Référence en double",""),IF(OR(B11<'Paramètres'!$B$4,B11>'Paramètres'!$B$5),"Date hors période",""),IF(OR(C11="",D11="",E11="",F11="",J11=""),"Champ requis manquant",""),IF(J11="À vérifier","Saisie à vérifier","")))
G12: =IF(D12="","",IFERROR(VLOOKUP(D12,'Paramètres'!$D$2:$E$10,2,FALSE),"")) | H12: =IF(OR(C12="",F12="",G12="",J12<>"Validé"),"",IF(C12="Vente",F12*G12,-F12*G12)) | I12: =IF(OR(C12="",F12="",J12<>"Validé"),"",IF(C12="Vente",F12,-F12)) | L12: =IF(COUNTA(A12:F12,J12:K12)=0,"",_xlfn.TEXTJOIN(" | ",TRUE,IF(A12="","Référence manquante",""),IF(COUNTIF($A$2:$A$111,A12)>1,"Référence en double",""),IF(OR(B12<'Paramètres'!$B$4,B12>'Paramètres'!$B$5),"Date hors période",""),IF(OR(C12="",D12="",E12="",F12="",J12=""),"Champ requis manquant",""),IF(J12="À vérifier","Saisie à vérifier","")))
G13: =IF(D13="","",IFERROR(VLOOKUP(D13,'Paramètres'!$D$2:$E$10,2,FALSE),"")) | H13: =IF(OR(C13="",F13="",G13="",J13<>"Validé"),"",IF(C13="Vente",F13*G13,-F13*G13)) | I13: =IF(OR(C13="",F13="",J13<>"Validé"),"",IF(C13="Vente",F13,-F13)) | L13: =IF(COUNTA(A13:F13,J13:K13)=0,"",_xlfn.TEXTJOIN(" | ",TRUE,IF(A13="","Référence manquante",""),IF(COUNTIF($A$2:$A$111,A13)>1,"Référence en double",""),IF(OR(B13<'Paramètres'!$B$4,B13>'Paramètres'!$B$5),"Date hors période",""),IF(OR(C13="",D13="",E13="",F13="",J13=""),"Champ requis manquant",""),IF(J13="À vérifier","Saisie à vérifier","")))
G14: =IF(D14="","",IFERROR(VLOOKUP(D14,'Paramètres'!$D$2:$E$10,2,FALSE),"")) | H14: =IF(OR(C14="",F14="",G14="",J14<>"Validé"),"",IF(C14="Vente",F14*G14,-F14*G14)) | I14: =IF(OR(C14="",F14="",J14<>"Validé"),"",IF(C14="Vente",F14,-F14)) | L14: =IF(COUNTA(A14:F14,J14:K14)=0,"",_xlfn.TEXTJOIN(" | ",TRUE,IF(A14="","Référence manquante",""),IF(COUNTIF($A$2:$A$111,A14)>1,"Référence en double",""),IF(OR(B14<'Paramètres'!$B$4,B14>'Paramètres'!$B$5),"Date hors période",""),IF(OR(C14="",D14="",E14="",F14="",J14=""),"Champ requis manquant",""),IF(J14="À vérifier","Saisie à vérifier","")))
G15: =IF(D15="","",IFERROR(VLOOKUP(D15,'Paramètres'!$D$2:$E$10,2,FALSE),"")) | H15: =IF(OR(C15="",F15="",G15="",J15<>"Validé"),"",IF(C15="Vente",F15*G15,-F15*G15)) | I15: =IF(OR(C15="",F15="",J15<>"Validé"),"",IF(C15="Vente",F15,-F15)) | L15: =IF(COUNTA(A15:F15,J15:K15)=0,"",_xlfn.TEXTJOIN(" | ",TRUE,IF(A15="","Référence manquante",""),IF(COUNTIF($A$2:$A$111,A15)>1,"Référence en double",""),IF(OR(B15<'Paramètres'!$B$4,B15>'Paramètres'!$B$5),"Date hors période",""),IF(OR(C15="",D15="",E15="",F15="",J15=""),"Champ requis manquant",""),IF(J15="À vérifier","Saisie à vérifier","")))
G16: =IF(D16="","",IFERROR(VLOOKUP(D16,'Paramètres'!$D$2:$E$10,2,FALSE),"")) | H16: =IF(OR(C16="",F16="",G16="",J16<>"Validé"),"",IF(C16="Vente",F16*G16,-F16*G16)) | I16: =IF(OR(C16="",F16="",J16<>"Validé"),"",IF(C16="Vente",F16,-F16)) | L16: =IF(COUNTA(A16:F16,J16:K16)=0,"",_xlfn.TEXTJOIN(" | ",TRUE,IF(A16="","Référence manquante",""),IF(COUNTIF($A$2:$A$111,A16)>1,"Référence en double",""),IF(OR(B16<'Paramètres'!$B$4,B16>'Paramètres'!$B$5),"Date hors période",""),IF(OR(C16="",D16="",E16="",F16="",J16=""),"Champ requis manquant",""),IF(J16="À vérifier","Saisie à vérifier","")))
G17: =IF(D17="","",IFERROR(VLOOKUP(D17,'Paramètres'!$D$2:$E$10,2,FALSE),"")) | H17: =IF(OR(C17="",F17="",G17="",J17<>"Validé"),"",IF(C17="Vente",F17*G17,-F17*G17)) | I17: =IF(OR(C17="",F17="",J17<>"Validé"),"",IF(C17="Vente",F17,-F17)) | L17: =IF(COUNTA(A17:F17,J17:K17)=0,"",_xlfn.TEXTJOIN(" | ",TRUE,IF(A17="","Référence manquante",""),IF(COUNTIF($A$2:$A$111,A17)>1,"Référence en double",""),IF(OR(B17<'Paramètres'!$B$4,B17>'Paramètres'!$B$5),"Date hors période",""),IF(OR(C17="",D17="",E17="",F17="",J17=""),"Champ requis manquant",""),IF(J17="À vérifier","Saisie à vérifier","")))
G18: =IF(D18="","",IFERROR(VLOOKUP(D18,'Paramètres'!$D$2:$E$10,2,FALSE),"")) | H18: =IF(OR(C18="",F18="",G18="",J18<>"Validé"),"",IF(C18="Vente",F18*G18,-F18*G18)) | I18: =IF(OR(C18="",F18="",J18<>"Validé"),"",IF(C18="Vente",F18,-F18)) | L18: =IF(COUNTA(A18:F18,J18:K18)=0,"",_xlfn.TEXTJOIN(" | ",TRUE,IF(A18="","Référence manquante",""),IF(COUNTIF($A$2:$A$111,A18)>1,"Référence en double",""),IF(OR(B18<'Paramètres'!$B$4,B18>'Paramètres'!$B$5),"Date hors période",""),IF(OR(C18="",D18="",E18="",F18="",J18=""),"Champ requis manquant",""),IF(J18="À vérifier","Saisie à vérifier","")))
G19: =IF(D19="","",IFERROR(VLOOKUP(D19,'Paramètres'!$D$2:$E$10,2,FALSE),"")) | H19: =IF(OR(C19="",F19="",G19="",J19<>"Validé"),"",IF(C19="Vente",F19*G19,-F19*G19)) | I19: =IF(OR(C19="",F19="",J19<>"Validé"),"",IF(C19="Vente",F19,-F19)) | L19: =IF(COUNTA(A19:F19,J19:K19)=0,"",_xlfn.TEXTJOIN(" | ",TRUE,IF(A19="","Référence manquante",""),IF(COUNTIF($A$2:$A$111,A19)>1,"Référence en double",""),IF(OR(B19<'Paramètres'!$B$4,B19>'Paramètres'!$B$5),"Date hors période",""),IF(OR(C19="",D19="",E19="",F19="",J19=""),"Champ requis manquant",""),IF(J19="À vérifier","Saisie à vérifier","")))
G20: =IF(D20="","",IFERROR(VLOOKUP(D20,'Paramètres'!$D$2:$E$10,2,FALSE),"")) | H20: =IF(OR(C20="",F20="",G20="",J20<>"Validé"),"",IF(C20="Vente",F20*G20,-F20*G20)) | I20: =IF(OR(C20="",F20="",J20<>"Validé"),"",IF(C20="Vente",F20,-F20)) | L20: =IF(COUNTA(A20:F20,J20:K20)=0,"",_xlfn.TEXTJOIN(" | ",TRUE,IF(A20="","Référence manquante",""),IF(COUNTIF($A$2:$A$111,A20)>1,"Référence en double",""),IF(OR(B20<'Paramètres'!$B$4,B20>'Paramètres'!$B$5),"Date hors période",""),IF(OR(C20="",D20="",E20="",F20="",J20=""),"Champ requis manquant",""),IF(J20="À vérifier","Saisie à vérifier","")))
G21: =IF(D21="","",IFERROR(VLOOKUP(D21,'Paramètres'!$D$2:$E$10,2,FALSE),"")) | H21: =IF(OR(C21="",F21="",G21="",J21<>"Validé"),"",IF(C21="Vente",F21*G21,-F21*G21)) | I21: =IF(OR(C21="",F21="",J21<>"Validé"),"",IF(C21="Vente",F21,-F21)) | L21: =IF(COUNTA(A21:F21,J21:K21)=0,"",_xlfn.TEXTJOIN(" | ",TRUE,IF(A21="","Référence manquante",""),IF(COUNTIF($A$2:$A$111,A21)>1,"Référence en double",""),IF(OR(B21<'Paramètres'!$B$4,B21>'Paramètres'!$B$5),"Date hors période",""),IF(OR(C21="",D21="",E21="",F21="",J21=""),"Champ requis manquant",""),IF(J21="À vérifier","Saisie à vérifier","")))
G22: =IF(D22="","",IFERROR(VLOOKUP(D22,'Paramètres'!$D$2:$E$10,2,FALSE),"")) | H22: =IF(OR(C22="",F22="",G22="",J22<>"Validé"),"",IF(C22="Vente",F22*G22,-F22*G22)) | I22: =IF(OR(C22="",F22="",J22<>"Validé"),"",IF(C22="Vente",F22,-F22)) | L22: =IF(COUNTA(A22:F22,J22:K22)=0,"",_xlfn.TEXTJOIN(" | ",TRUE,IF(A22="","Référence manquante",""),IF(COUNTIF($A$2:$A$111,A22)>1,"Référence en double",""),IF(OR(B22<'Paramètres'!$B$4,B22>'Paramètres'!$B$5),"Date hors période",""),IF(OR(C22="",D22="",E22="",F22="",J22=""),"Champ requis manquant",""),IF(J22="À vérifier","Saisie à vérifier","")))
G23: =IF(D23="","",IFERROR(VLOOKUP(D23,'Paramètres'!$D$2:$E$10,2,FALSE),"")) | H23: =IF(OR(C23="",F23="",G23="",J23<>"Validé"),"",IF(C23="Vente",F23*G23,-F23*G23)) | I23: =IF(OR(C23="",F23="",J23<>"Validé"),"",IF(C23="Vente",F23,-F23)) | L23: =IF(COUNTA(A23:F23,J23:K23)=0,"",_xlfn.TEXTJOIN(" | ",TRUE,IF(A23="","Référence manquante",""),IF(COUNTIF($A$2:$A$111,A23)>1,"Référence en double",""),IF(OR(B23<'Paramètres'!$B$4,B23>'Paramètres'!$B$5),"Date hors période",""),IF(OR(C23="",D23="",E23="",F23="",J23=""),"Champ requis manquant",""),IF(J23="À vérifier","Saisie à vérifier","")))
... G111: =IF(D111="","",IFERROR(VLOOKUP(D111,'Paramètres'!$D$2:$E$10,2,FALSE),"")) | H111: =IF(OR(C111="",F111="",G111="",J111<>"Validé"),"",IF(C111="Vente",F111*G111,-F111*G111)) | I111: =IF(OR(C111="",F111="",J111<>"Validé"),"",IF(C111="Vente",F111,-F111)) | L111: =IF(COUNTA(A111:F111,J111:K111)=0,"",_xlfn.TEXTJOIN(" | ",TRUE,IF(A111="","Référence manquante",""),IF(COUNTIF($A$2:$A$111,A111)>1,"Référence en double",""),IF(OR(B111<'Paramètres'!$B$4,B111>'Paramètres'!$B$5),"Date hors période",""),IF(OR(C111="",D111="",E111="",F111="",J111=""),"Champ requis manquant",""),IF(J111="À vérifier","Saisie à vérifier","")))

Sheet Contrôles
A1: Contrôles de cohérence
A3: Contrôle | B3: Résultat | C3: Lecture
A4: Nombre d’alertes | B4: =COUNTIF('Ventes'!L2:L111,"?*") | C4: Lignes comportant au moins une anomalie.
A5: Lignes à vérifier | B5: =COUNTIF('Ventes'!J2:J111,"À vérifier") | C5: Mouvements exclus des montants et billets nets.
A6: Références en double | B6: =COUNTIF('Ventes'!L2:L111,"*Référence en double*") | C6: Lignes partageant une référence déjà utilisée.
A7: Dates hors période | B7: =COUNTIF('Ventes'!L2:L111,"*Date hors période*") | C7: Dates situées avant ou après la période paramétrée.
A8: Dépassement de capacité | B8: =IF('Synthèse'!B6<0,1,0) | C8: Valeur 1 si les billets nets dépassent la capacité de référence.
A11: Rappel de périmètre
A12: Mode de consolidation | B12: Saisie et consolidation manuelles uniquement.
A13: Données exclues | B13: Aucune donnée nominative, billetterie connectée, CRM, macro ou lien externe.
A14: Portée | B14: Aide au pilotage opérationnel et financier ; ni document officiel ni preuve de conformité.
