Workbook

Sheet Synthèse
A1: Synthèse du suivi sponsoring — Événement professionnel fictif
A2: Objectif sponsoring | B2: ='Paramètres'!B4 | D2: Statut | E2: Prospects | F2: Valeur proposée | G2: Valeur pondérée
A3: Pipeline pondéré | B3: =SUM('Suivi sponsors'!Q2:Q111) | D3: =IF('Paramètres'!D3="","",'Paramètres'!D3) | E3: =IF(D3="","",COUNTIFS('Suivi sponsors'!$A$2:$A$111,"<>",'Suivi sponsors'!$F$2:$F$111,D3)) | F3: =IF(D3="","",SUMIFS('Suivi sponsors'!$M$2:$M$111,'Suivi sponsors'!$A$2:$A$111,"<>",'Suivi sponsors'!$F$2:$F$111,D3)) | G3: =IF(D3="","",SUMIFS('Suivi sponsors'!$Q$2:$Q$111,'Suivi sponsors'!$A$2:$A$111,"<>",'Suivi sponsors'!$F$2:$F$111,D3))
A4: Valeur contractualisée | B4: =SUM('Suivi sponsors'!N2:N111) | D4: =IF('Paramètres'!D4="","",'Paramètres'!D4) | E4: =IF(D4="","",COUNTIFS('Suivi sponsors'!$A$2:$A$111,"<>",'Suivi sponsors'!$F$2:$F$111,D4)) | F4: =IF(D4="","",SUMIFS('Suivi sponsors'!$M$2:$M$111,'Suivi sponsors'!$A$2:$A$111,"<>",'Suivi sponsors'!$F$2:$F$111,D4)) | G4: =IF(D4="","",SUMIFS('Suivi sponsors'!$Q$2:$Q$111,'Suivi sponsors'!$A$2:$A$111,"<>",'Suivi sponsors'!$F$2:$F$111,D4))
A5: Montant reçu | B5: =SUM('Suivi sponsors'!O2:O111) | D5: =IF('Paramètres'!D5="","",'Paramètres'!D5) | E5: =IF(D5="","",COUNTIFS('Suivi sponsors'!$A$2:$A$111,"<>",'Suivi sponsors'!$F$2:$F$111,D5)) | F5: =IF(D5="","",SUMIFS('Suivi sponsors'!$M$2:$M$111,'Suivi sponsors'!$A$2:$A$111,"<>",'Suivi sponsors'!$F$2:$F$111,D5)) | G5: =IF(D5="","",SUMIFS('Suivi sponsors'!$Q$2:$Q$111,'Suivi sponsors'!$A$2:$A$111,"<>",'Suivi sponsors'!$F$2:$F$111,D5))
A6: Reste à sécuriser | B6: =MAX(0,B2-B4) | D6: =IF('Paramètres'!D6="","",'Paramètres'!D6) | E6: =IF(D6="","",COUNTIFS('Suivi sponsors'!$A$2:$A$111,"<>",'Suivi sponsors'!$F$2:$F$111,D6)) | F6: =IF(D6="","",SUMIFS('Suivi sponsors'!$M$2:$M$111,'Suivi sponsors'!$A$2:$A$111,"<>",'Suivi sponsors'!$F$2:$F$111,D6)) | G6: =IF(D6="","",SUMIFS('Suivi sponsors'!$Q$2:$Q$111,'Suivi sponsors'!$A$2:$A$111,"<>",'Suivi sponsors'!$F$2:$F$111,D6))
A7: Relances en retard | B7: =COUNTIF('Suivi sponsors'!S2:S111,"En retard") | D7: =IF('Paramètres'!D7="","",'Paramètres'!D7) | E7: =IF(D7="","",COUNTIFS('Suivi sponsors'!$A$2:$A$111,"<>",'Suivi sponsors'!$F$2:$F$111,D7)) | F7: =IF(D7="","",SUMIFS('Suivi sponsors'!$M$2:$M$111,'Suivi sponsors'!$A$2:$A$111,"<>",'Suivi sponsors'!$F$2:$F$111,D7)) | G7: =IF(D7="","",SUMIFS('Suivi sponsors'!$Q$2:$Q$111,'Suivi sponsors'!$A$2:$A$111,"<>",'Suivi sponsors'!$F$2:$F$111,D7))
A8: Taux de contreparties réalisées | B8: =IFERROR(COUNTIF(Contreparties!G2:G201,"Réalisée")/COUNTIF(Contreparties!A2:A201,"<>"),0) | D8: =IF('Paramètres'!D8="","",'Paramètres'!D8) | E8: =IF(D8="","",COUNTIFS('Suivi sponsors'!$A$2:$A$111,"<>",'Suivi sponsors'!$F$2:$F$111,D8)) | F8: =IF(D8="","",SUMIFS('Suivi sponsors'!$M$2:$M$111,'Suivi sponsors'!$A$2:$A$111,"<>",'Suivi sponsors'!$F$2:$F$111,D8)) | G8: =IF(D8="","",SUMIFS('Suivi sponsors'!$Q$2:$Q$111,'Suivi sponsors'!$A$2:$A$111,"<>",'Suivi sponsors'!$F$2:$F$111,D8))
D9: =IF('Paramètres'!D9="","",'Paramètres'!D9) | E9: =IF(D9="","",COUNTIFS('Suivi sponsors'!$A$2:$A$111,"<>",'Suivi sponsors'!$F$2:$F$111,D9)) | F9: =IF(D9="","",SUMIFS('Suivi sponsors'!$M$2:$M$111,'Suivi sponsors'!$A$2:$A$111,"<>",'Suivi sponsors'!$F$2:$F$111,D9)) | G9: =IF(D9="","",SUMIFS('Suivi sponsors'!$Q$2:$Q$111,'Suivi sponsors'!$A$2:$A$111,"<>",'Suivi sponsors'!$F$2:$F$111,D9))
A10: Événement suivi | B10: ='Paramètres'!B2 | D10: =IF('Paramètres'!D10="","",'Paramètres'!D10) | E10: =IF(D10="","",COUNTIFS('Suivi sponsors'!$A$2:$A$111,"<>",'Suivi sponsors'!$F$2:$F$111,D10)) | F10: =IF(D10="","",SUMIFS('Suivi sponsors'!$M$2:$M$111,'Suivi sponsors'!$A$2:$A$111,"<>",'Suivi sponsors'!$F$2:$F$111,D10)) | G10: =IF(D10="","",SUMIFS('Suivi sponsors'!$Q$2:$Q$111,'Suivi sponsors'!$A$2:$A$111,"<>",'Suivi sponsors'!$F$2:$F$111,D10))
A11: Date de l’événement | B11: ='Paramètres'!B3
A13: Périmètre | B13: Outil local d’aide à la priorisation et au suivi. Il ne remplace ni CRM, ni budget comptable, ni contrat ou document officiel.

Sheet Paramètres
A1: Paramètres modifiables — Suivi sponsoring fictif
A2: Nom de l’événement | B2: Événement professionnel fictif | D2: ListeStatuts | E2: Probabilité | G2: ListeOffres | H2: ListeApports | I2: ListeResponsables | J2: ListeCategories | K2: ListeStatutsContrepartie
A3: Date de l’événement | B3: 46346 | D3: À qualifier | E3: 0.1 | G3: Essentielle | H3: Financier | I3: Pôle partenariats | J3: Visibilité | K3: À lancer
A4: Objectif sponsoring (€) | B4: 100000 | D4: Contacté | E4: 0.2 | G4: Rayonnement | H4: En nature | I4: Équipe programme | J4: Intervention | K4: En cours
A5: Délai d’alerte (jours) | B5: 14 | D5: Échange en cours | E5: 0.4 | G5: Signature | H5: Mixte | I5: Équipe logistique | J5: Accueil | K5: Bloquée
D6: Proposition envoyée | E6: 0.6 | G6: Sur mesure | I6: Équipe communication | J6: Contenus | K6: Réalisée
D7: Accord de principe | E7: 0.8 | J7: Hospitalité | K7: Annulée
D8: Signé | E8: 1
D9: Refusé | E9: 0
D10: Abandonné | E10: 0
A12: Contrôles intégrés | B12: Comportement prévu
A13: Doublon d’ID sponsor | B13: Bloqué par une validation de saisie.
A14: Échéance passée | B14: Signalée automatiquement comme « En retard ».
A15: Statut hors liste | B15: Bloqué par la liste déroulante modifiable.
A16: Montant négatif | B16: Bloqué par une validation numérique.
A17: Montant reçu trop élevé | B17: Bloqué et signalé en rouge.
A18: Référence sponsor inconnue | B18: Signalée en rouge foncé dans les contreparties.
A19: Synthèse sans saisie | B19: Montants à zéro et taux protégé contre les divisions impossibles.
A21: Usage | B21: Les taux, listes, dates, montants et délais sont des hypothèses modifiables. Le classeur ne garantit aucune règle contractuelle, juridique ou réglementaire.

Sheet Suivi sponsors
A1: ID sponsor | B1: Organisation | C1: Secteur | D1: Offre | E1: Type d’apport | F1: Statut | G1: Fonction contact | H1: Référent interne | I1: Date premier contact | J1: Date dernier échange | K1: Prochaine action | L1: Échéance prochaine action | M1: Valeur proposée (€) | N1: Valeur contractualisée (€) | O1: Montant reçu (€) | P1: Probabilité | Q1: Valeur pondérée (€) | R1: Jours avant échéance | S1: Alerte | T1: Notes
A2: SP-001 | B2: Prospect fictif 01 | C2: Secteur fictif 01 | D2: Essentielle | E2: Financier | F2: À qualifier | G2: Direction des partenariats | H2: Pôle partenariats | I2: 46254 | J2: 46259 | K2: Qualifier le besoin | L2: 46270 | M2: 5000 | N2: 0 | O2: 0 | P2: =IF(A2="","",IFERROR(VLOOKUP(F2,'Paramètres'!$D$3:$E$10,2,FALSE),0)) | Q2: =IF(A2="","",IFERROR(M2*P2,0)) | R2: =IF(OR(A2="",L2=""),"",L2-TODAY()) | S2: =IF(A2="","",IF(OR(F2="Signé",F2="Refusé",F2="Abandonné"),"",IF(L2="","À planifier",IF(L2<TODAY(),"En retard",IF(L2<=TODAY()+'Paramètres'!$B$5,"À échéance","OK"))))) | T2: Scénario d’exemple fictif.
A3: SP-002 | B3: Prospect fictif 02 | C3: Secteur fictif 02 | D3: Rayonnement | E3: En nature | F3: Contacté | G3: Direction de la communication | H3: Équipe communication | I3: 46255 | J3: 46266 | K3: Relancer la présentation | L3: 46275 | M3: 8000 | N3: 0 | O3: 0 | P3: =IF(A3="","",IFERROR(VLOOKUP(F3,'Paramètres'!$D$3:$E$10,2,FALSE),0)) | Q3: =IF(A3="","",IFERROR(M3*P3,0)) | R3: =IF(OR(A3="",L3=""),"",L3-TODAY()) | S3: =IF(A3="","",IF(OR(F3="Signé",F3="Refusé",F3="Abandonné"),"",IF(L3="","À planifier",IF(L3<TODAY(),"En retard",IF(L3<=TODAY()+'Paramètres'!$B$5,"À échéance","OK"))))) | T3: Apport en nature à préciser.
A4: SP-003 | B4: Prospect fictif 03 | C4: Secteur fictif 03 | D4: Signature | E4: Mixte | F4: Échange en cours | G4: Direction des partenariats | H4: Équipe programme | I4: 46256 | J4: 46268 | K4: Préparer un échange de cadrage | L4: 46280 | M4: 12000 | N4: 0 | O4: 0 | P4: =IF(A4="","",IFERROR(VLOOKUP(F4,'Paramètres'!$D$3:$E$10,2,FALSE),0)) | Q4: =IF(A4="","",IFERROR(M4*P4,0)) | R4: =IF(OR(A4="",L4=""),"",L4-TODAY()) | S4: =IF(A4="","",IF(OR(F4="Signé",F4="Refusé",F4="Abandonné"),"",IF(L4="","À planifier",IF(L4<TODAY(),"En retard",IF(L4<=TODAY()+'Paramètres'!$B$5,"À échéance","OK"))))) | T4: Échange exploratoire fictif.
A5: SP-004 | B5: Prospect fictif 04 | C5: Secteur fictif 04 | D5: Signature | E5: Financier | F5: Proposition envoyée | G5: Direction générale | H5: Pôle partenariats | I5: 46258 | J5: 46269 | K5: Confirmer la réception de l’offre | L5: 46285 | M5: 15000 | N5: 0 | O5: 0 | P5: =IF(A5="","",IFERROR(VLOOKUP(F5,'Paramètres'!$D$3:$E$10,2,FALSE),0)) | Q5: =IF(A5="","",IFERROR(M5*P5,0)) | R5: =IF(OR(A5="",L5=""),"",L5-TODAY()) | S5: =IF(A5="","",IF(OR(F5="Signé",F5="Refusé",F5="Abandonné"),"",IF(L5="","À planifier",IF(L5<TODAY(),"En retard",IF(L5<=TODAY()+'Paramètres'!$B$5,"À échéance","OK"))))) | T5: Proposition fictive transmise.
A6: SP-005 | B6: Prospect fictif 05 | C6: Secteur fictif 05 | D6: Sur mesure | E6: Mixte | F6: Accord de principe | G6: Direction de la communication | H6: Équipe programme | I6: 46259 | J6: 46272 | K6: Formaliser les éléments convenus | L6: 46290 | M6: 20000 | N6: 0 | O6: 0 | P6: =IF(A6="","",IFERROR(VLOOKUP(F6,'Paramètres'!$D$3:$E$10,2,FALSE),0)) | Q6: =IF(A6="","",IFERROR(M6*P6,0)) | R6: =IF(OR(A6="",L6=""),"",L6-TODAY()) | S6: =IF(A6="","",IF(OR(F6="Signé",F6="Refusé",F6="Abandonné"),"",IF(L6="","À planifier",IF(L6<TODAY(),"En retard",IF(L6<=TODAY()+'Paramètres'!$B$5,"À échéance","OK"))))) | T6: Accord de principe fictif.
A7: SP-006 | B7: Prospect fictif 06 | C7: Secteur fictif 06 | D7: Sur mesure | E7: Financier | F7: Signé | G7: Direction des partenariats | H7: Pôle partenariats | I7: 46252 | J7: 46267 | K7: Suivre l’encaissement restant | L7: 46295 | M7: 25000 | N7: 25000 | O7: 15000 | P7: =IF(A7="","",IFERROR(VLOOKUP(F7,'Paramètres'!$D$3:$E$10,2,FALSE),0)) | Q7: =IF(A7="","",IFERROR(M7*P7,0)) | R7: =IF(OR(A7="",L7=""),"",L7-TODAY()) | S7: =IF(A7="","",IF(OR(F7="Signé",F7="Refusé",F7="Abandonné"),"",IF(L7="","À planifier",IF(L7<TODAY(),"En retard",IF(L7<=TODAY()+'Paramètres'!$B$5,"À échéance","OK"))))) | T7: Accord fictif pour démonstration.
A8: SP-007 | B8: Prospect fictif 07 | C8: Secteur fictif 07 | D8: Essentielle | E8: Financier | F8: Refusé | G8: Direction générale | H8: Pôle partenariats | I8: 46260 | J8: 46270 | K8: Archiver le motif fictif | L8: 46300 | M8: 7500 | N8: 0 | O8: 0 | P8: =IF(A8="","",IFERROR(VLOOKUP(F8,'Paramètres'!$D$3:$E$10,2,FALSE),0)) | Q8: =IF(A8="","",IFERROR(M8*P8,0)) | R8: =IF(OR(A8="",L8=""),"",L8-TODAY()) | S8: =IF(A8="","",IF(OR(F8="Signé",F8="Refusé",F8="Abandonné"),"",IF(L8="","À planifier",IF(L8<TODAY(),"En retard",IF(L8<=TODAY()+'Paramètres'!$B$5,"À échéance","OK"))))) | T8: Refus fictif enregistré.
A9: SP-008 | B9: Prospect fictif 08 | C9: Secteur fictif 08 | D9: Essentielle | E9: En nature | F9: Abandonné | G9: Direction de la communication | H9: Équipe logistique | I9: 46261 | J9: 46271 | K9: Clore le suivi | L9: 46310 | M9: 4000 | N9: 0 | O9: 0 | P9: =IF(A9="","",IFERROR(VLOOKUP(F9,'Paramètres'!$D$3:$E$10,2,FALSE),0)) | Q9: =IF(A9="","",IFERROR(M9*P9,0)) | R9: =IF(OR(A9="",L9=""),"",L9-TODAY()) | S9: =IF(A9="","",IF(OR(F9="Signé",F9="Refusé",F9="Abandonné"),"",IF(L9="","À planifier",IF(L9<TODAY(),"En retard",IF(L9<=TODAY()+'Paramètres'!$B$5,"À échéance","OK"))))) | T9: Piste fictive abandonnée.
A10: SP-009 | B10: Prospect fictif 09 | C10: Secteur fictif 09 | D10: Rayonnement | E10: Mixte | F10: Contacté | G10: Direction des partenariats | H10: Équipe communication | I10: 46262 | J10: 46272 | K10: Proposer un rendez-vous de cadrage | L10: 46315 | M10: 9000 | N10: 0 | O10: 0 | P10: =IF(A10="","",IFERROR(VLOOKUP(F10,'Paramètres'!$D$3:$E$10,2,FALSE),0)) | Q10: =IF(A10="","",IFERROR(M10*P10,0)) | R10: =IF(OR(A10="",L10=""),"",L10-TODAY()) | S10: =IF(A10="","",IF(OR(F10="Signé",F10="Refusé",F10="Abandonné"),"",IF(L10="","À planifier",IF(L10<TODAY(),"En retard",IF(L10<=TODAY()+'Paramètres'!$B$5,"À échéance","OK"))))) | T10: Relance fictive à préparer.
A11: SP-010 | B11: Prospect fictif 10 | C11: Secteur fictif 10 | D11: Signature | E11: Financier | F11: Proposition envoyée | G11: Direction générale | H11: Pôle partenariats | I11: 46263 | J11: 46273 | K11: Répondre aux questions sur l’offre | L11: 46325 | M11: 18000 | N11: 0 | O11: 0 | P11: =IF(A11="","",IFERROR(VLOOKUP(F11,'Paramètres'!$D$3:$E$10,2,FALSE),0)) | Q11: =IF(A11="","",IFERROR(M11*P11,0)) | R11: =IF(OR(A11="",L11=""),"",L11-TODAY()) | S11: =IF(A11="","",IF(OR(F11="Signé",F11="Refusé",F11="Abandonné"),"",IF(L11="","À planifier",IF(L11<TODAY(),"En retard",IF(L11<=TODAY()+'Paramètres'!$B$5,"À échéance","OK"))))) | T11: Négociation fictive en cours.
P12: =IF(A12="","",IFERROR(VLOOKUP(F12,'Paramètres'!$D$3:$E$10,2,FALSE),0)) | Q12: =IF(A12="","",IFERROR(M12*P12,0)) | R12: =IF(OR(A12="",L12=""),"",L12-TODAY()) | S12: =IF(A12="","",IF(OR(F12="Signé",F12="Refusé",F12="Abandonné"),"",IF(L12="","À planifier",IF(L12<TODAY(),"En retard",IF(L12<=TODAY()+'Paramètres'!$B$5,"À échéance","OK")))))
P13: =IF(A13="","",IFERROR(VLOOKUP(F13,'Paramètres'!$D$3:$E$10,2,FALSE),0)) | Q13: =IF(A13="","",IFERROR(M13*P13,0)) | R13: =IF(OR(A13="",L13=""),"",L13-TODAY()) | S13: =IF(A13="","",IF(OR(F13="Signé",F13="Refusé",F13="Abandonné"),"",IF(L13="","À planifier",IF(L13<TODAY(),"En retard",IF(L13<=TODAY()+'Paramètres'!$B$5,"À échéance","OK")))))
P14: =IF(A14="","",IFERROR(VLOOKUP(F14,'Paramètres'!$D$3:$E$10,2,FALSE),0)) | Q14: =IF(A14="","",IFERROR(M14*P14,0)) | R14: =IF(OR(A14="",L14=""),"",L14-TODAY()) | S14: =IF(A14="","",IF(OR(F14="Signé",F14="Refusé",F14="Abandonné"),"",IF(L14="","À planifier",IF(L14<TODAY(),"En retard",IF(L14<=TODAY()+'Paramètres'!$B$5,"À échéance","OK")))))
P15: =IF(A15="","",IFERROR(VLOOKUP(F15,'Paramètres'!$D$3:$E$10,2,FALSE),0)) | Q15: =IF(A15="","",IFERROR(M15*P15,0)) | R15: =IF(OR(A15="",L15=""),"",L15-TODAY()) | S15: =IF(A15="","",IF(OR(F15="Signé",F15="Refusé",F15="Abandonné"),"",IF(L15="","À planifier",IF(L15<TODAY(),"En retard",IF(L15<=TODAY()+'Paramètres'!$B$5,"À échéance","OK")))))
P16: =IF(A16="","",IFERROR(VLOOKUP(F16,'Paramètres'!$D$3:$E$10,2,FALSE),0)) | Q16: =IF(A16="","",IFERROR(M16*P16,0)) | R16: =IF(OR(A16="",L16=""),"",L16-TODAY()) | S16: =IF(A16="","",IF(OR(F16="Signé",F16="Refusé",F16="Abandonné"),"",IF(L16="","À planifier",IF(L16<TODAY(),"En retard",IF(L16<=TODAY()+'Paramètres'!$B$5,"À échéance","OK")))))
P17: =IF(A17="","",IFERROR(VLOOKUP(F17,'Paramètres'!$D$3:$E$10,2,FALSE),0)) | Q17: =IF(A17="","",IFERROR(M17*P17,0)) | R17: =IF(OR(A17="",L17=""),"",L17-TODAY()) | S17: =IF(A17="","",IF(OR(F17="Signé",F17="Refusé",F17="Abandonné"),"",IF(L17="","À planifier",IF(L17<TODAY(),"En retard",IF(L17<=TODAY()+'Paramètres'!$B$5,"À échéance","OK")))))
P18: =IF(A18="","",IFERROR(VLOOKUP(F18,'Paramètres'!$D$3:$E$10,2,FALSE),0)) | Q18: =IF(A18="","",IFERROR(M18*P18,0)) | R18: =IF(OR(A18="",L18=""),"",L18-TODAY()) | S18: =IF(A18="","",IF(OR(F18="Signé",F18="Refusé",F18="Abandonné"),"",IF(L18="","À planifier",IF(L18<TODAY(),"En retard",IF(L18<=TODAY()+'Paramètres'!$B$5,"À échéance","OK")))))
P19: =IF(A19="","",IFERROR(VLOOKUP(F19,'Paramètres'!$D$3:$E$10,2,FALSE),0)) | Q19: =IF(A19="","",IFERROR(M19*P19,0)) | R19: =IF(OR(A19="",L19=""),"",L19-TODAY()) | S19: =IF(A19="","",IF(OR(F19="Signé",F19="Refusé",F19="Abandonné"),"",IF(L19="","À planifier",IF(L19<TODAY(),"En retard",IF(L19<=TODAY()+'Paramètres'!$B$5,"À échéance","OK")))))
P20: =IF(A20="","",IFERROR(VLOOKUP(F20,'Paramètres'!$D$3:$E$10,2,FALSE),0)) | Q20: =IF(A20="","",IFERROR(M20*P20,0)) | R20: =IF(OR(A20="",L20=""),"",L20-TODAY()) | S20: =IF(A20="","",IF(OR(F20="Signé",F20="Refusé",F20="Abandonné"),"",IF(L20="","À planifier",IF(L20<TODAY(),"En retard",IF(L20<=TODAY()+'Paramètres'!$B$5,"À échéance","OK")))))
P21: =IF(A21="","",IFERROR(VLOOKUP(F21,'Paramètres'!$D$3:$E$10,2,FALSE),0)) | Q21: =IF(A21="","",IFERROR(M21*P21,0)) | R21: =IF(OR(A21="",L21=""),"",L21-TODAY()) | S21: =IF(A21="","",IF(OR(F21="Signé",F21="Refusé",F21="Abandonné"),"",IF(L21="","À planifier",IF(L21<TODAY(),"En retard",IF(L21<=TODAY()+'Paramètres'!$B$5,"À échéance","OK")))))
P22: =IF(A22="","",IFERROR(VLOOKUP(F22,'Paramètres'!$D$3:$E$10,2,FALSE),0)) | Q22: =IF(A22="","",IFERROR(M22*P22,0)) | R22: =IF(OR(A22="",L22=""),"",L22-TODAY()) | S22: =IF(A22="","",IF(OR(F22="Signé",F22="Refusé",F22="Abandonné"),"",IF(L22="","À planifier",IF(L22<TODAY(),"En retard",IF(L22<=TODAY()+'Paramètres'!$B$5,"À échéance","OK")))))
P23: =IF(A23="","",IFERROR(VLOOKUP(F23,'Paramètres'!$D$3:$E$10,2,FALSE),0)) | Q23: =IF(A23="","",IFERROR(M23*P23,0)) | R23: =IF(OR(A23="",L23=""),"",L23-TODAY()) | S23: =IF(A23="","",IF(OR(F23="Signé",F23="Refusé",F23="Abandonné"),"",IF(L23="","À planifier",IF(L23<TODAY(),"En retard",IF(L23<=TODAY()+'Paramètres'!$B$5,"À échéance","OK")))))
... P111: =IF(A111="","",IFERROR(VLOOKUP(F111,'Paramètres'!$D$3:$E$10,2,FALSE),0)) | Q111: =IF(A111="","",IFERROR(M111*P111,0)) | R111: =IF(OR(A111="",L111=""),"",L111-TODAY()) | S111: =IF(A111="","",IF(OR(F111="Signé",F111="Refusé",F111="Abandonné"),"",IF(L111="","À planifier",IF(L111<TODAY(),"En retard",IF(L111<=TODAY()+'Paramètres'!$B$5,"À échéance","OK")))))

Sheet Contreparties
A1: ID contrepartie | B1: ID sponsor | C1: Catégorie | D1: Description | E1: Responsable interne | F1: Échéance | G1: Statut | H1: Date de réalisation | I1: Référence interne | J1: Alerte
A2: CP-001 | B2: SP-001 | C2: Visibilité | D2: Préparer une mention visuelle fictive sur un support interne. | E2: Équipe communication | F2: 46277 | G2: En cours | I2: REF-FICT-001 | J2: =IF(A2="","",IF(B2="","Sponsor manquant",IF(COUNTIF('Suivi sponsors'!$A$2:$A$111,B2)=0,"ID sponsor inconnu",IF(G2="Réalisée","",IF(F2="","À planifier",IF(F2<TODAY(),"En retard",IF(F2<=TODAY()+'Paramètres'!$B$5,"À échéance","OK")))))))
A3: CP-002 | B3: SP-002 | C3: Contenus | D3: Recueillir les éléments fictifs destinés au programme. | E3: Équipe programme | F3: 46283 | G3: À lancer | I3: REF-FICT-002 | J3: =IF(A3="","",IF(B3="","Sponsor manquant",IF(COUNTIF('Suivi sponsors'!$A$2:$A$111,B3)=0,"ID sponsor inconnu",IF(G3="Réalisée","",IF(F3="","À planifier",IF(F3<TODAY(),"En retard",IF(F3<=TODAY()+'Paramètres'!$B$5,"À échéance","OK")))))))
A4: CP-003 | B4: SP-003 | C4: Intervention | D4: Cadrer une intervention professionnelle entièrement fictive. | E4: Équipe programme | F4: 46290 | G4: En cours | I4: REF-FICT-003 | J4: =IF(A4="","",IF(B4="","Sponsor manquant",IF(COUNTIF('Suivi sponsors'!$A$2:$A$111,B4)=0,"ID sponsor inconnu",IF(G4="Réalisée","",IF(F4="","À planifier",IF(F4<TODAY(),"En retard",IF(F4<=TODAY()+'Paramètres'!$B$5,"À échéance","OK")))))))
A5: CP-004 | B5: SP-004 | C5: Accueil | D5: Prévoir un accueil partenaire fictif le jour de l’événement. | E5: Équipe logistique | F5: 46297 | G5: À lancer | I5: REF-FICT-004 | J5: =IF(A5="","",IF(B5="","Sponsor manquant",IF(COUNTIF('Suivi sponsors'!$A$2:$A$111,B5)=0,"ID sponsor inconnu",IF(G5="Réalisée","",IF(F5="","À planifier",IF(F5<TODAY(),"En retard",IF(F5<=TODAY()+'Paramètres'!$B$5,"À échéance","OK")))))))
A6: CP-005 | B6: SP-005 | C6: Hospitalité | D6: Définir un espace d’hospitalité fictif. | E6: Équipe logistique | F6: 46305 | G6: Bloquée | I6: REF-FICT-005 | J6: =IF(A6="","",IF(B6="","Sponsor manquant",IF(COUNTIF('Suivi sponsors'!$A$2:$A$111,B6)=0,"ID sponsor inconnu",IF(G6="Réalisée","",IF(F6="","À planifier",IF(F6<TODAY(),"En retard",IF(F6<=TODAY()+'Paramètres'!$B$5,"À échéance","OK")))))))
A7: CP-006 | B7: SP-006 | C7: Visibilité | D7: Valider un visuel fictif pour le support de présentation. | E7: Équipe communication | F7: 46266 | G7: Réalisée | H7: 46265 | I7: REF-FICT-006 | J7: =IF(A7="","",IF(B7="","Sponsor manquant",IF(COUNTIF('Suivi sponsors'!$A$2:$A$111,B7)=0,"ID sponsor inconnu",IF(G7="Réalisée","",IF(F7="","À planifier",IF(F7<TODAY(),"En retard",IF(F7<=TODAY()+'Paramètres'!$B$5,"À échéance","OK")))))))
A8: CP-007 | B8: SP-006 | C8: Contenus | D8: Transmettre un descriptif fictif au pôle programme. | E8: Pôle partenariats | F8: 46269 | G8: Réalisée | H8: 46268 | I8: REF-FICT-007 | J8: =IF(A8="","",IF(B8="","Sponsor manquant",IF(COUNTIF('Suivi sponsors'!$A$2:$A$111,B8)=0,"ID sponsor inconnu",IF(G8="Réalisée","",IF(F8="","À planifier",IF(F8<TODAY(),"En retard",IF(F8<=TODAY()+'Paramètres'!$B$5,"À échéance","OK")))))))
A9: CP-008 | B9: SP-009 | C9: Accueil | D9: Préparer un parcours d’accueil fictif. | E9: Équipe logistique | F9: 46315 | G9: À lancer | I9: REF-FICT-008 | J9: =IF(A9="","",IF(B9="","Sponsor manquant",IF(COUNTIF('Suivi sponsors'!$A$2:$A$111,B9)=0,"ID sponsor inconnu",IF(G9="Réalisée","",IF(F9="","À planifier",IF(F9<TODAY(),"En retard",IF(F9<=TODAY()+'Paramètres'!$B$5,"À échéance","OK")))))))
A10: CP-009 | B10: SP-010 | C10: Intervention | D10: Confirmer le format d’une prise de parole fictive. | E10: Équipe programme | F10: 46325 | G10: En cours | I10: REF-FICT-009 | J10: =IF(A10="","",IF(B10="","Sponsor manquant",IF(COUNTIF('Suivi sponsors'!$A$2:$A$111,B10)=0,"ID sponsor inconnu",IF(G10="Réalisée","",IF(F10="","À planifier",IF(F10<TODAY(),"En retard",IF(F10<=TODAY()+'Paramètres'!$B$5,"À échéance","OK")))))))
A11: CP-010 | B11: SP-999 | C11: Visibilité | D11: Exemple de contrôle avec une référence sponsor volontairement inconnue. | E11: Équipe communication | F11: 46325 | G11: À lancer | I11: REF-FICT-010 | J11: =IF(A11="","",IF(B11="","Sponsor manquant",IF(COUNTIF('Suivi sponsors'!$A$2:$A$111,B11)=0,"ID sponsor inconnu",IF(G11="Réalisée","",IF(F11="","À planifier",IF(F11<TODAY(),"En retard",IF(F11<=TODAY()+'Paramètres'!$B$5,"À échéance","OK")))))))
J12: =IF(A12="","",IF(B12="","Sponsor manquant",IF(COUNTIF('Suivi sponsors'!$A$2:$A$111,B12)=0,"ID sponsor inconnu",IF(G12="Réalisée","",IF(F12="","À planifier",IF(F12<TODAY(),"En retard",IF(F12<=TODAY()+'Paramètres'!$B$5,"À échéance","OK")))))))
J13: =IF(A13="","",IF(B13="","Sponsor manquant",IF(COUNTIF('Suivi sponsors'!$A$2:$A$111,B13)=0,"ID sponsor inconnu",IF(G13="Réalisée","",IF(F13="","À planifier",IF(F13<TODAY(),"En retard",IF(F13<=TODAY()+'Paramètres'!$B$5,"À échéance","OK")))))))
J14: =IF(A14="","",IF(B14="","Sponsor manquant",IF(COUNTIF('Suivi sponsors'!$A$2:$A$111,B14)=0,"ID sponsor inconnu",IF(G14="Réalisée","",IF(F14="","À planifier",IF(F14<TODAY(),"En retard",IF(F14<=TODAY()+'Paramètres'!$B$5,"À échéance","OK")))))))
J15: =IF(A15="","",IF(B15="","Sponsor manquant",IF(COUNTIF('Suivi sponsors'!$A$2:$A$111,B15)=0,"ID sponsor inconnu",IF(G15="Réalisée","",IF(F15="","À planifier",IF(F15<TODAY(),"En retard",IF(F15<=TODAY()+'Paramètres'!$B$5,"À échéance","OK")))))))
J16: =IF(A16="","",IF(B16="","Sponsor manquant",IF(COUNTIF('Suivi sponsors'!$A$2:$A$111,B16)=0,"ID sponsor inconnu",IF(G16="Réalisée","",IF(F16="","À planifier",IF(F16<TODAY(),"En retard",IF(F16<=TODAY()+'Paramètres'!$B$5,"À échéance","OK")))))))
J17: =IF(A17="","",IF(B17="","Sponsor manquant",IF(COUNTIF('Suivi sponsors'!$A$2:$A$111,B17)=0,"ID sponsor inconnu",IF(G17="Réalisée","",IF(F17="","À planifier",IF(F17<TODAY(),"En retard",IF(F17<=TODAY()+'Paramètres'!$B$5,"À échéance","OK")))))))
J18: =IF(A18="","",IF(B18="","Sponsor manquant",IF(COUNTIF('Suivi sponsors'!$A$2:$A$111,B18)=0,"ID sponsor inconnu",IF(G18="Réalisée","",IF(F18="","À planifier",IF(F18<TODAY(),"En retard",IF(F18<=TODAY()+'Paramètres'!$B$5,"À échéance","OK")))))))
J19: =IF(A19="","",IF(B19="","Sponsor manquant",IF(COUNTIF('Suivi sponsors'!$A$2:$A$111,B19)=0,"ID sponsor inconnu",IF(G19="Réalisée","",IF(F19="","À planifier",IF(F19<TODAY(),"En retard",IF(F19<=TODAY()+'Paramètres'!$B$5,"À échéance","OK")))))))
J20: =IF(A20="","",IF(B20="","Sponsor manquant",IF(COUNTIF('Suivi sponsors'!$A$2:$A$111,B20)=0,"ID sponsor inconnu",IF(G20="Réalisée","",IF(F20="","À planifier",IF(F20<TODAY(),"En retard",IF(F20<=TODAY()+'Paramètres'!$B$5,"À échéance","OK")))))))
J21: =IF(A21="","",IF(B21="","Sponsor manquant",IF(COUNTIF('Suivi sponsors'!$A$2:$A$111,B21)=0,"ID sponsor inconnu",IF(G21="Réalisée","",IF(F21="","À planifier",IF(F21<TODAY(),"En retard",IF(F21<=TODAY()+'Paramètres'!$B$5,"À échéance","OK")))))))
J22: =IF(A22="","",IF(B22="","Sponsor manquant",IF(COUNTIF('Suivi sponsors'!$A$2:$A$111,B22)=0,"ID sponsor inconnu",IF(G22="Réalisée","",IF(F22="","À planifier",IF(F22<TODAY(),"En retard",IF(F22<=TODAY()+'Paramètres'!$B$5,"À échéance","OK")))))))
J23: =IF(A23="","",IF(B23="","Sponsor manquant",IF(COUNTIF('Suivi sponsors'!$A$2:$A$111,B23)=0,"ID sponsor inconnu",IF(G23="Réalisée","",IF(F23="","À planifier",IF(F23<TODAY(),"En retard",IF(F23<=TODAY()+'Paramètres'!$B$5,"À échéance","OK")))))))
... J201: =IF(A201="","",IF(B201="","Sponsor manquant",IF(COUNTIF('Suivi sponsors'!$A$2:$A$111,B201)=0,"ID sponsor inconnu",IF(G201="Réalisée","",IF(F201="","À planifier",IF(F201<TODAY(),"En retard",IF(F201<=TODAY()+'Paramètres'!$B$5,"À échéance","OK")))))))
