Workbook

Sheet Synthèse
A1: Synthèse du suivi des devis
A2: Vue d’aide à la décision calculée à partir des devis et de la date de référence modifiable dans la feuille Paramètres.
A3: Nombre de devis | B3: =COUNTIF('Devis'!$A$4:$A$103,"<>") | C3: Montant TTC retenu | D3: =SUMIFS('Devis'!$L$4:$L$103,'Devis'!$Q$4:$Q$103,"Retenu") | E3: Taux de décision | F3: =IFERROR(COUNTIFS('Devis'!$Q$4:$Q$103,"<>À décider",'Devis'!$Q$4:$Q$103,"<>")/COUNTIF('Devis'!$A$4:$A$103,"<>"),"")
A5: Devis expirés | B5: =COUNTIF('Devis'!$U$4:$U$103,"Expiré") | C5: À traiter | D5: =COUNTIF('Devis'!$U$4:$U$103,"À traiter") | E5: Références inconnues | F5: =COUNTIF('Devis'!$C$4:$C$103,"Référence inconnue")
A7: Réf. événement | B7: Intitulé | C7: Budget indicatif HT | D7: Nb devis | E7: TTC retenu | F7: Alertes | G7: Situation
A8: =IF('Événements'!A4="","",'Événements'!A4) | B8: =IF($A8="","",'Événements'!B4) | C8: =IF($A8="","",'Événements'!E4) | D8: =IF($A8="","",COUNTIFS('Devis'!$B$4:$B$103,$A8,'Devis'!$A$4:$A$103,"<>")) | E8: =IF($A8="","",SUMIFS('Devis'!$L$4:$L$103,'Devis'!$B$4:$B$103,$A8,'Devis'!$Q$4:$Q$103,"Retenu")) | F8: =IF($A8="","",COUNTIFS('Devis'!$B$4:$B$103,$A8,'Devis'!$U$4:$U$103,"Expiré")+COUNTIFS('Devis'!$B$4:$B$103,$A8,'Devis'!$U$4:$U$103,"À traiter")+COUNTIFS('Devis'!$B$4:$B$103,$A8,'Devis'!$U$4:$U$103,"Échéance absente")) | G8: =IF($A8="","",IF($D8=0,"Sans devis",IF($F8>0,"À traiter","Suivi")))
A9: =IF('Événements'!A5="","",'Événements'!A5) | B9: =IF($A9="","",'Événements'!B5) | C9: =IF($A9="","",'Événements'!E5) | D9: =IF($A9="","",COUNTIFS('Devis'!$B$4:$B$103,$A9,'Devis'!$A$4:$A$103,"<>")) | E9: =IF($A9="","",SUMIFS('Devis'!$L$4:$L$103,'Devis'!$B$4:$B$103,$A9,'Devis'!$Q$4:$Q$103,"Retenu")) | F9: =IF($A9="","",COUNTIFS('Devis'!$B$4:$B$103,$A9,'Devis'!$U$4:$U$103,"Expiré")+COUNTIFS('Devis'!$B$4:$B$103,$A9,'Devis'!$U$4:$U$103,"À traiter")+COUNTIFS('Devis'!$B$4:$B$103,$A9,'Devis'!$U$4:$U$103,"Échéance absente")) | G9: =IF($A9="","",IF($D9=0,"Sans devis",IF($F9>0,"À traiter","Suivi")))
A10: =IF('Événements'!A6="","",'Événements'!A6) | B10: =IF($A10="","",'Événements'!B6) | C10: =IF($A10="","",'Événements'!E6) | D10: =IF($A10="","",COUNTIFS('Devis'!$B$4:$B$103,$A10,'Devis'!$A$4:$A$103,"<>")) | E10: =IF($A10="","",SUMIFS('Devis'!$L$4:$L$103,'Devis'!$B$4:$B$103,$A10,'Devis'!$Q$4:$Q$103,"Retenu")) | F10: =IF($A10="","",COUNTIFS('Devis'!$B$4:$B$103,$A10,'Devis'!$U$4:$U$103,"Expiré")+COUNTIFS('Devis'!$B$4:$B$103,$A10,'Devis'!$U$4:$U$103,"À traiter")+COUNTIFS('Devis'!$B$4:$B$103,$A10,'Devis'!$U$4:$U$103,"Échéance absente")) | G10: =IF($A10="","",IF($D10=0,"Sans devis",IF($F10>0,"À traiter","Suivi")))
A11: =IF('Événements'!A7="","",'Événements'!A7) | B11: =IF($A11="","",'Événements'!B7) | C11: =IF($A11="","",'Événements'!E7) | D11: =IF($A11="","",COUNTIFS('Devis'!$B$4:$B$103,$A11,'Devis'!$A$4:$A$103,"<>")) | E11: =IF($A11="","",SUMIFS('Devis'!$L$4:$L$103,'Devis'!$B$4:$B$103,$A11,'Devis'!$Q$4:$Q$103,"Retenu")) | F11: =IF($A11="","",COUNTIFS('Devis'!$B$4:$B$103,$A11,'Devis'!$U$4:$U$103,"Expiré")+COUNTIFS('Devis'!$B$4:$B$103,$A11,'Devis'!$U$4:$U$103,"À traiter")+COUNTIFS('Devis'!$B$4:$B$103,$A11,'Devis'!$U$4:$U$103,"Échéance absente")) | G11: =IF($A11="","",IF($D11=0,"Sans devis",IF($F11>0,"À traiter","Suivi")))
A12: =IF('Événements'!A8="","",'Événements'!A8) | B12: =IF($A12="","",'Événements'!B8) | C12: =IF($A12="","",'Événements'!E8) | D12: =IF($A12="","",COUNTIFS('Devis'!$B$4:$B$103,$A12,'Devis'!$A$4:$A$103,"<>")) | E12: =IF($A12="","",SUMIFS('Devis'!$L$4:$L$103,'Devis'!$B$4:$B$103,$A12,'Devis'!$Q$4:$Q$103,"Retenu")) | F12: =IF($A12="","",COUNTIFS('Devis'!$B$4:$B$103,$A12,'Devis'!$U$4:$U$103,"Expiré")+COUNTIFS('Devis'!$B$4:$B$103,$A12,'Devis'!$U$4:$U$103,"À traiter")+COUNTIFS('Devis'!$B$4:$B$103,$A12,'Devis'!$U$4:$U$103,"Échéance absente")) | G12: =IF($A12="","",IF($D12=0,"Sans devis",IF($F12>0,"À traiter","Suivi")))
A13: =IF('Événements'!A9="","",'Événements'!A9) | B13: =IF($A13="","",'Événements'!B9) | C13: =IF($A13="","",'Événements'!E9) | D13: =IF($A13="","",COUNTIFS('Devis'!$B$4:$B$103,$A13,'Devis'!$A$4:$A$103,"<>")) | E13: =IF($A13="","",SUMIFS('Devis'!$L$4:$L$103,'Devis'!$B$4:$B$103,$A13,'Devis'!$Q$4:$Q$103,"Retenu")) | F13: =IF($A13="","",COUNTIFS('Devis'!$B$4:$B$103,$A13,'Devis'!$U$4:$U$103,"Expiré")+COUNTIFS('Devis'!$B$4:$B$103,$A13,'Devis'!$U$4:$U$103,"À traiter")+COUNTIFS('Devis'!$B$4:$B$103,$A13,'Devis'!$U$4:$U$103,"Échéance absente")) | G13: =IF($A13="","",IF($D13=0,"Sans devis",IF($F13>0,"À traiter","Suivi")))
A14: =IF('Événements'!A10="","",'Événements'!A10) | B14: =IF($A14="","",'Événements'!B10) | C14: =IF($A14="","",'Événements'!E10) | D14: =IF($A14="","",COUNTIFS('Devis'!$B$4:$B$103,$A14,'Devis'!$A$4:$A$103,"<>")) | E14: =IF($A14="","",SUMIFS('Devis'!$L$4:$L$103,'Devis'!$B$4:$B$103,$A14,'Devis'!$Q$4:$Q$103,"Retenu")) | F14: =IF($A14="","",COUNTIFS('Devis'!$B$4:$B$103,$A14,'Devis'!$U$4:$U$103,"Expiré")+COUNTIFS('Devis'!$B$4:$B$103,$A14,'Devis'!$U$4:$U$103,"À traiter")+COUNTIFS('Devis'!$B$4:$B$103,$A14,'Devis'!$U$4:$U$103,"Échéance absente")) | G14: =IF($A14="","",IF($D14=0,"Sans devis",IF($F14>0,"À traiter","Suivi")))
A15: =IF('Événements'!A11="","",'Événements'!A11) | B15: =IF($A15="","",'Événements'!B11) | C15: =IF($A15="","",'Événements'!E11) | D15: =IF($A15="","",COUNTIFS('Devis'!$B$4:$B$103,$A15,'Devis'!$A$4:$A$103,"<>")) | E15: =IF($A15="","",SUMIFS('Devis'!$L$4:$L$103,'Devis'!$B$4:$B$103,$A15,'Devis'!$Q$4:$Q$103,"Retenu")) | F15: =IF($A15="","",COUNTIFS('Devis'!$B$4:$B$103,$A15,'Devis'!$U$4:$U$103,"Expiré")+COUNTIFS('Devis'!$B$4:$B$103,$A15,'Devis'!$U$4:$U$103,"À traiter")+COUNTIFS('Devis'!$B$4:$B$103,$A15,'Devis'!$U$4:$U$103,"Échéance absente")) | G15: =IF($A15="","",IF($D15=0,"Sans devis",IF($F15>0,"À traiter","Suivi")))
A16: =IF('Événements'!A12="","",'Événements'!A12) | B16: =IF($A16="","",'Événements'!B12) | C16: =IF($A16="","",'Événements'!E12) | D16: =IF($A16="","",COUNTIFS('Devis'!$B$4:$B$103,$A16,'Devis'!$A$4:$A$103,"<>")) | E16: =IF($A16="","",SUMIFS('Devis'!$L$4:$L$103,'Devis'!$B$4:$B$103,$A16,'Devis'!$Q$4:$Q$103,"Retenu")) | F16: =IF($A16="","",COUNTIFS('Devis'!$B$4:$B$103,$A16,'Devis'!$U$4:$U$103,"Expiré")+COUNTIFS('Devis'!$B$4:$B$103,$A16,'Devis'!$U$4:$U$103,"À traiter")+COUNTIFS('Devis'!$B$4:$B$103,$A16,'Devis'!$U$4:$U$103,"Échéance absente")) | G16: =IF($A16="","",IF($D16=0,"Sans devis",IF($F16>0,"À traiter","Suivi")))
A17: =IF('Événements'!A13="","",'Événements'!A13) | B17: =IF($A17="","",'Événements'!B13) | C17: =IF($A17="","",'Événements'!E13) | D17: =IF($A17="","",COUNTIFS('Devis'!$B$4:$B$103,$A17,'Devis'!$A$4:$A$103,"<>")) | E17: =IF($A17="","",SUMIFS('Devis'!$L$4:$L$103,'Devis'!$B$4:$B$103,$A17,'Devis'!$Q$4:$Q$103,"Retenu")) | F17: =IF($A17="","",COUNTIFS('Devis'!$B$4:$B$103,$A17,'Devis'!$U$4:$U$103,"Expiré")+COUNTIFS('Devis'!$B$4:$B$103,$A17,'Devis'!$U$4:$U$103,"À traiter")+COUNTIFS('Devis'!$B$4:$B$103,$A17,'Devis'!$U$4:$U$103,"Échéance absente")) | G17: =IF($A17="","",IF($D17=0,"Sans devis",IF($F17>0,"À traiter","Suivi")))
A18: =IF('Événements'!A14="","",'Événements'!A14) | B18: =IF($A18="","",'Événements'!B14) | C18: =IF($A18="","",'Événements'!E14) | D18: =IF($A18="","",COUNTIFS('Devis'!$B$4:$B$103,$A18,'Devis'!$A$4:$A$103,"<>")) | E18: =IF($A18="","",SUMIFS('Devis'!$L$4:$L$103,'Devis'!$B$4:$B$103,$A18,'Devis'!$Q$4:$Q$103,"Retenu")) | F18: =IF($A18="","",COUNTIFS('Devis'!$B$4:$B$103,$A18,'Devis'!$U$4:$U$103,"Expiré")+COUNTIFS('Devis'!$B$4:$B$103,$A18,'Devis'!$U$4:$U$103,"À traiter")+COUNTIFS('Devis'!$B$4:$B$103,$A18,'Devis'!$U$4:$U$103,"Échéance absente")) | G18: =IF($A18="","",IF($D18=0,"Sans devis",IF($F18>0,"À traiter","Suivi")))
A19: =IF('Événements'!A15="","",'Événements'!A15) | B19: =IF($A19="","",'Événements'!B15) | C19: =IF($A19="","",'Événements'!E15) | D19: =IF($A19="","",COUNTIFS('Devis'!$B$4:$B$103,$A19,'Devis'!$A$4:$A$103,"<>")) | E19: =IF($A19="","",SUMIFS('Devis'!$L$4:$L$103,'Devis'!$B$4:$B$103,$A19,'Devis'!$Q$4:$Q$103,"Retenu")) | F19: =IF($A19="","",COUNTIFS('Devis'!$B$4:$B$103,$A19,'Devis'!$U$4:$U$103,"Expiré")+COUNTIFS('Devis'!$B$4:$B$103,$A19,'Devis'!$U$4:$U$103,"À traiter")+COUNTIFS('Devis'!$B$4:$B$103,$A19,'Devis'!$U$4:$U$103,"Échéance absente")) | G19: =IF($A19="","",IF($D19=0,"Sans devis",IF($F19>0,"À traiter","Suivi")))
... A107: =IF('Événements'!A103="","",'Événements'!A103) | B107: =IF($A107="","",'Événements'!B103) | C107: =IF($A107="","",'Événements'!E103) | D107: =IF($A107="","",COUNTIFS('Devis'!$B$4:$B$103,$A107,'Devis'!$A$4:$A$103,"<>")) | E107: =IF($A107="","",SUMIFS('Devis'!$L$4:$L$103,'Devis'!$B$4:$B$103,$A107,'Devis'!$Q$4:$Q$103,"Retenu")) | F107: =IF($A107="","",COUNTIFS('Devis'!$B$4:$B$103,$A107,'Devis'!$U$4:$U$103,"Expiré")+COUNTIFS('Devis'!$B$4:$B$103,$A107,'Devis'!$U$4:$U$103,"À traiter")+COUNTIFS('Devis'!$B$4:$B$103,$A107,'Devis'!$U$4:$U$103,"Échéance absente")) | G107: =IF($A107="","",IF($D107=0,"Sans devis",IF($F107>0,"À traiter","Suivi")))

Sheet Devis
A1: Suivi des devis événementiels
A2: Cellules jaunes : saisie modifiable. Les prestataires des exemples restent volontairement vides. Les calculs sont automatiques et les taux sont des hypothèses à confirmer.
A3: ID devis | B3: Réf. événement | C3: Intitulé événement | D3: Catégorie | E3: Code offre | F3: Prestataire | G3: Date de demande | H3: Date de réception | I3: Date de validité | J3: Montant HT | K3: Taux de taxe | L3: Montant TTC | M3: Budget cible HT | N3: Écart HT | O3: Écart % | P3: Statut | Q3: Décision | R3: Prochaine action | S3: Date de relance | T3: Jours avant échéance | U3: Alerte | V3: Commentaire
A4: DEV-DEMO-001 | B4: EVT-DEMO-01 | C4: =IF($B4="","",IFERROR(_xlfn.XLOOKUP($B4,'Événements'!$A$4:$A$103,'Événements'!$B$4:$B$103),"Référence inconnue")) | D4: Salle | E4: OFF-001 | G4: 46266 | H4: 46267 | I4: 46272 | J4: 12500 | K4: 0.2 | L4: =IF(OR($J4="",$K4=""),"",$J4*(1+$K4)) | M4: 12000 | N4: =IF(OR($J4="",$M4=""),"",$J4-$M4) | O4: =IFERROR($N4/$M4,"") | P4: En analyse | Q4: À décider | R4: Négocier | S4: 46273 | T4: =IF($I4="","",$I4-'Paramètres'!$B$2) | U4: =IF($A4="","",IF($Q4="Retenu","Retenu",IF($I4="","Échéance absente",IF($I4<'Paramètres'!$B$2,"Expiré",IF($I4<='Paramètres'!$B$2+'Paramètres'!$B$3,"À traiter","Actif"))))) | V4: Exemple fictif : offre de salle arrivée à échéance.
A5: DEV-DEMO-002 | B5: EVT-DEMO-01 | C5: =IF($B5="","",IFERROR(_xlfn.XLOOKUP($B5,'Événements'!$A$4:$A$103,'Événements'!$B$4:$B$103),"Référence inconnue")) | D5: Restauration | E5: OFF-002 | G5: 46266 | H5: 46268 | I5: 46277 | J5: 450 | K5: 0.1 | L5: =IF(OR($J5="",$K5=""),"",$J5*(1+$K5)) | M5: 500 | N5: =IF(OR($J5="",$M5=""),"",$J5-$M5) | O5: =IFERROR($N5/$M5,"") | P5: Reçu | Q5: À décider | R5: Analyser | S5: 46274 | T5: =IF($I5="","",$I5-'Paramètres'!$B$2) | U5: =IF($A5="","",IF($Q5="Retenu","Retenu",IF($I5="","Échéance absente",IF($I5<'Paramètres'!$B$2,"Expiré",IF($I5<='Paramètres'!$B$2+'Paramètres'!$B$3,"À traiter","Actif"))))) | V5: Exemple fictif : analyse à réaliser rapidement.
A6: DEV-DEMO-003 | B6: EVT-DEMO-01 | C6: =IF($B6="","",IFERROR(_xlfn.XLOOKUP($B6,'Événements'!$A$4:$A$103,'Événements'!$B$4:$B$103),"Référence inconnue")) | D6: Technique | E6: OFF-003 | G6: 46267 | H6: 46270 | I6: 46295 | J6: 3200 | K6: 0.2 | L6: =IF(OR($J6="",$K6=""),"",$J6*(1+$K6)) | M6: 3500 | N6: =IF(OR($J6="",$M6=""),"",$J6-$M6) | O6: =IFERROR($N6/$M6,"") | P6: Clos | Q6: Retenu | R6: Aucune | T6: =IF($I6="","",$I6-'Paramètres'!$B$2) | U6: =IF($A6="","",IF($Q6="Retenu","Retenu",IF($I6="","Échéance absente",IF($I6<'Paramètres'!$B$2,"Expiré",IF($I6<='Paramètres'!$B$2+'Paramètres'!$B$3,"À traiter","Actif"))))) | V6: Exemple fictif : devis retenu pour la démonstration.
A7: DEV-DEMO-004 | B7: EVT-DEMO-02 | C7: =IF($B7="","",IFERROR(_xlfn.XLOOKUP($B7,'Événements'!$A$4:$A$103,'Événements'!$B$4:$B$103),"Référence inconnue")) | D7: Mobilier | E7: OFF-004 | G7: 46268 | H7: 46271 | J7: 1850 | K7: 0.2 | L7: =IF(OR($J7="",$K7=""),"",$J7*(1+$K7)) | M7: 1800 | N7: =IF(OR($J7="",$M7=""),"",$J7-$M7) | O7: =IFERROR($N7/$M7,"") | P7: Reçu | Q7: À décider | R7: Relancer | S7: 46275 | T7: =IF($I7="","",$I7-'Paramètres'!$B$2) | U7: =IF($A7="","",IF($Q7="Retenu","Retenu",IF($I7="","Échéance absente",IF($I7<'Paramètres'!$B$2,"Expiré",IF($I7<='Paramètres'!$B$2+'Paramètres'!$B$3,"À traiter","Actif"))))) | V7: Exemple fictif : date de validité à demander.
A8: DEV-DEMO-005 | B8: EVT-DEMO-02 | C8: =IF($B8="","",IFERROR(_xlfn.XLOOKUP($B8,'Événements'!$A$4:$A$103,'Événements'!$B$4:$B$103),"Référence inconnue")) | D8: Signalétique | E8: OFF-005 | G8: 46269 | H8: 46272 | I8: 46280 | J8: 7800 | K8: 0.2 | L8: =IF(OR($J8="",$K8=""),"",$J8*(1+$K8)) | M8: 7500 | N8: =IF(OR($J8="",$M8=""),"",$J8-$M8) | O8: =IFERROR($N8/$M8,"") | P8: En analyse | Q8: À décider | R8: Négocier | S8: 46276 | T8: =IF($I8="","",$I8-'Paramètres'!$B$2) | U8: =IF($A8="","",IF($Q8="Retenu","Retenu",IF($I8="","Échéance absente",IF($I8<'Paramètres'!$B$2,"Expiré",IF($I8<='Paramètres'!$B$2+'Paramètres'!$B$3,"À traiter","Actif"))))) | V8: Exemple fictif : montant supérieur au budget cible.
A9: DEV-DEMO-006 | B9: EVT-DEMO-02 | C9: =IF($B9="","",IFERROR(_xlfn.XLOOKUP($B9,'Événements'!$A$4:$A$103,'Événements'!$B$4:$B$103),"Référence inconnue")) | D9: Salle | E9: OFF-006 | G9: 46270 | H9: 46272 | I9: 46285 | J9: 1100 | K9: 0.2 | L9: =IF(OR($J9="",$K9=""),"",$J9*(1+$K9)) | M9: 1200 | N9: =IF(OR($J9="",$M9=""),"",$J9-$M9) | O9: =IFERROR($N9/$M9,"") | P9: Clos | Q9: Non retenu | R9: Aucune | T9: =IF($I9="","",$I9-'Paramètres'!$B$2) | U9: =IF($A9="","",IF($Q9="Retenu","Retenu",IF($I9="","Échéance absente",IF($I9<'Paramètres'!$B$2,"Expiré",IF($I9<='Paramètres'!$B$2+'Paramètres'!$B$3,"À traiter","Actif"))))) | V9: Exemple fictif : offre écartée.
A10: DEV-DEMO-007 | B10: EVT-DEMO-03 | C10: =IF($B10="","",IFERROR(_xlfn.XLOOKUP($B10,'Événements'!$A$4:$A$103,'Événements'!$B$4:$B$103),"Référence inconnue")) | D10: Restauration | E10: OFF-007 | G10: 46271 | H10: 46273 | I10: 46356 | J10: 6500 | K10: 0.1 | L10: =IF(OR($J10="",$K10=""),"",$J10*(1+$K10)) | M10: 7000 | N10: =IF(OR($J10="",$M10=""),"",$J10-$M10) | O10: =IFERROR($N10/$M10,"") | P10: Clos | Q10: Retenu | R10: Valider | T10: =IF($I10="","",$I10-'Paramètres'!$B$2) | U10: =IF($A10="","",IF($Q10="Retenu","Retenu",IF($I10="","Échéance absente",IF($I10<'Paramètres'!$B$2,"Expiré",IF($I10<='Paramètres'!$B$2+'Paramètres'!$B$3,"À traiter","Actif"))))) | V10: Exemple fictif : offre retenue sous le budget cible.
A11: DEV-DEMO-008 | B11: EVT-DEMO-03 | C11: =IF($B11="","",IFERROR(_xlfn.XLOOKUP($B11,'Événements'!$A$4:$A$103,'Événements'!$B$4:$B$103),"Référence inconnue")) | D11: Technique | E11: OFF-008 | G11: 46266 | H11: 46269 | I11: 46271 | J11: 980 | K11: 0.2 | L11: =IF(OR($J11="",$K11=""),"",$J11*(1+$K11)) | M11: 900 | N11: =IF(OR($J11="",$M11=""),"",$J11-$M11) | O11: =IFERROR($N11/$M11,"") | P11: Clos | Q11: Non retenu | R11: Aucune | T11: =IF($I11="","",$I11-'Paramètres'!$B$2) | U11: =IF($A11="","",IF($Q11="Retenu","Retenu",IF($I11="","Échéance absente",IF($I11<'Paramètres'!$B$2,"Expiré",IF($I11<='Paramètres'!$B$2+'Paramètres'!$B$3,"À traiter","Actif"))))) | V11: Exemple fictif : offre expirée et non retenue.
A12: DEV-DEMO-009 | B12: EVT-DEMO-03 | C12: =IF($B12="","",IFERROR(_xlfn.XLOOKUP($B12,'Événements'!$A$4:$A$103,'Événements'!$B$4:$B$103),"Référence inconnue")) | D12: Mobilier | E12: OFF-009 | G12: 46267 | H12: 46270 | I12: 46273 | J12: 2450 | K12: 0.2 | L12: =IF(OR($J12="",$K12=""),"",$J12*(1+$K12)) | M12: 2500 | N12: =IF(OR($J12="",$M12=""),"",$J12-$M12) | O12: =IFERROR($N12/$M12,"") | P12: En analyse | Q12: À décider | R12: Analyser | S12: 46273 | T12: =IF($I12="","",$I12-'Paramètres'!$B$2) | U12: =IF($A12="","",IF($Q12="Retenu","Retenu",IF($I12="","Échéance absente",IF($I12<'Paramètres'!$B$2,"Expiré",IF($I12<='Paramètres'!$B$2+'Paramètres'!$B$3,"À traiter","Actif"))))) | V12: Exemple fictif : échéance à traiter le jour de référence.
A13: DEV-DEMO-010 | B13: EVT-DEMO-02 | C13: =IF($B13="","",IFERROR(_xlfn.XLOOKUP($B13,'Événements'!$A$4:$A$103,'Événements'!$B$4:$B$103),"Référence inconnue")) | D13: Signalétique | E13: OFF-010 | G13: 46272 | H13: 46274 | I13: 46326 | J13: 5250 | K13: 0.2 | L13: =IF(OR($J13="",$K13=""),"",$J13*(1+$K13)) | M13: 5000 | N13: =IF(OR($J13="",$M13=""),"",$J13-$M13) | O13: =IFERROR($N13/$M13,"") | P13: En analyse | Q13: À décider | R13: Négocier | S13: 46279 | T13: =IF($I13="","",$I13-'Paramètres'!$B$2) | U13: =IF($A13="","",IF($Q13="Retenu","Retenu",IF($I13="","Échéance absente",IF($I13<'Paramètres'!$B$2,"Expiré",IF($I13<='Paramètres'!$B$2+'Paramètres'!$B$3,"À traiter","Actif"))))) | V13: Exemple fictif : proposition active à négocier.
C14: =IF($B14="","",IFERROR(_xlfn.XLOOKUP($B14,'Événements'!$A$4:$A$103,'Événements'!$B$4:$B$103),"Référence inconnue")) | L14: =IF(OR($J14="",$K14=""),"",$J14*(1+$K14)) | N14: =IF(OR($J14="",$M14=""),"",$J14-$M14) | O14: =IFERROR($N14/$M14,"") | T14: =IF($I14="","",$I14-'Paramètres'!$B$2) | U14: =IF($A14="","",IF($Q14="Retenu","Retenu",IF($I14="","Échéance absente",IF($I14<'Paramètres'!$B$2,"Expiré",IF($I14<='Paramètres'!$B$2+'Paramètres'!$B$3,"À traiter","Actif")))))
C15: =IF($B15="","",IFERROR(_xlfn.XLOOKUP($B15,'Événements'!$A$4:$A$103,'Événements'!$B$4:$B$103),"Référence inconnue")) | L15: =IF(OR($J15="",$K15=""),"",$J15*(1+$K15)) | N15: =IF(OR($J15="",$M15=""),"",$J15-$M15) | O15: =IFERROR($N15/$M15,"") | T15: =IF($I15="","",$I15-'Paramètres'!$B$2) | U15: =IF($A15="","",IF($Q15="Retenu","Retenu",IF($I15="","Échéance absente",IF($I15<'Paramètres'!$B$2,"Expiré",IF($I15<='Paramètres'!$B$2+'Paramètres'!$B$3,"À traiter","Actif")))))
C16: =IF($B16="","",IFERROR(_xlfn.XLOOKUP($B16,'Événements'!$A$4:$A$103,'Événements'!$B$4:$B$103),"Référence inconnue")) | L16: =IF(OR($J16="",$K16=""),"",$J16*(1+$K16)) | N16: =IF(OR($J16="",$M16=""),"",$J16-$M16) | O16: =IFERROR($N16/$M16,"") | T16: =IF($I16="","",$I16-'Paramètres'!$B$2) | U16: =IF($A16="","",IF($Q16="Retenu","Retenu",IF($I16="","Échéance absente",IF($I16<'Paramètres'!$B$2,"Expiré",IF($I16<='Paramètres'!$B$2+'Paramètres'!$B$3,"À traiter","Actif")))))
C17: =IF($B17="","",IFERROR(_xlfn.XLOOKUP($B17,'Événements'!$A$4:$A$103,'Événements'!$B$4:$B$103),"Référence inconnue")) | L17: =IF(OR($J17="",$K17=""),"",$J17*(1+$K17)) | N17: =IF(OR($J17="",$M17=""),"",$J17-$M17) | O17: =IFERROR($N17/$M17,"") | T17: =IF($I17="","",$I17-'Paramètres'!$B$2) | U17: =IF($A17="","",IF($Q17="Retenu","Retenu",IF($I17="","Échéance absente",IF($I17<'Paramètres'!$B$2,"Expiré",IF($I17<='Paramètres'!$B$2+'Paramètres'!$B$3,"À traiter","Actif")))))
C18: =IF($B18="","",IFERROR(_xlfn.XLOOKUP($B18,'Événements'!$A$4:$A$103,'Événements'!$B$4:$B$103),"Référence inconnue")) | L18: =IF(OR($J18="",$K18=""),"",$J18*(1+$K18)) | N18: =IF(OR($J18="",$M18=""),"",$J18-$M18) | O18: =IFERROR($N18/$M18,"") | T18: =IF($I18="","",$I18-'Paramètres'!$B$2) | U18: =IF($A18="","",IF($Q18="Retenu","Retenu",IF($I18="","Échéance absente",IF($I18<'Paramètres'!$B$2,"Expiré",IF($I18<='Paramètres'!$B$2+'Paramètres'!$B$3,"À traiter","Actif")))))
C19: =IF($B19="","",IFERROR(_xlfn.XLOOKUP($B19,'Événements'!$A$4:$A$103,'Événements'!$B$4:$B$103),"Référence inconnue")) | L19: =IF(OR($J19="",$K19=""),"",$J19*(1+$K19)) | N19: =IF(OR($J19="",$M19=""),"",$J19-$M19) | O19: =IFERROR($N19/$M19,"") | T19: =IF($I19="","",$I19-'Paramètres'!$B$2) | U19: =IF($A19="","",IF($Q19="Retenu","Retenu",IF($I19="","Échéance absente",IF($I19<'Paramètres'!$B$2,"Expiré",IF($I19<='Paramètres'!$B$2+'Paramètres'!$B$3,"À traiter","Actif")))))
C20: =IF($B20="","",IFERROR(_xlfn.XLOOKUP($B20,'Événements'!$A$4:$A$103,'Événements'!$B$4:$B$103),"Référence inconnue")) | L20: =IF(OR($J20="",$K20=""),"",$J20*(1+$K20)) | N20: =IF(OR($J20="",$M20=""),"",$J20-$M20) | O20: =IFERROR($N20/$M20,"") | T20: =IF($I20="","",$I20-'Paramètres'!$B$2) | U20: =IF($A20="","",IF($Q20="Retenu","Retenu",IF($I20="","Échéance absente",IF($I20<'Paramètres'!$B$2,"Expiré",IF($I20<='Paramètres'!$B$2+'Paramètres'!$B$3,"À traiter","Actif")))))
C21: =IF($B21="","",IFERROR(_xlfn.XLOOKUP($B21,'Événements'!$A$4:$A$103,'Événements'!$B$4:$B$103),"Référence inconnue")) | L21: =IF(OR($J21="",$K21=""),"",$J21*(1+$K21)) | N21: =IF(OR($J21="",$M21=""),"",$J21-$M21) | O21: =IFERROR($N21/$M21,"") | T21: =IF($I21="","",$I21-'Paramètres'!$B$2) | U21: =IF($A21="","",IF($Q21="Retenu","Retenu",IF($I21="","Échéance absente",IF($I21<'Paramètres'!$B$2,"Expiré",IF($I21<='Paramètres'!$B$2+'Paramètres'!$B$3,"À traiter","Actif")))))
C22: =IF($B22="","",IFERROR(_xlfn.XLOOKUP($B22,'Événements'!$A$4:$A$103,'Événements'!$B$4:$B$103),"Référence inconnue")) | L22: =IF(OR($J22="",$K22=""),"",$J22*(1+$K22)) | N22: =IF(OR($J22="",$M22=""),"",$J22-$M22) | O22: =IFERROR($N22/$M22,"") | T22: =IF($I22="","",$I22-'Paramètres'!$B$2) | U22: =IF($A22="","",IF($Q22="Retenu","Retenu",IF($I22="","Échéance absente",IF($I22<'Paramètres'!$B$2,"Expiré",IF($I22<='Paramètres'!$B$2+'Paramètres'!$B$3,"À traiter","Actif")))))
C23: =IF($B23="","",IFERROR(_xlfn.XLOOKUP($B23,'Événements'!$A$4:$A$103,'Événements'!$B$4:$B$103),"Référence inconnue")) | L23: =IF(OR($J23="",$K23=""),"",$J23*(1+$K23)) | N23: =IF(OR($J23="",$M23=""),"",$J23-$M23) | O23: =IFERROR($N23/$M23,"") | T23: =IF($I23="","",$I23-'Paramètres'!$B$2) | U23: =IF($A23="","",IF($Q23="Retenu","Retenu",IF($I23="","Échéance absente",IF($I23<'Paramètres'!$B$2,"Expiré",IF($I23<='Paramètres'!$B$2+'Paramètres'!$B$3,"À traiter","Actif")))))
C24: =IF($B24="","",IFERROR(_xlfn.XLOOKUP($B24,'Événements'!$A$4:$A$103,'Événements'!$B$4:$B$103),"Référence inconnue")) | L24: =IF(OR($J24="",$K24=""),"",$J24*(1+$K24)) | N24: =IF(OR($J24="",$M24=""),"",$J24-$M24) | O24: =IFERROR($N24/$M24,"") | T24: =IF($I24="","",$I24-'Paramètres'!$B$2) | U24: =IF($A24="","",IF($Q24="Retenu","Retenu",IF($I24="","Échéance absente",IF($I24<'Paramètres'!$B$2,"Expiré",IF($I24<='Paramètres'!$B$2+'Paramètres'!$B$3,"À traiter","Actif")))))
C25: =IF($B25="","",IFERROR(_xlfn.XLOOKUP($B25,'Événements'!$A$4:$A$103,'Événements'!$B$4:$B$103),"Référence inconnue")) | L25: =IF(OR($J25="",$K25=""),"",$J25*(1+$K25)) | N25: =IF(OR($J25="",$M25=""),"",$J25-$M25) | O25: =IFERROR($N25/$M25,"") | T25: =IF($I25="","",$I25-'Paramètres'!$B$2) | U25: =IF($A25="","",IF($Q25="Retenu","Retenu",IF($I25="","Échéance absente",IF($I25<'Paramètres'!$B$2,"Expiré",IF($I25<='Paramètres'!$B$2+'Paramètres'!$B$3,"À traiter","Actif")))))
... C103: =IF($B103="","",IFERROR(_xlfn.XLOOKUP($B103,'Événements'!$A$4:$A$103,'Événements'!$B$4:$B$103),"Référence inconnue")) | L103: =IF(OR($J103="",$K103=""),"",$J103*(1+$K103)) | N103: =IF(OR($J103="",$M103=""),"",$J103-$M103) | O103: =IFERROR($N103/$M103,"") | T103: =IF($I103="","",$I103-'Paramètres'!$B$2) | U103: =IF($A103="","",IF($Q103="Retenu","Retenu",IF($I103="","Échéance absente",IF($I103<'Paramètres'!$B$2,"Expiré",IF($I103<='Paramètres'!$B$2+'Paramètres'!$B$3,"À traiter","Actif")))))

Sheet Événements
A1: Référentiel des événements
A2: Cellules jaunes : saisie modifiable. Les références sont utilisées dans la table des devis.
A3: Réf. événement | B3: Intitulé | C3: Date de début | D3: Date de fin | E3: Budget indicatif HT | F3: Responsable interne | G3: Commentaire
A4: EVT-DEMO-01 | B4: Séminaire démonstration | C4: 46310 | D4: 46311 | E4: 25000 | G4: Événement entièrement fictif de démonstration.
A5: EVT-DEMO-02 | B5: Forum fictif | C5: 46338 | D5: 46339 | E5: 35000 | G5: Exemple interne sans participant ni organisme réel.
A6: EVT-DEMO-03 | B6: Atelier exemple | C6: 46356 | D6: 46356 | E6: 12000 | G6: Atelier fictif utilisé uniquement pour illustrer le suivi.

Sheet Paramètres
A1: Paramètres du suivi des devis
A2: Date de référence | B2: 46273 | D2: Catégories | E2: Statuts | F2: Décisions | G2: Prochaines actions
A3: Seuil d’alerte en jours | B3: 7 | D3: Salle | E3: À demander | F3: À décider | G3: Aucune
D4: Restauration | E4: Demandé | F4: Retenu | G4: Relancer
D5: Technique | E5: Reçu | F5: Non retenu | G5: Analyser
D6: Mobilier | E6: En analyse | G6: Négocier
D7: Signalétique | E7: Clos | G7: Valider
A9: Portée | B9: Outil interne d’aide à la décision ; il ne constitue ni un document officiel, ni une certification, ni un conseil juridique ou fiscal.
A10: Taux de taxe | B10: Les taux saisis sont des hypothèses modifiables à confirmer selon le contexte ; aucune règle fiscale n’est garantie.
