Workbook

Sheet Synthèse
A1: Synthèse des dépenses événementielles | J1: Liste technique des événements
A2: Événement sélectionné | B2: Séminaire fictif Alpha | J2: =IF('Paramètres'!J3="","",'Paramètres'!J3)
A3: La sélection pilote tous les montants et exclut les dépenses annulées. | J3: =IF('Paramètres'!J4="","",'Paramètres'!J4)
A4: Indicateur | B4: Valeur | D4: Catégorie | E4: Prévu TTC | F4: Constaté TTC | G4: Payé TTC | H4: Reste à payer | J4: =IF('Paramètres'!J5="","",'Paramètres'!J5)
A5: Budget global TTC | B5: =IFERROR(INDEX('Paramètres'!$K$3:$K$102,MATCH(B2,'Paramètres'!$J$3:$J$102,0)),"") | D5: ='Paramètres'!F3 | E5: =IF(OR($B$2="",$D5=""),"",SUMIFS('Dépenses'!$I$4:$I$123,'Dépenses'!$B$4:$B$123,$B$2,'Dépenses'!$E$4:$E$123,$D5,'Dépenses'!$H$4:$H$123,"<>Annulée")) | F5: =IF(OR($B$2="",$D5=""),"",SUMIFS('Dépenses'!$L$4:$L$123,'Dépenses'!$B$4:$B$123,$B$2,'Dépenses'!$E$4:$E$123,$D5,'Dépenses'!$H$4:$H$123,"<>Annulée")) | G5: =IF(OR($B$2="",$D5=""),"",SUMIFS('Dépenses'!$M$4:$M$123,'Dépenses'!$B$4:$B$123,$B$2,'Dépenses'!$E$4:$E$123,$D5,'Dépenses'!$H$4:$H$123,"<>Annulée")) | H5: =IF(OR($B$2="",$D5=""),"",SUMIFS('Dépenses'!$Q$4:$Q$123,'Dépenses'!$B$4:$B$123,$B$2,'Dépenses'!$E$4:$E$123,$D5,'Dépenses'!$H$4:$H$123,"<>Annulée")) | J5: =IF('Paramètres'!J6="","",'Paramètres'!J6)
A6: Dépenses prévues TTC | B6: =IF(B2="","",SUMIFS('Dépenses'!$I$4:$I$123,'Dépenses'!$B$4:$B$123,B2,'Dépenses'!$H$4:$H$123,"<>Annulée")) | D6: ='Paramètres'!F4 | E6: =IF(OR($B$2="",$D6=""),"",SUMIFS('Dépenses'!$I$4:$I$123,'Dépenses'!$B$4:$B$123,$B$2,'Dépenses'!$E$4:$E$123,$D6,'Dépenses'!$H$4:$H$123,"<>Annulée")) | F6: =IF(OR($B$2="",$D6=""),"",SUMIFS('Dépenses'!$L$4:$L$123,'Dépenses'!$B$4:$B$123,$B$2,'Dépenses'!$E$4:$E$123,$D6,'Dépenses'!$H$4:$H$123,"<>Annulée")) | G6: =IF(OR($B$2="",$D6=""),"",SUMIFS('Dépenses'!$M$4:$M$123,'Dépenses'!$B$4:$B$123,$B$2,'Dépenses'!$E$4:$E$123,$D6,'Dépenses'!$H$4:$H$123,"<>Annulée")) | H6: =IF(OR($B$2="",$D6=""),"",SUMIFS('Dépenses'!$Q$4:$Q$123,'Dépenses'!$B$4:$B$123,$B$2,'Dépenses'!$E$4:$E$123,$D6,'Dépenses'!$H$4:$H$123,"<>Annulée")) | J6: =IF('Paramètres'!J7="","",'Paramètres'!J7)
A7: Dépenses constatées TTC | B7: =IF(B2="","",SUMIFS('Dépenses'!$L$4:$L$123,'Dépenses'!$B$4:$B$123,B2,'Dépenses'!$H$4:$H$123,"<>Annulée")) | D7: ='Paramètres'!F5 | E7: =IF(OR($B$2="",$D7=""),"",SUMIFS('Dépenses'!$I$4:$I$123,'Dépenses'!$B$4:$B$123,$B$2,'Dépenses'!$E$4:$E$123,$D7,'Dépenses'!$H$4:$H$123,"<>Annulée")) | F7: =IF(OR($B$2="",$D7=""),"",SUMIFS('Dépenses'!$L$4:$L$123,'Dépenses'!$B$4:$B$123,$B$2,'Dépenses'!$E$4:$E$123,$D7,'Dépenses'!$H$4:$H$123,"<>Annulée")) | G7: =IF(OR($B$2="",$D7=""),"",SUMIFS('Dépenses'!$M$4:$M$123,'Dépenses'!$B$4:$B$123,$B$2,'Dépenses'!$E$4:$E$123,$D7,'Dépenses'!$H$4:$H$123,"<>Annulée")) | H7: =IF(OR($B$2="",$D7=""),"",SUMIFS('Dépenses'!$Q$4:$Q$123,'Dépenses'!$B$4:$B$123,$B$2,'Dépenses'!$E$4:$E$123,$D7,'Dépenses'!$H$4:$H$123,"<>Annulée")) | J7: =IF('Paramètres'!J8="","",'Paramètres'!J8)
A8: Montant payé TTC | B8: =IF(B2="","",SUMIFS('Dépenses'!$M$4:$M$123,'Dépenses'!$B$4:$B$123,B2,'Dépenses'!$H$4:$H$123,"<>Annulée")) | D8: ='Paramètres'!F6 | E8: =IF(OR($B$2="",$D8=""),"",SUMIFS('Dépenses'!$I$4:$I$123,'Dépenses'!$B$4:$B$123,$B$2,'Dépenses'!$E$4:$E$123,$D8,'Dépenses'!$H$4:$H$123,"<>Annulée")) | F8: =IF(OR($B$2="",$D8=""),"",SUMIFS('Dépenses'!$L$4:$L$123,'Dépenses'!$B$4:$B$123,$B$2,'Dépenses'!$E$4:$E$123,$D8,'Dépenses'!$H$4:$H$123,"<>Annulée")) | G8: =IF(OR($B$2="",$D8=""),"",SUMIFS('Dépenses'!$M$4:$M$123,'Dépenses'!$B$4:$B$123,$B$2,'Dépenses'!$E$4:$E$123,$D8,'Dépenses'!$H$4:$H$123,"<>Annulée")) | H8: =IF(OR($B$2="",$D8=""),"",SUMIFS('Dépenses'!$Q$4:$Q$123,'Dépenses'!$B$4:$B$123,$B$2,'Dépenses'!$E$4:$E$123,$D8,'Dépenses'!$H$4:$H$123,"<>Annulée")) | J8: =IF('Paramètres'!J9="","",'Paramètres'!J9)
A9: Reste à payer | B9: =IF(B2="","",SUMIFS('Dépenses'!$Q$4:$Q$123,'Dépenses'!$B$4:$B$123,B2,'Dépenses'!$H$4:$H$123,"<>Annulée")) | D9: ='Paramètres'!F7 | E9: =IF(OR($B$2="",$D9=""),"",SUMIFS('Dépenses'!$I$4:$I$123,'Dépenses'!$B$4:$B$123,$B$2,'Dépenses'!$E$4:$E$123,$D9,'Dépenses'!$H$4:$H$123,"<>Annulée")) | F9: =IF(OR($B$2="",$D9=""),"",SUMIFS('Dépenses'!$L$4:$L$123,'Dépenses'!$B$4:$B$123,$B$2,'Dépenses'!$E$4:$E$123,$D9,'Dépenses'!$H$4:$H$123,"<>Annulée")) | G9: =IF(OR($B$2="",$D9=""),"",SUMIFS('Dépenses'!$M$4:$M$123,'Dépenses'!$B$4:$B$123,$B$2,'Dépenses'!$E$4:$E$123,$D9,'Dépenses'!$H$4:$H$123,"<>Annulée")) | H9: =IF(OR($B$2="",$D9=""),"",SUMIFS('Dépenses'!$Q$4:$Q$123,'Dépenses'!$B$4:$B$123,$B$2,'Dépenses'!$E$4:$E$123,$D9,'Dépenses'!$H$4:$H$123,"<>Annulée")) | J9: =IF('Paramètres'!J10="","",'Paramètres'!J10)
A10: Disponible budgétaire | B10: =IF(OR(B5="",B7=""),"",B5-B7) | D10: ='Paramètres'!F8 | E10: =IF(OR($B$2="",$D10=""),"",SUMIFS('Dépenses'!$I$4:$I$123,'Dépenses'!$B$4:$B$123,$B$2,'Dépenses'!$E$4:$E$123,$D10,'Dépenses'!$H$4:$H$123,"<>Annulée")) | F10: =IF(OR($B$2="",$D10=""),"",SUMIFS('Dépenses'!$L$4:$L$123,'Dépenses'!$B$4:$B$123,$B$2,'Dépenses'!$E$4:$E$123,$D10,'Dépenses'!$H$4:$H$123,"<>Annulée")) | G10: =IF(OR($B$2="",$D10=""),"",SUMIFS('Dépenses'!$M$4:$M$123,'Dépenses'!$B$4:$B$123,$B$2,'Dépenses'!$E$4:$E$123,$D10,'Dépenses'!$H$4:$H$123,"<>Annulée")) | H10: =IF(OR($B$2="",$D10=""),"",SUMIFS('Dépenses'!$Q$4:$Q$123,'Dépenses'!$B$4:$B$123,$B$2,'Dépenses'!$E$4:$E$123,$D10,'Dépenses'!$H$4:$H$123,"<>Annulée")) | J10: =IF('Paramètres'!J11="","",'Paramètres'!J11)
A11: Taux consommé | B11: =IFERROR(B7/B5,"") | D11: ='Paramètres'!F9 | E11: =IF(OR($B$2="",$D11=""),"",SUMIFS('Dépenses'!$I$4:$I$123,'Dépenses'!$B$4:$B$123,$B$2,'Dépenses'!$E$4:$E$123,$D11,'Dépenses'!$H$4:$H$123,"<>Annulée")) | F11: =IF(OR($B$2="",$D11=""),"",SUMIFS('Dépenses'!$L$4:$L$123,'Dépenses'!$B$4:$B$123,$B$2,'Dépenses'!$E$4:$E$123,$D11,'Dépenses'!$H$4:$H$123,"<>Annulée")) | G11: =IF(OR($B$2="",$D11=""),"",SUMIFS('Dépenses'!$M$4:$M$123,'Dépenses'!$B$4:$B$123,$B$2,'Dépenses'!$E$4:$E$123,$D11,'Dépenses'!$H$4:$H$123,"<>Annulée")) | H11: =IF(OR($B$2="",$D11=""),"",SUMIFS('Dépenses'!$Q$4:$Q$123,'Dépenses'!$B$4:$B$123,$B$2,'Dépenses'!$E$4:$E$123,$D11,'Dépenses'!$H$4:$H$123,"<>Annulée")) | J11: =IF('Paramètres'!J12="","",'Paramètres'!J12)
D12: ='Paramètres'!F10 | E12: =IF(OR($B$2="",$D12=""),"",SUMIFS('Dépenses'!$I$4:$I$123,'Dépenses'!$B$4:$B$123,$B$2,'Dépenses'!$E$4:$E$123,$D12,'Dépenses'!$H$4:$H$123,"<>Annulée")) | F12: =IF(OR($B$2="",$D12=""),"",SUMIFS('Dépenses'!$L$4:$L$123,'Dépenses'!$B$4:$B$123,$B$2,'Dépenses'!$E$4:$E$123,$D12,'Dépenses'!$H$4:$H$123,"<>Annulée")) | G12: =IF(OR($B$2="",$D12=""),"",SUMIFS('Dépenses'!$M$4:$M$123,'Dépenses'!$B$4:$B$123,$B$2,'Dépenses'!$E$4:$E$123,$D12,'Dépenses'!$H$4:$H$123,"<>Annulée")) | H12: =IF(OR($B$2="",$D12=""),"",SUMIFS('Dépenses'!$Q$4:$Q$123,'Dépenses'!$B$4:$B$123,$B$2,'Dépenses'!$E$4:$E$123,$D12,'Dépenses'!$H$4:$H$123,"<>Annulée")) | J12: =IF('Paramètres'!J13="","",'Paramètres'!J13)
A13: Contrôle de concordance | B13: =IF(B2="","",IF(AND(ABS(B6-E15)<0.01,ABS(B7-F15)<0.01,ABS(B8-G15)<0.01,ABS(B9-H15)<0.01),"Concordance vérifiée","Écart à contrôler")) | D13: ='Paramètres'!F11 | E13: =IF(OR($B$2="",$D13=""),"",SUMIFS('Dépenses'!$I$4:$I$123,'Dépenses'!$B$4:$B$123,$B$2,'Dépenses'!$E$4:$E$123,$D13,'Dépenses'!$H$4:$H$123,"<>Annulée")) | F13: =IF(OR($B$2="",$D13=""),"",SUMIFS('Dépenses'!$L$4:$L$123,'Dépenses'!$B$4:$B$123,$B$2,'Dépenses'!$E$4:$E$123,$D13,'Dépenses'!$H$4:$H$123,"<>Annulée")) | G13: =IF(OR($B$2="",$D13=""),"",SUMIFS('Dépenses'!$M$4:$M$123,'Dépenses'!$B$4:$B$123,$B$2,'Dépenses'!$E$4:$E$123,$D13,'Dépenses'!$H$4:$H$123,"<>Annulée")) | H13: =IF(OR($B$2="",$D13=""),"",SUMIFS('Dépenses'!$Q$4:$Q$123,'Dépenses'!$B$4:$B$123,$B$2,'Dépenses'!$E$4:$E$123,$D13,'Dépenses'!$H$4:$H$123,"<>Annulée")) | J13: =IF('Paramètres'!J14="","",'Paramètres'!J14)
J14: =IF('Paramètres'!J15="","",'Paramètres'!J15)
D15: Total ventilation | E15: =IF($B$2="","",SUM(E5:E13)) | F15: =IF($B$2="","",SUM(F5:F13)) | G15: =IF($B$2="","",SUM(G5:G13)) | H15: =IF($B$2="","",SUM(H5:H13)) | J15: =IF('Paramètres'!J16="","",'Paramètres'!J16)
J16: =IF('Paramètres'!J17="","",'Paramètres'!J17)
J17: =IF('Paramètres'!J18="","",'Paramètres'!J18)
J18: =IF('Paramètres'!J19="","",'Paramètres'!J19)
J19: =IF('Paramètres'!J20="","",'Paramètres'!J20)
J20: =IF('Paramètres'!J21="","",'Paramètres'!J21)
J21: =IF('Paramètres'!J22="","",'Paramètres'!J22)
J22: =IF('Paramètres'!J23="","",'Paramètres'!J23)
J23: =IF('Paramètres'!J24="","",'Paramètres'!J24)
J24: =IF('Paramètres'!J25="","",'Paramètres'!J25)
J25: =IF('Paramètres'!J26="","",'Paramètres'!J26)
J26: =IF('Paramètres'!J27="","",'Paramètres'!J27)
J27: =IF('Paramètres'!J28="","",'Paramètres'!J28)
... J101: =IF('Paramètres'!J102="","",'Paramètres'!J102)

Sheet Dépenses
A1: Dépenses — suivi prévu, constaté et payé | U1: Événements | V1: Statuts | W1: Catégories | X1: Taux
A2: Cellules jaunes : saisie modifiable. | F2: Colonnes calculées : TTC constaté, écart, reste et alerte. | N2: Date de référence : | O2: ='Paramètres'!$B$3 | U2: =IF('Paramètres'!J3="","",'Paramètres'!J3) | V2: =IF('Paramètres'!D3="","",'Paramètres'!D3) | W2: =IF('Paramètres'!F3="","",'Paramètres'!F3) | X2: =IF('Paramètres'!H3="","",'Paramètres'!H3)
A3: ID dépense | B3: Événement | C3: Date prévue | D3: Date de pièce | E3: Catégorie | F3: Description | G3: Prestataire | H3: Statut | I3: Montant prévu TTC | J3: Montant HT constaté | K3: Taux TVA | L3: Montant TTC constaté | M3: Montant payé TTC | N3: Échéance | O3: Référence pièce | P3: Écart au prévu | Q3: Reste à payer | R3: Alerte | S3: Commentaire | U3: =IF('Paramètres'!J4="","",'Paramètres'!J4) | V3: =IF('Paramètres'!D4="","",'Paramètres'!D4) | W3: =IF('Paramètres'!F4="","",'Paramètres'!F4) | X3: =IF('Paramètres'!H4="","",'Paramètres'!H4)
A4: DEP-001 | B4: Séminaire fictif Alpha | C4: 46310 | E4: Lieu | F4: Location d’espace fictive | H4: Prévue | I4: 4200 | L4: =IF(OR(J4="",K4=""),"",ROUND(J4*(1+K4),2)) | P4: =IF(OR(I4="",L4=""),"",L4-I4) | Q4: =IF(L4="","",MAX(0,L4-IF(M4="",0,M4))) | R4: =IF(H4="Annulée","",IF(AND(N4<>"",N4<'Paramètres'!$B$3,Q4>0),"Échéance dépassée",IF(AND(P4<>"",P4>0),"Dépassement",""))) | S4: Exemple fictif à confirmer. | U4: =IF('Paramètres'!J5="","",'Paramètres'!J5) | V4: =IF('Paramètres'!D5="","",'Paramètres'!D5) | W4: =IF('Paramètres'!F5="","",'Paramètres'!F5) | X4: =IF('Paramètres'!H5="","",'Paramètres'!H5)
A5: DEP-002 | B5: Séminaire fictif Alpha | C5: 46315 | E5: Technique | F5: Régie audiovisuelle fictive | H5: Commandée | I5: 1800 | L5: =IF(OR(J5="",K5=""),"",ROUND(J5*(1+K5),2)) | P5: =IF(OR(I5="",L5=""),"",L5-I5) | Q5: =IF(L5="","",MAX(0,L5-IF(M5="",0,M5))) | R5: =IF(H5="Annulée","",IF(AND(N5<>"",N5<'Paramètres'!$B$3,Q5>0),"Échéance dépassée",IF(AND(P5<>"",P5>0),"Dépassement",""))) | S5: Exemple fictif engagé. | U5: =IF('Paramètres'!J6="","",'Paramètres'!J6) | V5: =IF('Paramètres'!D6="","",'Paramètres'!D6) | W5: =IF('Paramètres'!F6="","",'Paramètres'!F6) | X5: =IF('Paramètres'!H6="","",'Paramètres'!H6)
A6: DEP-003 | B6: Séminaire fictif Alpha | C6: 46317 | D6: 46266 | E6: Restauration | F6: Pause déjeuner fictive | H6: Facturée | I6: 2400 | J6: 2300 | K6: 0.1 | L6: =IF(OR(J6="",K6=""),"",ROUND(J6*(1+K6),2)) | N6: 46295 | O6: PIÈCE-FICTIVE-A-003 | P6: =IF(OR(I6="",L6=""),"",L6-I6) | Q6: =IF(L6="","",MAX(0,L6-IF(M6="",0,M6))) | R6: =IF(H6="Annulée","",IF(AND(N6<>"",N6<'Paramètres'!$B$3,Q6>0),"Échéance dépassée",IF(AND(P6<>"",P6>0),"Dépassement",""))) | S6: Exemple fictif avec dépassement. | U6: =IF('Paramètres'!J7="","",'Paramètres'!J7) | V6: =IF('Paramètres'!D7="","",'Paramètres'!D7) | W6: =IF('Paramètres'!F7="","",'Paramètres'!F7) | X6: =IF('Paramètres'!H7="","",'Paramètres'!H7)
A7: DEP-004 | B7: Séminaire fictif Alpha | C7: 46290 | D7: 46262 | E7: Communication | F7: Supports numériques fictifs | H7: Payée | I7: 900 | J7: 750 | K7: 0.2 | L7: =IF(OR(J7="",K7=""),"",ROUND(J7*(1+K7),2)) | M7: 900 | N7: 46270 | O7: PIÈCE-FICTIVE-A-004 | P7: =IF(OR(I7="",L7=""),"",L7-I7) | Q7: =IF(L7="","",MAX(0,L7-IF(M7="",0,M7))) | R7: =IF(H7="Annulée","",IF(AND(N7<>"",N7<'Paramètres'!$B$3,Q7>0),"Échéance dépassée",IF(AND(P7<>"",P7>0),"Dépassement",""))) | S7: Exemple fictif entièrement payé. | U7: =IF('Paramètres'!J8="","",'Paramètres'!J8) | V7: =IF('Paramètres'!D8="","",'Paramètres'!D8) | W7: =IF('Paramètres'!F8="","",'Paramètres'!F8) | X7: =IF('Paramètres'!H8="","",'Paramètres'!H8)
A8: DEP-005 | B8: Séminaire fictif Alpha | C8: 46305 | E8: Fournitures | F8: Kits de réunion fictifs | H8: Prévue | I8: 350 | L8: =IF(OR(J8="",K8=""),"",ROUND(J8*(1+K8),2)) | P8: =IF(OR(I8="",L8=""),"",L8-I8) | Q8: =IF(L8="","",MAX(0,L8-IF(M8="",0,M8))) | R8: =IF(H8="Annulée","",IF(AND(N8<>"",N8<'Paramètres'!$B$3,Q8>0),"Échéance dépassée",IF(AND(P8<>"",P8>0),"Dépassement",""))) | S8: Exemple fictif à arbitrer. | U8: =IF('Paramètres'!J9="","",'Paramètres'!J9) | V8: =IF('Paramètres'!D9="","",'Paramètres'!D9) | W8: =IF('Paramètres'!F9="","",'Paramètres'!F9) | X8: =IF('Paramètres'!H9="","",'Paramètres'!H9)
A9: DEP-006 | B9: Convention fictive Bêta | C9: 46331 | E9: Lieu | F9: Salle de convention fictive | H9: Commandée | I9: 6500 | L9: =IF(OR(J9="",K9=""),"",ROUND(J9*(1+K9),2)) | P9: =IF(OR(I9="",L9=""),"",L9-I9) | Q9: =IF(L9="","",MAX(0,L9-IF(M9="",0,M9))) | R9: =IF(H9="Annulée","",IF(AND(N9<>"",N9<'Paramètres'!$B$3,Q9>0),"Échéance dépassée",IF(AND(P9<>"",P9>0),"Dépassement",""))) | S9: Exemple fictif engagé. | U9: =IF('Paramètres'!J10="","",'Paramètres'!J10) | V9: =IF('Paramètres'!D10="","",'Paramètres'!D10) | W9: =IF('Paramètres'!F10="","",'Paramètres'!F10) | X9: =IF('Paramètres'!H10="","",'Paramètres'!H10)
A10: DEP-007 | B10: Convention fictive Bêta | C10: 46332 | E10: Technique | F10: Équipement scénique fictif | H10: Prévue | I10: 3200 | L10: =IF(OR(J10="",K10=""),"",ROUND(J10*(1+K10),2)) | P10: =IF(OR(I10="",L10=""),"",L10-I10) | Q10: =IF(L10="","",MAX(0,L10-IF(M10="",0,M10))) | R10: =IF(H10="Annulée","",IF(AND(N10<>"",N10<'Paramètres'!$B$3,Q10>0),"Échéance dépassée",IF(AND(P10<>"",P10>0),"Dépassement",""))) | S10: Exemple fictif à confirmer. | U10: =IF('Paramètres'!J11="","",'Paramètres'!J11) | V10: =IF('Paramètres'!D11="","",'Paramètres'!D11) | W10: =IF('Paramètres'!F11="","",'Paramètres'!F11) | X10: =IF('Paramètres'!H11="","",'Paramètres'!H11)
A11: DEP-008 | B11: Convention fictive Bêta | C11: 46333 | D11: 46259 | E11: Animation | F11: Intervention artistique fictive | H11: Facturée | I11: 1500 | J11: 1250 | K11: 0.2 | L11: =IF(OR(J11="",K11=""),"",ROUND(J11*(1+K11),2)) | M11: 500 | N11: 46266 | O11: PIÈCE-FICTIVE-B-008 | P11: =IF(OR(I11="",L11=""),"",L11-I11) | Q11: =IF(L11="","",MAX(0,L11-IF(M11="",0,M11))) | R11: =IF(H11="Annulée","",IF(AND(N11<>"",N11<'Paramètres'!$B$3,Q11>0),"Échéance dépassée",IF(AND(P11<>"",P11>0),"Dépassement",""))) | S11: Exemple fictif avec échéance dépassée. | U11: =IF('Paramètres'!J12="","",'Paramètres'!J12) | V11: =IF('Paramètres'!D12="","",'Paramètres'!D12) | W11: =IF('Paramètres'!F12="","",'Paramètres'!F12) | X11: =IF('Paramètres'!H12="","",'Paramètres'!H12)
A12: DEP-009 | B12: Convention fictive Bêta | C12: 46334 | E12: Transport | F12: Navettes fictives | H12: Prévue | I12: 1100 | L12: =IF(OR(J12="",K12=""),"",ROUND(J12*(1+K12),2)) | P12: =IF(OR(I12="",L12=""),"",L12-I12) | Q12: =IF(L12="","",MAX(0,L12-IF(M12="",0,M12))) | R12: =IF(H12="Annulée","",IF(AND(N12<>"",N12<'Paramètres'!$B$3,Q12>0),"Échéance dépassée",IF(AND(P12<>"",P12>0),"Dépassement",""))) | S12: Exemple fictif à planifier. | U12: =IF('Paramètres'!J13="","",'Paramètres'!J13) | V12: =IF('Paramètres'!D13="","",'Paramètres'!D13) | W12: =IF('Paramètres'!F13="","",'Paramètres'!F13) | X12: =IF('Paramètres'!H13="","",'Paramètres'!H13)
A13: DEP-010 | B13: Convention fictive Bêta | C13: 46335 | E13: Divers | F13: Imprévu fictif annulé | H13: Annulée | I13: 300 | L13: =IF(OR(J13="",K13=""),"",ROUND(J13*(1+K13),2)) | P13: =IF(OR(I13="",L13=""),"",L13-I13) | Q13: =IF(L13="","",MAX(0,L13-IF(M13="",0,M13))) | R13: =IF(H13="Annulée","",IF(AND(N13<>"",N13<'Paramètres'!$B$3,Q13>0),"Échéance dépassée",IF(AND(P13<>"",P13>0),"Dépassement",""))) | S13: Exemple fictif annulé. | U13: =IF('Paramètres'!J14="","",'Paramètres'!J14) | V13: =IF('Paramètres'!D14="","",'Paramètres'!D14) | W13: =IF('Paramètres'!F14="","",'Paramètres'!F14) | X13: =IF('Paramètres'!H14="","",'Paramètres'!H14)
L14: =IF(OR(J14="",K14=""),"",ROUND(J14*(1+K14),2)) | P14: =IF(OR(I14="",L14=""),"",L14-I14) | Q14: =IF(L14="","",MAX(0,L14-IF(M14="",0,M14))) | R14: =IF(H14="Annulée","",IF(AND(N14<>"",N14<'Paramètres'!$B$3,Q14>0),"Échéance dépassée",IF(AND(P14<>"",P14>0),"Dépassement",""))) | U14: =IF('Paramètres'!J15="","",'Paramètres'!J15) | V14: =IF('Paramètres'!D15="","",'Paramètres'!D15) | W14: =IF('Paramètres'!F15="","",'Paramètres'!F15) | X14: =IF('Paramètres'!H15="","",'Paramètres'!H15)
L15: =IF(OR(J15="",K15=""),"",ROUND(J15*(1+K15),2)) | P15: =IF(OR(I15="",L15=""),"",L15-I15) | Q15: =IF(L15="","",MAX(0,L15-IF(M15="",0,M15))) | R15: =IF(H15="Annulée","",IF(AND(N15<>"",N15<'Paramètres'!$B$3,Q15>0),"Échéance dépassée",IF(AND(P15<>"",P15>0),"Dépassement",""))) | U15: =IF('Paramètres'!J16="","",'Paramètres'!J16) | V15: =IF('Paramètres'!D16="","",'Paramètres'!D16) | W15: =IF('Paramètres'!F16="","",'Paramètres'!F16) | X15: =IF('Paramètres'!H16="","",'Paramètres'!H16)
L16: =IF(OR(J16="",K16=""),"",ROUND(J16*(1+K16),2)) | P16: =IF(OR(I16="",L16=""),"",L16-I16) | Q16: =IF(L16="","",MAX(0,L16-IF(M16="",0,M16))) | R16: =IF(H16="Annulée","",IF(AND(N16<>"",N16<'Paramètres'!$B$3,Q16>0),"Échéance dépassée",IF(AND(P16<>"",P16>0),"Dépassement",""))) | U16: =IF('Paramètres'!J17="","",'Paramètres'!J17) | V16: =IF('Paramètres'!D17="","",'Paramètres'!D17) | W16: =IF('Paramètres'!F17="","",'Paramètres'!F17) | X16: =IF('Paramètres'!H17="","",'Paramètres'!H17)
L17: =IF(OR(J17="",K17=""),"",ROUND(J17*(1+K17),2)) | P17: =IF(OR(I17="",L17=""),"",L17-I17) | Q17: =IF(L17="","",MAX(0,L17-IF(M17="",0,M17))) | R17: =IF(H17="Annulée","",IF(AND(N17<>"",N17<'Paramètres'!$B$3,Q17>0),"Échéance dépassée",IF(AND(P17<>"",P17>0),"Dépassement",""))) | U17: =IF('Paramètres'!J18="","",'Paramètres'!J18) | V17: =IF('Paramètres'!D18="","",'Paramètres'!D18) | W17: =IF('Paramètres'!F18="","",'Paramètres'!F18) | X17: =IF('Paramètres'!H18="","",'Paramètres'!H18)
L18: =IF(OR(J18="",K18=""),"",ROUND(J18*(1+K18),2)) | P18: =IF(OR(I18="",L18=""),"",L18-I18) | Q18: =IF(L18="","",MAX(0,L18-IF(M18="",0,M18))) | R18: =IF(H18="Annulée","",IF(AND(N18<>"",N18<'Paramètres'!$B$3,Q18>0),"Échéance dépassée",IF(AND(P18<>"",P18>0),"Dépassement",""))) | U18: =IF('Paramètres'!J19="","",'Paramètres'!J19) | V18: =IF('Paramètres'!D19="","",'Paramètres'!D19) | W18: =IF('Paramètres'!F19="","",'Paramètres'!F19) | X18: =IF('Paramètres'!H19="","",'Paramètres'!H19)
L19: =IF(OR(J19="",K19=""),"",ROUND(J19*(1+K19),2)) | P19: =IF(OR(I19="",L19=""),"",L19-I19) | Q19: =IF(L19="","",MAX(0,L19-IF(M19="",0,M19))) | R19: =IF(H19="Annulée","",IF(AND(N19<>"",N19<'Paramètres'!$B$3,Q19>0),"Échéance dépassée",IF(AND(P19<>"",P19>0),"Dépassement",""))) | U19: =IF('Paramètres'!J20="","",'Paramètres'!J20) | V19: =IF('Paramètres'!D20="","",'Paramètres'!D20) | W19: =IF('Paramètres'!F20="","",'Paramètres'!F20) | X19: =IF('Paramètres'!H20="","",'Paramètres'!H20)
L20: =IF(OR(J20="",K20=""),"",ROUND(J20*(1+K20),2)) | P20: =IF(OR(I20="",L20=""),"",L20-I20) | Q20: =IF(L20="","",MAX(0,L20-IF(M20="",0,M20))) | R20: =IF(H20="Annulée","",IF(AND(N20<>"",N20<'Paramètres'!$B$3,Q20>0),"Échéance dépassée",IF(AND(P20<>"",P20>0),"Dépassement",""))) | U20: =IF('Paramètres'!J21="","",'Paramètres'!J21) | V20: =IF('Paramètres'!D21="","",'Paramètres'!D21) | W20: =IF('Paramètres'!F21="","",'Paramètres'!F21) | X20: =IF('Paramètres'!H21="","",'Paramètres'!H21)
L21: =IF(OR(J21="",K21=""),"",ROUND(J21*(1+K21),2)) | P21: =IF(OR(I21="",L21=""),"",L21-I21) | Q21: =IF(L21="","",MAX(0,L21-IF(M21="",0,M21))) | R21: =IF(H21="Annulée","",IF(AND(N21<>"",N21<'Paramètres'!$B$3,Q21>0),"Échéance dépassée",IF(AND(P21<>"",P21>0),"Dépassement",""))) | U21: =IF('Paramètres'!J22="","",'Paramètres'!J22) | V21: =IF('Paramètres'!D22="","",'Paramètres'!D22) | W21: =IF('Paramètres'!F22="","",'Paramètres'!F22) | X21: =IF('Paramètres'!H22="","",'Paramètres'!H22)
L22: =IF(OR(J22="",K22=""),"",ROUND(J22*(1+K22),2)) | P22: =IF(OR(I22="",L22=""),"",L22-I22) | Q22: =IF(L22="","",MAX(0,L22-IF(M22="",0,M22))) | R22: =IF(H22="Annulée","",IF(AND(N22<>"",N22<'Paramètres'!$B$3,Q22>0),"Échéance dépassée",IF(AND(P22<>"",P22>0),"Dépassement",""))) | U22: =IF('Paramètres'!J23="","",'Paramètres'!J23) | V22: =IF('Paramètres'!D23="","",'Paramètres'!D23) | W22: =IF('Paramètres'!F23="","",'Paramètres'!F23) | X22: =IF('Paramètres'!H23="","",'Paramètres'!H23)
L23: =IF(OR(J23="",K23=""),"",ROUND(J23*(1+K23),2)) | P23: =IF(OR(I23="",L23=""),"",L23-I23) | Q23: =IF(L23="","",MAX(0,L23-IF(M23="",0,M23))) | R23: =IF(H23="Annulée","",IF(AND(N23<>"",N23<'Paramètres'!$B$3,Q23>0),"Échéance dépassée",IF(AND(P23<>"",P23>0),"Dépassement",""))) | U23: =IF('Paramètres'!J24="","",'Paramètres'!J24) | V23: =IF('Paramètres'!D24="","",'Paramètres'!D24) | W23: =IF('Paramètres'!F24="","",'Paramètres'!F24) | X23: =IF('Paramètres'!H24="","",'Paramètres'!H24)
L24: =IF(OR(J24="",K24=""),"",ROUND(J24*(1+K24),2)) | P24: =IF(OR(I24="",L24=""),"",L24-I24) | Q24: =IF(L24="","",MAX(0,L24-IF(M24="",0,M24))) | R24: =IF(H24="Annulée","",IF(AND(N24<>"",N24<'Paramètres'!$B$3,Q24>0),"Échéance dépassée",IF(AND(P24<>"",P24>0),"Dépassement",""))) | U24: =IF('Paramètres'!J25="","",'Paramètres'!J25) | V24: =IF('Paramètres'!D25="","",'Paramètres'!D25) | W24: =IF('Paramètres'!F25="","",'Paramètres'!F25) | X24: =IF('Paramètres'!H25="","",'Paramètres'!H25)
L25: =IF(OR(J25="",K25=""),"",ROUND(J25*(1+K25),2)) | P25: =IF(OR(I25="",L25=""),"",L25-I25) | Q25: =IF(L25="","",MAX(0,L25-IF(M25="",0,M25))) | R25: =IF(H25="Annulée","",IF(AND(N25<>"",N25<'Paramètres'!$B$3,Q25>0),"Échéance dépassée",IF(AND(P25<>"",P25>0),"Dépassement",""))) | U25: =IF('Paramètres'!J26="","",'Paramètres'!J26) | V25: =IF('Paramètres'!D26="","",'Paramètres'!D26) | W25: =IF('Paramètres'!F26="","",'Paramètres'!F26) | X25: =IF('Paramètres'!H26="","",'Paramètres'!H26)
... L123: =IF(OR(J123="",K123=""),"",ROUND(J123*(1+K123),2)) | P123: =IF(OR(I123="",L123=""),"",L123-I123) | Q123: =IF(L123="","",MAX(0,L123-IF(M123="",0,M123))) | R123: =IF(H123="Annulée","",IF(AND(N123<>"",N123<'Paramètres'!$B$3,Q123>0),"Échéance dépassée",IF(AND(P123<>"",P123>0),"Dépassement",""))) | U123: =IF('Paramètres'!J124="","",'Paramètres'!J124) | V123: =IF('Paramètres'!D124="","",'Paramètres'!D124) | W123: =IF('Paramètres'!F124="","",'Paramètres'!F124) | X123: =IF('Paramètres'!H124="","",'Paramètres'!H124)

Sheet Paramètres
A1: Paramètres et budgets événementiels
A2: Paramètre | B2: Valeur | D2: Statuts | F2: Catégories | H2: Taux de TVA proposés | J2: Événement | K2: Budget global TTC
A3: Date de référence (repère « Date_Reference ») | B3: 46273 | D3: Prévue | F3: Lieu | H3: 0 | J3: Séminaire fictif Alpha | K3: 12000
D4: Commandée | F4: Technique | H4: 0.055 | J4: Convention fictive Bêta | K4: 18500
D5: Facturée | F5: Restauration | H5: 0.1
A6: Repère | B6: Précision | D6: Payée | F6: Communication | H6: 0.2
A7: Cellules jaunes | B7: Valeurs modifiables. | D7: Annulée | F7: Transport
A8: Taux de TVA | B8: Propositions à adapter au contexte de la dépense. | F8: Hébergement
A9: Budgets | B9: Hypothèses internes de pilotage, sans garantie contractuelle. | F9: Animation
A10: Périmètre | B10: Le classeur ne remplace aucun contrôle comptable, fiscal ou juridique. | F10: Fournitures
F11: Divers
