Workbook

Sheet Synthèse
A1: Synthèse multi-événements
A2: Comparaison par événement pour arbitrer les priorités, l’avancement et les budgets internes.
A3: Cellules jaunes : saisie modifiable.
A4: ID événement | B4: Intitulé | C4: Début | D4: Fin | E4: Statut | F4: Nombre d’actions | G4: Actions terminées | H4: Taux d’avancement | I4: Actions en retard | J4: Budget prévu | K4: Montant des actions | L4: Écart
A5: EVT-001 | B5: =IF($A5="","",IFERROR(_xlfn.XLOOKUP($A5,'Événements'!$A$5:$A$104,'Événements'!$B$5:$B$104)&"","")) | C5: =IF($A5="","",IFERROR(IF(_xlfn.XLOOKUP($A5,'Événements'!$A$5:$A$104,'Événements'!$E$5:$E$104)=0,"",_xlfn.XLOOKUP($A5,'Événements'!$A$5:$A$104,'Événements'!$E$5:$E$104)),"")) | D5: =IF($A5="","",IFERROR(IF(_xlfn.XLOOKUP($A5,'Événements'!$A$5:$A$104,'Événements'!$F$5:$F$104)=0,"",_xlfn.XLOOKUP($A5,'Événements'!$A$5:$A$104,'Événements'!$F$5:$F$104)),"")) | E5: =IF($A5="","",IFERROR(_xlfn.XLOOKUP($A5,'Événements'!$A$5:$A$104,'Événements'!$H$5:$H$104)&"","")) | F5: =IF($A5="","",COUNTIF('Actions'!$B$5:$B$204,$A5)) | G5: =IF($A5="","",COUNTIFS('Actions'!$B$5:$B$204,$A5,'Actions'!$I$5:$I$204,"Terminé")) | H5: =IF($A5="","",IFERROR($G5/$F5,"")) | I5: =IF($A5="","",COUNTIFS('Actions'!$B$5:$B$204,$A5,'Actions'!$Q$5:$Q$204,"En retard")) | J5: =IF($A5="","",IFERROR(_xlfn.XLOOKUP($A5,'Événements'!$A$5:$A$104,'Événements'!$I$5:$I$104),"")) | K5: =IF($A5="","",SUMIFS('Actions'!$M$5:$M$204,'Actions'!$B$5:$B$204,$A5)) | L5: =IF($A5="","",IFERROR($J5-$K5,""))
A6: EVT-002 | B6: =IF($A6="","",IFERROR(_xlfn.XLOOKUP($A6,'Événements'!$A$5:$A$104,'Événements'!$B$5:$B$104)&"","")) | C6: =IF($A6="","",IFERROR(IF(_xlfn.XLOOKUP($A6,'Événements'!$A$5:$A$104,'Événements'!$E$5:$E$104)=0,"",_xlfn.XLOOKUP($A6,'Événements'!$A$5:$A$104,'Événements'!$E$5:$E$104)),"")) | D6: =IF($A6="","",IFERROR(IF(_xlfn.XLOOKUP($A6,'Événements'!$A$5:$A$104,'Événements'!$F$5:$F$104)=0,"",_xlfn.XLOOKUP($A6,'Événements'!$A$5:$A$104,'Événements'!$F$5:$F$104)),"")) | E6: =IF($A6="","",IFERROR(_xlfn.XLOOKUP($A6,'Événements'!$A$5:$A$104,'Événements'!$H$5:$H$104)&"","")) | F6: =IF($A6="","",COUNTIF('Actions'!$B$5:$B$204,$A6)) | G6: =IF($A6="","",COUNTIFS('Actions'!$B$5:$B$204,$A6,'Actions'!$I$5:$I$204,"Terminé")) | H6: =IF($A6="","",IFERROR($G6/$F6,"")) | I6: =IF($A6="","",COUNTIFS('Actions'!$B$5:$B$204,$A6,'Actions'!$Q$5:$Q$204,"En retard")) | J6: =IF($A6="","",IFERROR(_xlfn.XLOOKUP($A6,'Événements'!$A$5:$A$104,'Événements'!$I$5:$I$104),"")) | K6: =IF($A6="","",SUMIFS('Actions'!$M$5:$M$204,'Actions'!$B$5:$B$204,$A6)) | L6: =IF($A6="","",IFERROR($J6-$K6,""))
A7: EVT-003 | B7: =IF($A7="","",IFERROR(_xlfn.XLOOKUP($A7,'Événements'!$A$5:$A$104,'Événements'!$B$5:$B$104)&"","")) | C7: =IF($A7="","",IFERROR(IF(_xlfn.XLOOKUP($A7,'Événements'!$A$5:$A$104,'Événements'!$E$5:$E$104)=0,"",_xlfn.XLOOKUP($A7,'Événements'!$A$5:$A$104,'Événements'!$E$5:$E$104)),"")) | D7: =IF($A7="","",IFERROR(IF(_xlfn.XLOOKUP($A7,'Événements'!$A$5:$A$104,'Événements'!$F$5:$F$104)=0,"",_xlfn.XLOOKUP($A7,'Événements'!$A$5:$A$104,'Événements'!$F$5:$F$104)),"")) | E7: =IF($A7="","",IFERROR(_xlfn.XLOOKUP($A7,'Événements'!$A$5:$A$104,'Événements'!$H$5:$H$104)&"","")) | F7: =IF($A7="","",COUNTIF('Actions'!$B$5:$B$204,$A7)) | G7: =IF($A7="","",COUNTIFS('Actions'!$B$5:$B$204,$A7,'Actions'!$I$5:$I$204,"Terminé")) | H7: =IF($A7="","",IFERROR($G7/$F7,"")) | I7: =IF($A7="","",COUNTIFS('Actions'!$B$5:$B$204,$A7,'Actions'!$Q$5:$Q$204,"En retard")) | J7: =IF($A7="","",IFERROR(_xlfn.XLOOKUP($A7,'Événements'!$A$5:$A$104,'Événements'!$I$5:$I$104),"")) | K7: =IF($A7="","",SUMIFS('Actions'!$M$5:$M$204,'Actions'!$B$5:$B$204,$A7)) | L7: =IF($A7="","",IFERROR($J7-$K7,""))
B8: =IF($A8="","",IFERROR(_xlfn.XLOOKUP($A8,'Événements'!$A$5:$A$104,'Événements'!$B$5:$B$104)&"","")) | C8: =IF($A8="","",IFERROR(IF(_xlfn.XLOOKUP($A8,'Événements'!$A$5:$A$104,'Événements'!$E$5:$E$104)=0,"",_xlfn.XLOOKUP($A8,'Événements'!$A$5:$A$104,'Événements'!$E$5:$E$104)),"")) | D8: =IF($A8="","",IFERROR(IF(_xlfn.XLOOKUP($A8,'Événements'!$A$5:$A$104,'Événements'!$F$5:$F$104)=0,"",_xlfn.XLOOKUP($A8,'Événements'!$A$5:$A$104,'Événements'!$F$5:$F$104)),"")) | E8: =IF($A8="","",IFERROR(_xlfn.XLOOKUP($A8,'Événements'!$A$5:$A$104,'Événements'!$H$5:$H$104)&"","")) | F8: =IF($A8="","",COUNTIF('Actions'!$B$5:$B$204,$A8)) | G8: =IF($A8="","",COUNTIFS('Actions'!$B$5:$B$204,$A8,'Actions'!$I$5:$I$204,"Terminé")) | H8: =IF($A8="","",IFERROR($G8/$F8,"")) | I8: =IF($A8="","",COUNTIFS('Actions'!$B$5:$B$204,$A8,'Actions'!$Q$5:$Q$204,"En retard")) | J8: =IF($A8="","",IFERROR(_xlfn.XLOOKUP($A8,'Événements'!$A$5:$A$104,'Événements'!$I$5:$I$104),"")) | K8: =IF($A8="","",SUMIFS('Actions'!$M$5:$M$204,'Actions'!$B$5:$B$204,$A8)) | L8: =IF($A8="","",IFERROR($J8-$K8,""))
B9: =IF($A9="","",IFERROR(_xlfn.XLOOKUP($A9,'Événements'!$A$5:$A$104,'Événements'!$B$5:$B$104)&"","")) | C9: =IF($A9="","",IFERROR(IF(_xlfn.XLOOKUP($A9,'Événements'!$A$5:$A$104,'Événements'!$E$5:$E$104)=0,"",_xlfn.XLOOKUP($A9,'Événements'!$A$5:$A$104,'Événements'!$E$5:$E$104)),"")) | D9: =IF($A9="","",IFERROR(IF(_xlfn.XLOOKUP($A9,'Événements'!$A$5:$A$104,'Événements'!$F$5:$F$104)=0,"",_xlfn.XLOOKUP($A9,'Événements'!$A$5:$A$104,'Événements'!$F$5:$F$104)),"")) | E9: =IF($A9="","",IFERROR(_xlfn.XLOOKUP($A9,'Événements'!$A$5:$A$104,'Événements'!$H$5:$H$104)&"","")) | F9: =IF($A9="","",COUNTIF('Actions'!$B$5:$B$204,$A9)) | G9: =IF($A9="","",COUNTIFS('Actions'!$B$5:$B$204,$A9,'Actions'!$I$5:$I$204,"Terminé")) | H9: =IF($A9="","",IFERROR($G9/$F9,"")) | I9: =IF($A9="","",COUNTIFS('Actions'!$B$5:$B$204,$A9,'Actions'!$Q$5:$Q$204,"En retard")) | J9: =IF($A9="","",IFERROR(_xlfn.XLOOKUP($A9,'Événements'!$A$5:$A$104,'Événements'!$I$5:$I$104),"")) | K9: =IF($A9="","",SUMIFS('Actions'!$M$5:$M$204,'Actions'!$B$5:$B$204,$A9)) | L9: =IF($A9="","",IFERROR($J9-$K9,""))
B10: =IF($A10="","",IFERROR(_xlfn.XLOOKUP($A10,'Événements'!$A$5:$A$104,'Événements'!$B$5:$B$104)&"","")) | C10: =IF($A10="","",IFERROR(IF(_xlfn.XLOOKUP($A10,'Événements'!$A$5:$A$104,'Événements'!$E$5:$E$104)=0,"",_xlfn.XLOOKUP($A10,'Événements'!$A$5:$A$104,'Événements'!$E$5:$E$104)),"")) | D10: =IF($A10="","",IFERROR(IF(_xlfn.XLOOKUP($A10,'Événements'!$A$5:$A$104,'Événements'!$F$5:$F$104)=0,"",_xlfn.XLOOKUP($A10,'Événements'!$A$5:$A$104,'Événements'!$F$5:$F$104)),"")) | E10: =IF($A10="","",IFERROR(_xlfn.XLOOKUP($A10,'Événements'!$A$5:$A$104,'Événements'!$H$5:$H$104)&"","")) | F10: =IF($A10="","",COUNTIF('Actions'!$B$5:$B$204,$A10)) | G10: =IF($A10="","",COUNTIFS('Actions'!$B$5:$B$204,$A10,'Actions'!$I$5:$I$204,"Terminé")) | H10: =IF($A10="","",IFERROR($G10/$F10,"")) | I10: =IF($A10="","",COUNTIFS('Actions'!$B$5:$B$204,$A10,'Actions'!$Q$5:$Q$204,"En retard")) | J10: =IF($A10="","",IFERROR(_xlfn.XLOOKUP($A10,'Événements'!$A$5:$A$104,'Événements'!$I$5:$I$104),"")) | K10: =IF($A10="","",SUMIFS('Actions'!$M$5:$M$204,'Actions'!$B$5:$B$204,$A10)) | L10: =IF($A10="","",IFERROR($J10-$K10,""))
B11: =IF($A11="","",IFERROR(_xlfn.XLOOKUP($A11,'Événements'!$A$5:$A$104,'Événements'!$B$5:$B$104)&"","")) | C11: =IF($A11="","",IFERROR(IF(_xlfn.XLOOKUP($A11,'Événements'!$A$5:$A$104,'Événements'!$E$5:$E$104)=0,"",_xlfn.XLOOKUP($A11,'Événements'!$A$5:$A$104,'Événements'!$E$5:$E$104)),"")) | D11: =IF($A11="","",IFERROR(IF(_xlfn.XLOOKUP($A11,'Événements'!$A$5:$A$104,'Événements'!$F$5:$F$104)=0,"",_xlfn.XLOOKUP($A11,'Événements'!$A$5:$A$104,'Événements'!$F$5:$F$104)),"")) | E11: =IF($A11="","",IFERROR(_xlfn.XLOOKUP($A11,'Événements'!$A$5:$A$104,'Événements'!$H$5:$H$104)&"","")) | F11: =IF($A11="","",COUNTIF('Actions'!$B$5:$B$204,$A11)) | G11: =IF($A11="","",COUNTIFS('Actions'!$B$5:$B$204,$A11,'Actions'!$I$5:$I$204,"Terminé")) | H11: =IF($A11="","",IFERROR($G11/$F11,"")) | I11: =IF($A11="","",COUNTIFS('Actions'!$B$5:$B$204,$A11,'Actions'!$Q$5:$Q$204,"En retard")) | J11: =IF($A11="","",IFERROR(_xlfn.XLOOKUP($A11,'Événements'!$A$5:$A$104,'Événements'!$I$5:$I$104),"")) | K11: =IF($A11="","",SUMIFS('Actions'!$M$5:$M$204,'Actions'!$B$5:$B$204,$A11)) | L11: =IF($A11="","",IFERROR($J11-$K11,""))
B12: =IF($A12="","",IFERROR(_xlfn.XLOOKUP($A12,'Événements'!$A$5:$A$104,'Événements'!$B$5:$B$104)&"","")) | C12: =IF($A12="","",IFERROR(IF(_xlfn.XLOOKUP($A12,'Événements'!$A$5:$A$104,'Événements'!$E$5:$E$104)=0,"",_xlfn.XLOOKUP($A12,'Événements'!$A$5:$A$104,'Événements'!$E$5:$E$104)),"")) | D12: =IF($A12="","",IFERROR(IF(_xlfn.XLOOKUP($A12,'Événements'!$A$5:$A$104,'Événements'!$F$5:$F$104)=0,"",_xlfn.XLOOKUP($A12,'Événements'!$A$5:$A$104,'Événements'!$F$5:$F$104)),"")) | E12: =IF($A12="","",IFERROR(_xlfn.XLOOKUP($A12,'Événements'!$A$5:$A$104,'Événements'!$H$5:$H$104)&"","")) | F12: =IF($A12="","",COUNTIF('Actions'!$B$5:$B$204,$A12)) | G12: =IF($A12="","",COUNTIFS('Actions'!$B$5:$B$204,$A12,'Actions'!$I$5:$I$204,"Terminé")) | H12: =IF($A12="","",IFERROR($G12/$F12,"")) | I12: =IF($A12="","",COUNTIFS('Actions'!$B$5:$B$204,$A12,'Actions'!$Q$5:$Q$204,"En retard")) | J12: =IF($A12="","",IFERROR(_xlfn.XLOOKUP($A12,'Événements'!$A$5:$A$104,'Événements'!$I$5:$I$104),"")) | K12: =IF($A12="","",SUMIFS('Actions'!$M$5:$M$204,'Actions'!$B$5:$B$204,$A12)) | L12: =IF($A12="","",IFERROR($J12-$K12,""))
B13: =IF($A13="","",IFERROR(_xlfn.XLOOKUP($A13,'Événements'!$A$5:$A$104,'Événements'!$B$5:$B$104)&"","")) | C13: =IF($A13="","",IFERROR(IF(_xlfn.XLOOKUP($A13,'Événements'!$A$5:$A$104,'Événements'!$E$5:$E$104)=0,"",_xlfn.XLOOKUP($A13,'Événements'!$A$5:$A$104,'Événements'!$E$5:$E$104)),"")) | D13: =IF($A13="","",IFERROR(IF(_xlfn.XLOOKUP($A13,'Événements'!$A$5:$A$104,'Événements'!$F$5:$F$104)=0,"",_xlfn.XLOOKUP($A13,'Événements'!$A$5:$A$104,'Événements'!$F$5:$F$104)),"")) | E13: =IF($A13="","",IFERROR(_xlfn.XLOOKUP($A13,'Événements'!$A$5:$A$104,'Événements'!$H$5:$H$104)&"","")) | F13: =IF($A13="","",COUNTIF('Actions'!$B$5:$B$204,$A13)) | G13: =IF($A13="","",COUNTIFS('Actions'!$B$5:$B$204,$A13,'Actions'!$I$5:$I$204,"Terminé")) | H13: =IF($A13="","",IFERROR($G13/$F13,"")) | I13: =IF($A13="","",COUNTIFS('Actions'!$B$5:$B$204,$A13,'Actions'!$Q$5:$Q$204,"En retard")) | J13: =IF($A13="","",IFERROR(_xlfn.XLOOKUP($A13,'Événements'!$A$5:$A$104,'Événements'!$I$5:$I$104),"")) | K13: =IF($A13="","",SUMIFS('Actions'!$M$5:$M$204,'Actions'!$B$5:$B$204,$A13)) | L13: =IF($A13="","",IFERROR($J13-$K13,""))
B14: =IF($A14="","",IFERROR(_xlfn.XLOOKUP($A14,'Événements'!$A$5:$A$104,'Événements'!$B$5:$B$104)&"","")) | C14: =IF($A14="","",IFERROR(IF(_xlfn.XLOOKUP($A14,'Événements'!$A$5:$A$104,'Événements'!$E$5:$E$104)=0,"",_xlfn.XLOOKUP($A14,'Événements'!$A$5:$A$104,'Événements'!$E$5:$E$104)),"")) | D14: =IF($A14="","",IFERROR(IF(_xlfn.XLOOKUP($A14,'Événements'!$A$5:$A$104,'Événements'!$F$5:$F$104)=0,"",_xlfn.XLOOKUP($A14,'Événements'!$A$5:$A$104,'Événements'!$F$5:$F$104)),"")) | E14: =IF($A14="","",IFERROR(_xlfn.XLOOKUP($A14,'Événements'!$A$5:$A$104,'Événements'!$H$5:$H$104)&"","")) | F14: =IF($A14="","",COUNTIF('Actions'!$B$5:$B$204,$A14)) | G14: =IF($A14="","",COUNTIFS('Actions'!$B$5:$B$204,$A14,'Actions'!$I$5:$I$204,"Terminé")) | H14: =IF($A14="","",IFERROR($G14/$F14,"")) | I14: =IF($A14="","",COUNTIFS('Actions'!$B$5:$B$204,$A14,'Actions'!$Q$5:$Q$204,"En retard")) | J14: =IF($A14="","",IFERROR(_xlfn.XLOOKUP($A14,'Événements'!$A$5:$A$104,'Événements'!$I$5:$I$104),"")) | K14: =IF($A14="","",SUMIFS('Actions'!$M$5:$M$204,'Actions'!$B$5:$B$204,$A14)) | L14: =IF($A14="","",IFERROR($J14-$K14,""))
B15: =IF($A15="","",IFERROR(_xlfn.XLOOKUP($A15,'Événements'!$A$5:$A$104,'Événements'!$B$5:$B$104)&"","")) | C15: =IF($A15="","",IFERROR(IF(_xlfn.XLOOKUP($A15,'Événements'!$A$5:$A$104,'Événements'!$E$5:$E$104)=0,"",_xlfn.XLOOKUP($A15,'Événements'!$A$5:$A$104,'Événements'!$E$5:$E$104)),"")) | D15: =IF($A15="","",IFERROR(IF(_xlfn.XLOOKUP($A15,'Événements'!$A$5:$A$104,'Événements'!$F$5:$F$104)=0,"",_xlfn.XLOOKUP($A15,'Événements'!$A$5:$A$104,'Événements'!$F$5:$F$104)),"")) | E15: =IF($A15="","",IFERROR(_xlfn.XLOOKUP($A15,'Événements'!$A$5:$A$104,'Événements'!$H$5:$H$104)&"","")) | F15: =IF($A15="","",COUNTIF('Actions'!$B$5:$B$204,$A15)) | G15: =IF($A15="","",COUNTIFS('Actions'!$B$5:$B$204,$A15,'Actions'!$I$5:$I$204,"Terminé")) | H15: =IF($A15="","",IFERROR($G15/$F15,"")) | I15: =IF($A15="","",COUNTIFS('Actions'!$B$5:$B$204,$A15,'Actions'!$Q$5:$Q$204,"En retard")) | J15: =IF($A15="","",IFERROR(_xlfn.XLOOKUP($A15,'Événements'!$A$5:$A$104,'Événements'!$I$5:$I$104),"")) | K15: =IF($A15="","",SUMIFS('Actions'!$M$5:$M$204,'Actions'!$B$5:$B$204,$A15)) | L15: =IF($A15="","",IFERROR($J15-$K15,""))
B16: =IF($A16="","",IFERROR(_xlfn.XLOOKUP($A16,'Événements'!$A$5:$A$104,'Événements'!$B$5:$B$104)&"","")) | C16: =IF($A16="","",IFERROR(IF(_xlfn.XLOOKUP($A16,'Événements'!$A$5:$A$104,'Événements'!$E$5:$E$104)=0,"",_xlfn.XLOOKUP($A16,'Événements'!$A$5:$A$104,'Événements'!$E$5:$E$104)),"")) | D16: =IF($A16="","",IFERROR(IF(_xlfn.XLOOKUP($A16,'Événements'!$A$5:$A$104,'Événements'!$F$5:$F$104)=0,"",_xlfn.XLOOKUP($A16,'Événements'!$A$5:$A$104,'Événements'!$F$5:$F$104)),"")) | E16: =IF($A16="","",IFERROR(_xlfn.XLOOKUP($A16,'Événements'!$A$5:$A$104,'Événements'!$H$5:$H$104)&"","")) | F16: =IF($A16="","",COUNTIF('Actions'!$B$5:$B$204,$A16)) | G16: =IF($A16="","",COUNTIFS('Actions'!$B$5:$B$204,$A16,'Actions'!$I$5:$I$204,"Terminé")) | H16: =IF($A16="","",IFERROR($G16/$F16,"")) | I16: =IF($A16="","",COUNTIFS('Actions'!$B$5:$B$204,$A16,'Actions'!$Q$5:$Q$204,"En retard")) | J16: =IF($A16="","",IFERROR(_xlfn.XLOOKUP($A16,'Événements'!$A$5:$A$104,'Événements'!$I$5:$I$104),"")) | K16: =IF($A16="","",SUMIFS('Actions'!$M$5:$M$204,'Actions'!$B$5:$B$204,$A16)) | L16: =IF($A16="","",IFERROR($J16-$K16,""))
B17: =IF($A17="","",IFERROR(_xlfn.XLOOKUP($A17,'Événements'!$A$5:$A$104,'Événements'!$B$5:$B$104)&"","")) | C17: =IF($A17="","",IFERROR(IF(_xlfn.XLOOKUP($A17,'Événements'!$A$5:$A$104,'Événements'!$E$5:$E$104)=0,"",_xlfn.XLOOKUP($A17,'Événements'!$A$5:$A$104,'Événements'!$E$5:$E$104)),"")) | D17: =IF($A17="","",IFERROR(IF(_xlfn.XLOOKUP($A17,'Événements'!$A$5:$A$104,'Événements'!$F$5:$F$104)=0,"",_xlfn.XLOOKUP($A17,'Événements'!$A$5:$A$104,'Événements'!$F$5:$F$104)),"")) | E17: =IF($A17="","",IFERROR(_xlfn.XLOOKUP($A17,'Événements'!$A$5:$A$104,'Événements'!$H$5:$H$104)&"","")) | F17: =IF($A17="","",COUNTIF('Actions'!$B$5:$B$204,$A17)) | G17: =IF($A17="","",COUNTIFS('Actions'!$B$5:$B$204,$A17,'Actions'!$I$5:$I$204,"Terminé")) | H17: =IF($A17="","",IFERROR($G17/$F17,"")) | I17: =IF($A17="","",COUNTIFS('Actions'!$B$5:$B$204,$A17,'Actions'!$Q$5:$Q$204,"En retard")) | J17: =IF($A17="","",IFERROR(_xlfn.XLOOKUP($A17,'Événements'!$A$5:$A$104,'Événements'!$I$5:$I$104),"")) | K17: =IF($A17="","",SUMIFS('Actions'!$M$5:$M$204,'Actions'!$B$5:$B$204,$A17)) | L17: =IF($A17="","",IFERROR($J17-$K17,""))
B18: =IF($A18="","",IFERROR(_xlfn.XLOOKUP($A18,'Événements'!$A$5:$A$104,'Événements'!$B$5:$B$104)&"","")) | C18: =IF($A18="","",IFERROR(IF(_xlfn.XLOOKUP($A18,'Événements'!$A$5:$A$104,'Événements'!$E$5:$E$104)=0,"",_xlfn.XLOOKUP($A18,'Événements'!$A$5:$A$104,'Événements'!$E$5:$E$104)),"")) | D18: =IF($A18="","",IFERROR(IF(_xlfn.XLOOKUP($A18,'Événements'!$A$5:$A$104,'Événements'!$F$5:$F$104)=0,"",_xlfn.XLOOKUP($A18,'Événements'!$A$5:$A$104,'Événements'!$F$5:$F$104)),"")) | E18: =IF($A18="","",IFERROR(_xlfn.XLOOKUP($A18,'Événements'!$A$5:$A$104,'Événements'!$H$5:$H$104)&"","")) | F18: =IF($A18="","",COUNTIF('Actions'!$B$5:$B$204,$A18)) | G18: =IF($A18="","",COUNTIFS('Actions'!$B$5:$B$204,$A18,'Actions'!$I$5:$I$204,"Terminé")) | H18: =IF($A18="","",IFERROR($G18/$F18,"")) | I18: =IF($A18="","",COUNTIFS('Actions'!$B$5:$B$204,$A18,'Actions'!$Q$5:$Q$204,"En retard")) | J18: =IF($A18="","",IFERROR(_xlfn.XLOOKUP($A18,'Événements'!$A$5:$A$104,'Événements'!$I$5:$I$104),"")) | K18: =IF($A18="","",SUMIFS('Actions'!$M$5:$M$204,'Actions'!$B$5:$B$204,$A18)) | L18: =IF($A18="","",IFERROR($J18-$K18,""))
B19: =IF($A19="","",IFERROR(_xlfn.XLOOKUP($A19,'Événements'!$A$5:$A$104,'Événements'!$B$5:$B$104)&"","")) | C19: =IF($A19="","",IFERROR(IF(_xlfn.XLOOKUP($A19,'Événements'!$A$5:$A$104,'Événements'!$E$5:$E$104)=0,"",_xlfn.XLOOKUP($A19,'Événements'!$A$5:$A$104,'Événements'!$E$5:$E$104)),"")) | D19: =IF($A19="","",IFERROR(IF(_xlfn.XLOOKUP($A19,'Événements'!$A$5:$A$104,'Événements'!$F$5:$F$104)=0,"",_xlfn.XLOOKUP($A19,'Événements'!$A$5:$A$104,'Événements'!$F$5:$F$104)),"")) | E19: =IF($A19="","",IFERROR(_xlfn.XLOOKUP($A19,'Événements'!$A$5:$A$104,'Événements'!$H$5:$H$104)&"","")) | F19: =IF($A19="","",COUNTIF('Actions'!$B$5:$B$204,$A19)) | G19: =IF($A19="","",COUNTIFS('Actions'!$B$5:$B$204,$A19,'Actions'!$I$5:$I$204,"Terminé")) | H19: =IF($A19="","",IFERROR($G19/$F19,"")) | I19: =IF($A19="","",COUNTIFS('Actions'!$B$5:$B$204,$A19,'Actions'!$Q$5:$Q$204,"En retard")) | J19: =IF($A19="","",IFERROR(_xlfn.XLOOKUP($A19,'Événements'!$A$5:$A$104,'Événements'!$I$5:$I$104),"")) | K19: =IF($A19="","",SUMIFS('Actions'!$M$5:$M$204,'Actions'!$B$5:$B$204,$A19)) | L19: =IF($A19="","",IFERROR($J19-$K19,""))
... B104: =IF($A104="","",IFERROR(_xlfn.XLOOKUP($A104,'Événements'!$A$5:$A$104,'Événements'!$B$5:$B$104)&"","")) | C104: =IF($A104="","",IFERROR(IF(_xlfn.XLOOKUP($A104,'Événements'!$A$5:$A$104,'Événements'!$E$5:$E$104)=0,"",_xlfn.XLOOKUP($A104,'Événements'!$A$5:$A$104,'Événements'!$E$5:$E$104)),"")) | D104: =IF($A104="","",IFERROR(IF(_xlfn.XLOOKUP($A104,'Événements'!$A$5:$A$104,'Événements'!$F$5:$F$104)=0,"",_xlfn.XLOOKUP($A104,'Événements'!$A$5:$A$104,'Événements'!$F$5:$F$104)),"")) | E104: =IF($A104="","",IFERROR(_xlfn.XLOOKUP($A104,'Événements'!$A$5:$A$104,'Événements'!$H$5:$H$104)&"","")) | F104: =IF($A104="","",COUNTIF('Actions'!$B$5:$B$204,$A104)) | G104: =IF($A104="","",COUNTIFS('Actions'!$B$5:$B$204,$A104,'Actions'!$I$5:$I$204,"Terminé")) | H104: =IF($A104="","",IFERROR($G104/$F104,"")) | I104: =IF($A104="","",COUNTIFS('Actions'!$B$5:$B$204,$A104,'Actions'!$Q$5:$Q$204,"En retard")) | J104: =IF($A104="","",IFERROR(_xlfn.XLOOKUP($A104,'Événements'!$A$5:$A$104,'Événements'!$I$5:$I$104),"")) | K104: =IF($A104="","",SUMIFS('Actions'!$M$5:$M$204,'Actions'!$B$5:$B$204,$A104)) | L104: =IF($A104="","",IFERROR($J104-$K104,""))

Sheet Événements
A1: Registre des événements
A2: Événements professionnels fictifs suivis simultanément par l’équipe de coordination.
A3: Cellules jaunes : saisie modifiable.
A4: ID événement | B4: Intitulé | C4: Type | D4: Site | E4: Début | F4: Fin | G4: Rôle pilote | H4: Statut | I4: Budget prévu | J4: Budget engagé | K4: Écart budget | L4: Notes
A5: EVT-001 | B5: Forum Atlas fictif | C5: Conférence | D5: Centre Atlas fictif | E5: 46279 | F5: 46283 | G5: Coordination | H5: En cours | I5: 3000 | J5: =IF($A5="","",SUMIFS('Actions'!$M$5:$M$204,'Actions'!$B$5:$B$204,$A5)) | K5: =IF($I5="","",$I5-$J5) | L5: Budget volontairement serré pour tester l’alerte interne.
A6: EVT-002 | B6: Atelier Boréal fictif | C6: Atelier | D6: Espace Boréal fictif | E6: 46293 | F6: 46297 | G6: Logistique | H6: Planifié | I6: 4200 | J6: =IF($A6="","",SUMIFS('Actions'!$M$5:$M$204,'Actions'!$B$5:$B$204,$A6)) | K6: =IF($I6="","",$I6-$J6) | L6: Préparation technique et accueil interne.
A7: EVT-003 | B7: Séminaire Quartz fictif | C7: Séminaire | D7: Pavillon Quartz fictif | E7: 46314 | F7: 46318 | G7: Coordination | H7: À planifier | I7: 2500 | J7: =IF($A7="","",SUMIFS('Actions'!$M$5:$M$204,'Actions'!$B$5:$B$204,$A7)) | K7: =IF($I7="","",$I7-$J7) | L7: Exemple entièrement fictif.
J8: =IF($A8="","",SUMIFS('Actions'!$M$5:$M$204,'Actions'!$B$5:$B$204,$A8)) | K8: =IF($I8="","",$I8-$J8)
J9: =IF($A9="","",SUMIFS('Actions'!$M$5:$M$204,'Actions'!$B$5:$B$204,$A9)) | K9: =IF($I9="","",$I9-$J9)
J10: =IF($A10="","",SUMIFS('Actions'!$M$5:$M$204,'Actions'!$B$5:$B$204,$A10)) | K10: =IF($I10="","",$I10-$J10)
J11: =IF($A11="","",SUMIFS('Actions'!$M$5:$M$204,'Actions'!$B$5:$B$204,$A11)) | K11: =IF($I11="","",$I11-$J11)
J12: =IF($A12="","",SUMIFS('Actions'!$M$5:$M$204,'Actions'!$B$5:$B$204,$A12)) | K12: =IF($I12="","",$I12-$J12)
J13: =IF($A13="","",SUMIFS('Actions'!$M$5:$M$204,'Actions'!$B$5:$B$204,$A13)) | K13: =IF($I13="","",$I13-$J13)
J14: =IF($A14="","",SUMIFS('Actions'!$M$5:$M$204,'Actions'!$B$5:$B$204,$A14)) | K14: =IF($I14="","",$I14-$J14)
J15: =IF($A15="","",SUMIFS('Actions'!$M$5:$M$204,'Actions'!$B$5:$B$204,$A15)) | K15: =IF($I15="","",$I15-$J15)
J16: =IF($A16="","",SUMIFS('Actions'!$M$5:$M$204,'Actions'!$B$5:$B$204,$A16)) | K16: =IF($I16="","",$I16-$J16)
J17: =IF($A17="","",SUMIFS('Actions'!$M$5:$M$204,'Actions'!$B$5:$B$204,$A17)) | K17: =IF($I17="","",$I17-$J17)
J18: =IF($A18="","",SUMIFS('Actions'!$M$5:$M$204,'Actions'!$B$5:$B$204,$A18)) | K18: =IF($I18="","",$I18-$J18)
J19: =IF($A19="","",SUMIFS('Actions'!$M$5:$M$204,'Actions'!$B$5:$B$204,$A19)) | K19: =IF($I19="","",$I19-$J19)
... J104: =IF($A104="","",SUMIFS('Actions'!$M$5:$M$204,'Actions'!$B$5:$B$204,$A104)) | K104: =IF($I104="","",$I104-$J104)

Sheet Actions
A1: Planning détaillé des actions
A2: Planification opérationnelle fictive avec contrôles de période, de retard et de chevauchement des ressources.
A3: Cellules jaunes : saisie modifiable.
A4: ID action | B4: ID événement | C4: Phase | D4: Action | E4: Début | F4: Fin | G4: Durée en jours | H4: Priorité | I4: Statut | J4: Rôle affecté | K4: Ressource | L4: Charge prévue (h) | M4: Montant prévu | N4: Avancement | O4: ID dépendance | P4: Alerte période | Q4: Alerte retard | R4: Alerte ressource
A5: ACT-001 | B5: EVT-001 | C5: Cadrage | D5: Cadrage | E5: 46279 | F5: 46280 | G5: =IF(OR($E5="",$F5=""),"",$F5-$E5+1) | H5: Haute | I5: Terminé | J5: Coordination | K5: Dossier Atlas fictif | L5: 12 | M5: 600 | N5: 1 | P5: =IF(OR($B5="",$E5="",$F5=""),"",IFERROR(IF(OR($E5<_xlfn.XLOOKUP($B5,'Événements'!$A$5:$A$104,'Événements'!$E$5:$E$104),$F5>_xlfn.XLOOKUP($B5,'Événements'!$A$5:$A$104,'Événements'!$F$5:$F$104)),"Hors période",""),"ID inconnu")) | Q5: =IF(OR($F5="",$I5="Terminé",$I5="Annulé"),"",IF($F5<Paramètres!$B$2,"En retard","")) | R5: =IF(OR($K5="",$E5="",$F5=""),"",IF(COUNTIFS('Actions'!$K$5:$K$204,$K5,'Actions'!$E$5:$E$204,"<="&$F5,'Actions'!$F$5:$F$204,">="&$E5)>1,"Conflit",""))
A6: ACT-002 | B6: EVT-001 | C6: Logistique | D6: Réservation d’espace interne | E6: 46280 | F6: 46281 | G6: =IF(OR($E6="",$F6=""),"",$F6-$E6+1) | H6: Normale | I6: En cours | J6: Logistique | K6: Salle Comète fictive | L6: 16 | M6: 1200 | N6: 0.6 | O6: ACT-001 | P6: =IF(OR($B6="",$E6="",$F6=""),"",IFERROR(IF(OR($E6<_xlfn.XLOOKUP($B6,'Événements'!$A$5:$A$104,'Événements'!$E$5:$E$104),$F6>_xlfn.XLOOKUP($B6,'Événements'!$A$5:$A$104,'Événements'!$F$5:$F$104)),"Hors période",""),"ID inconnu")) | Q6: =IF(OR($F6="",$I6="Terminé",$I6="Annulé"),"",IF($F6<Paramètres!$B$2,"En retard","")) | R6: =IF(OR($K6="",$E6="",$F6=""),"",IF(COUNTIFS('Actions'!$K$5:$K$204,$K6,'Actions'!$E$5:$E$204,"<="&$F6,'Actions'!$F$5:$F$204,">="&$E6)>1,"Conflit",""))
A7: ACT-003 | B7: EVT-001 | C7: Préparation | D7: Programme | E7: 46281 | F7: 46283 | G7: =IF(OR($E7="",$F7=""),"",$F7-$E7+1) | H7: Critique | I7: Bloqué | J7: Coordination | K7: Salle Comète fictive | L7: 20 | M7: 900 | N7: 0.3 | O7: ACT-002 | P7: =IF(OR($B7="",$E7="",$F7=""),"",IFERROR(IF(OR($E7<_xlfn.XLOOKUP($B7,'Événements'!$A$5:$A$104,'Événements'!$E$5:$E$104),$F7>_xlfn.XLOOKUP($B7,'Événements'!$A$5:$A$104,'Événements'!$F$5:$F$104)),"Hors période",""),"ID inconnu")) | Q7: =IF(OR($F7="",$I7="Terminé",$I7="Annulé"),"",IF($F7<Paramètres!$B$2,"En retard","")) | R7: =IF(OR($K7="",$E7="",$F7=""),"",IF(COUNTIFS('Actions'!$K$5:$K$204,$K7,'Actions'!$E$5:$E$204,"<="&$F7,'Actions'!$F$5:$F$204,">="&$E7)>1,"Conflit",""))
A8: ACT-004 | B8: EVT-001 | C8: Communication | D8: Support visuel | E8: 46283 | F8: 46284 | G8: =IF(OR($E8="",$F8=""),"",$F8-$E8+1) | H8: Haute | I8: Planifié | J8: Communication | K8: Studio interne fictif | L8: 14 | M8: 800 | N8: 0 | O8: ACT-003 | P8: =IF(OR($B8="",$E8="",$F8=""),"",IFERROR(IF(OR($E8<_xlfn.XLOOKUP($B8,'Événements'!$A$5:$A$104,'Événements'!$E$5:$E$104),$F8>_xlfn.XLOOKUP($B8,'Événements'!$A$5:$A$104,'Événements'!$F$5:$F$104)),"Hors période",""),"ID inconnu")) | Q8: =IF(OR($F8="",$I8="Terminé",$I8="Annulé"),"",IF($F8<Paramètres!$B$2,"En retard","")) | R8: =IF(OR($K8="",$E8="",$F8=""),"",IF(COUNTIFS('Actions'!$K$5:$K$204,$K8,'Actions'!$E$5:$E$204,"<="&$F8,'Actions'!$F$5:$F$204,">="&$E8)>1,"Conflit",""))
A9: ACT-005 | B9: EVT-002 | C9: Logistique | D9: Test matériel | E9: 46293 | F9: 46294 | G9: =IF(OR($E9="",$F9=""),"",$F9-$E9+1) | H9: Haute | I9: En cours | J9: Technique | K9: Kit audiovisuel fictif | L9: 10 | M9: 700 | N9: 0.5 | P9: =IF(OR($B9="",$E9="",$F9=""),"",IFERROR(IF(OR($E9<_xlfn.XLOOKUP($B9,'Événements'!$A$5:$A$104,'Événements'!$E$5:$E$104),$F9>_xlfn.XLOOKUP($B9,'Événements'!$A$5:$A$104,'Événements'!$F$5:$F$104)),"Hors période",""),"ID inconnu")) | Q9: =IF(OR($F9="",$I9="Terminé",$I9="Annulé"),"",IF($F9<Paramètres!$B$2,"En retard","")) | R9: =IF(OR($K9="",$E9="",$F9=""),"",IF(COUNTIFS('Actions'!$K$5:$K$204,$K9,'Actions'!$E$5:$E$204,"<="&$F9,'Actions'!$F$5:$F$204,">="&$E9)>1,"Conflit",""))
A10: ACT-006 | B10: EVT-002 | C10: Exploitation | D10: Accueil | E10: 46294 | F10: 46295 | G10: =IF(OR($E10="",$F10=""),"",$F10-$E10+1) | H10: Normale | I10: Planifié | J10: Accueil | K10: Point accueil Boréal fictif | L10: 18 | M10: 1100 | N10: 0 | O10: ACT-005 | P10: =IF(OR($B10="",$E10="",$F10=""),"",IFERROR(IF(OR($E10<_xlfn.XLOOKUP($B10,'Événements'!$A$5:$A$104,'Événements'!$E$5:$E$104),$F10>_xlfn.XLOOKUP($B10,'Événements'!$A$5:$A$104,'Événements'!$F$5:$F$104)),"Hors période",""),"ID inconnu")) | Q10: =IF(OR($F10="",$I10="Terminé",$I10="Annulé"),"",IF($F10<Paramètres!$B$2,"En retard","")) | R10: =IF(OR($K10="",$E10="",$F10=""),"",IF(COUNTIFS('Actions'!$K$5:$K$204,$K10,'Actions'!$E$5:$E$204,"<="&$F10,'Actions'!$F$5:$F$204,">="&$E10)>1,"Conflit",""))
A11: ACT-007 | B11: EVT-003 | C11: Clôture | D11: Bilan | E11: 46317 | F11: 46318 | G11: =IF(OR($E11="",$F11=""),"",$F11-$E11+1) | H11: Basse | I11: À planifier | J11: Coordination | K11: Dossier Quartz fictif | L11: 8 | M11: 400 | N11: 0 | P11: =IF(OR($B11="",$E11="",$F11=""),"",IFERROR(IF(OR($E11<_xlfn.XLOOKUP($B11,'Événements'!$A$5:$A$104,'Événements'!$E$5:$E$104),$F11>_xlfn.XLOOKUP($B11,'Événements'!$A$5:$A$104,'Événements'!$F$5:$F$104)),"Hors période",""),"ID inconnu")) | Q11: =IF(OR($F11="",$I11="Terminé",$I11="Annulé"),"",IF($F11<Paramètres!$B$2,"En retard","")) | R11: =IF(OR($K11="",$E11="",$F11=""),"",IF(COUNTIFS('Actions'!$K$5:$K$204,$K11,'Actions'!$E$5:$E$204,"<="&$F11,'Actions'!$F$5:$F$204,">="&$E11)>1,"Conflit",""))
G12: =IF(OR($E12="",$F12=""),"",$F12-$E12+1) | P12: =IF(OR($B12="",$E12="",$F12=""),"",IFERROR(IF(OR($E12<_xlfn.XLOOKUP($B12,'Événements'!$A$5:$A$104,'Événements'!$E$5:$E$104),$F12>_xlfn.XLOOKUP($B12,'Événements'!$A$5:$A$104,'Événements'!$F$5:$F$104)),"Hors période",""),"ID inconnu")) | Q12: =IF(OR($F12="",$I12="Terminé",$I12="Annulé"),"",IF($F12<Paramètres!$B$2,"En retard","")) | R12: =IF(OR($K12="",$E12="",$F12=""),"",IF(COUNTIFS('Actions'!$K$5:$K$204,$K12,'Actions'!$E$5:$E$204,"<="&$F12,'Actions'!$F$5:$F$204,">="&$E12)>1,"Conflit",""))
G13: =IF(OR($E13="",$F13=""),"",$F13-$E13+1) | P13: =IF(OR($B13="",$E13="",$F13=""),"",IFERROR(IF(OR($E13<_xlfn.XLOOKUP($B13,'Événements'!$A$5:$A$104,'Événements'!$E$5:$E$104),$F13>_xlfn.XLOOKUP($B13,'Événements'!$A$5:$A$104,'Événements'!$F$5:$F$104)),"Hors période",""),"ID inconnu")) | Q13: =IF(OR($F13="",$I13="Terminé",$I13="Annulé"),"",IF($F13<Paramètres!$B$2,"En retard","")) | R13: =IF(OR($K13="",$E13="",$F13=""),"",IF(COUNTIFS('Actions'!$K$5:$K$204,$K13,'Actions'!$E$5:$E$204,"<="&$F13,'Actions'!$F$5:$F$204,">="&$E13)>1,"Conflit",""))
G14: =IF(OR($E14="",$F14=""),"",$F14-$E14+1) | P14: =IF(OR($B14="",$E14="",$F14=""),"",IFERROR(IF(OR($E14<_xlfn.XLOOKUP($B14,'Événements'!$A$5:$A$104,'Événements'!$E$5:$E$104),$F14>_xlfn.XLOOKUP($B14,'Événements'!$A$5:$A$104,'Événements'!$F$5:$F$104)),"Hors période",""),"ID inconnu")) | Q14: =IF(OR($F14="",$I14="Terminé",$I14="Annulé"),"",IF($F14<Paramètres!$B$2,"En retard","")) | R14: =IF(OR($K14="",$E14="",$F14=""),"",IF(COUNTIFS('Actions'!$K$5:$K$204,$K14,'Actions'!$E$5:$E$204,"<="&$F14,'Actions'!$F$5:$F$204,">="&$E14)>1,"Conflit",""))
G15: =IF(OR($E15="",$F15=""),"",$F15-$E15+1) | P15: =IF(OR($B15="",$E15="",$F15=""),"",IFERROR(IF(OR($E15<_xlfn.XLOOKUP($B15,'Événements'!$A$5:$A$104,'Événements'!$E$5:$E$104),$F15>_xlfn.XLOOKUP($B15,'Événements'!$A$5:$A$104,'Événements'!$F$5:$F$104)),"Hors période",""),"ID inconnu")) | Q15: =IF(OR($F15="",$I15="Terminé",$I15="Annulé"),"",IF($F15<Paramètres!$B$2,"En retard","")) | R15: =IF(OR($K15="",$E15="",$F15=""),"",IF(COUNTIFS('Actions'!$K$5:$K$204,$K15,'Actions'!$E$5:$E$204,"<="&$F15,'Actions'!$F$5:$F$204,">="&$E15)>1,"Conflit",""))
G16: =IF(OR($E16="",$F16=""),"",$F16-$E16+1) | P16: =IF(OR($B16="",$E16="",$F16=""),"",IFERROR(IF(OR($E16<_xlfn.XLOOKUP($B16,'Événements'!$A$5:$A$104,'Événements'!$E$5:$E$104),$F16>_xlfn.XLOOKUP($B16,'Événements'!$A$5:$A$104,'Événements'!$F$5:$F$104)),"Hors période",""),"ID inconnu")) | Q16: =IF(OR($F16="",$I16="Terminé",$I16="Annulé"),"",IF($F16<Paramètres!$B$2,"En retard","")) | R16: =IF(OR($K16="",$E16="",$F16=""),"",IF(COUNTIFS('Actions'!$K$5:$K$204,$K16,'Actions'!$E$5:$E$204,"<="&$F16,'Actions'!$F$5:$F$204,">="&$E16)>1,"Conflit",""))
G17: =IF(OR($E17="",$F17=""),"",$F17-$E17+1) | P17: =IF(OR($B17="",$E17="",$F17=""),"",IFERROR(IF(OR($E17<_xlfn.XLOOKUP($B17,'Événements'!$A$5:$A$104,'Événements'!$E$5:$E$104),$F17>_xlfn.XLOOKUP($B17,'Événements'!$A$5:$A$104,'Événements'!$F$5:$F$104)),"Hors période",""),"ID inconnu")) | Q17: =IF(OR($F17="",$I17="Terminé",$I17="Annulé"),"",IF($F17<Paramètres!$B$2,"En retard","")) | R17: =IF(OR($K17="",$E17="",$F17=""),"",IF(COUNTIFS('Actions'!$K$5:$K$204,$K17,'Actions'!$E$5:$E$204,"<="&$F17,'Actions'!$F$5:$F$204,">="&$E17)>1,"Conflit",""))
G18: =IF(OR($E18="",$F18=""),"",$F18-$E18+1) | P18: =IF(OR($B18="",$E18="",$F18=""),"",IFERROR(IF(OR($E18<_xlfn.XLOOKUP($B18,'Événements'!$A$5:$A$104,'Événements'!$E$5:$E$104),$F18>_xlfn.XLOOKUP($B18,'Événements'!$A$5:$A$104,'Événements'!$F$5:$F$104)),"Hors période",""),"ID inconnu")) | Q18: =IF(OR($F18="",$I18="Terminé",$I18="Annulé"),"",IF($F18<Paramètres!$B$2,"En retard","")) | R18: =IF(OR($K18="",$E18="",$F18=""),"",IF(COUNTIFS('Actions'!$K$5:$K$204,$K18,'Actions'!$E$5:$E$204,"<="&$F18,'Actions'!$F$5:$F$204,">="&$E18)>1,"Conflit",""))
G19: =IF(OR($E19="",$F19=""),"",$F19-$E19+1) | P19: =IF(OR($B19="",$E19="",$F19=""),"",IFERROR(IF(OR($E19<_xlfn.XLOOKUP($B19,'Événements'!$A$5:$A$104,'Événements'!$E$5:$E$104),$F19>_xlfn.XLOOKUP($B19,'Événements'!$A$5:$A$104,'Événements'!$F$5:$F$104)),"Hors période",""),"ID inconnu")) | Q19: =IF(OR($F19="",$I19="Terminé",$I19="Annulé"),"",IF($F19<Paramètres!$B$2,"En retard","")) | R19: =IF(OR($K19="",$E19="",$F19=""),"",IF(COUNTIFS('Actions'!$K$5:$K$204,$K19,'Actions'!$E$5:$E$204,"<="&$F19,'Actions'!$F$5:$F$204,">="&$E19)>1,"Conflit",""))
G20: =IF(OR($E20="",$F20=""),"",$F20-$E20+1) | P20: =IF(OR($B20="",$E20="",$F20=""),"",IFERROR(IF(OR($E20<_xlfn.XLOOKUP($B20,'Événements'!$A$5:$A$104,'Événements'!$E$5:$E$104),$F20>_xlfn.XLOOKUP($B20,'Événements'!$A$5:$A$104,'Événements'!$F$5:$F$104)),"Hors période",""),"ID inconnu")) | Q20: =IF(OR($F20="",$I20="Terminé",$I20="Annulé"),"",IF($F20<Paramètres!$B$2,"En retard","")) | R20: =IF(OR($K20="",$E20="",$F20=""),"",IF(COUNTIFS('Actions'!$K$5:$K$204,$K20,'Actions'!$E$5:$E$204,"<="&$F20,'Actions'!$F$5:$F$204,">="&$E20)>1,"Conflit",""))
G21: =IF(OR($E21="",$F21=""),"",$F21-$E21+1) | P21: =IF(OR($B21="",$E21="",$F21=""),"",IFERROR(IF(OR($E21<_xlfn.XLOOKUP($B21,'Événements'!$A$5:$A$104,'Événements'!$E$5:$E$104),$F21>_xlfn.XLOOKUP($B21,'Événements'!$A$5:$A$104,'Événements'!$F$5:$F$104)),"Hors période",""),"ID inconnu")) | Q21: =IF(OR($F21="",$I21="Terminé",$I21="Annulé"),"",IF($F21<Paramètres!$B$2,"En retard","")) | R21: =IF(OR($K21="",$E21="",$F21=""),"",IF(COUNTIFS('Actions'!$K$5:$K$204,$K21,'Actions'!$E$5:$E$204,"<="&$F21,'Actions'!$F$5:$F$204,">="&$E21)>1,"Conflit",""))
G22: =IF(OR($E22="",$F22=""),"",$F22-$E22+1) | P22: =IF(OR($B22="",$E22="",$F22=""),"",IFERROR(IF(OR($E22<_xlfn.XLOOKUP($B22,'Événements'!$A$5:$A$104,'Événements'!$E$5:$E$104),$F22>_xlfn.XLOOKUP($B22,'Événements'!$A$5:$A$104,'Événements'!$F$5:$F$104)),"Hors période",""),"ID inconnu")) | Q22: =IF(OR($F22="",$I22="Terminé",$I22="Annulé"),"",IF($F22<Paramètres!$B$2,"En retard","")) | R22: =IF(OR($K22="",$E22="",$F22=""),"",IF(COUNTIFS('Actions'!$K$5:$K$204,$K22,'Actions'!$E$5:$E$204,"<="&$F22,'Actions'!$F$5:$F$204,">="&$E22)>1,"Conflit",""))
G23: =IF(OR($E23="",$F23=""),"",$F23-$E23+1) | P23: =IF(OR($B23="",$E23="",$F23=""),"",IFERROR(IF(OR($E23<_xlfn.XLOOKUP($B23,'Événements'!$A$5:$A$104,'Événements'!$E$5:$E$104),$F23>_xlfn.XLOOKUP($B23,'Événements'!$A$5:$A$104,'Événements'!$F$5:$F$104)),"Hors période",""),"ID inconnu")) | Q23: =IF(OR($F23="",$I23="Terminé",$I23="Annulé"),"",IF($F23<Paramètres!$B$2,"En retard","")) | R23: =IF(OR($K23="",$E23="",$F23=""),"",IF(COUNTIFS('Actions'!$K$5:$K$204,$K23,'Actions'!$E$5:$E$204,"<="&$F23,'Actions'!$F$5:$F$204,">="&$E23)>1,"Conflit",""))
... G204: =IF(OR($E204="",$F204=""),"",$F204-$E204+1) | P204: =IF(OR($B204="",$E204="",$F204=""),"",IFERROR(IF(OR($E204<_xlfn.XLOOKUP($B204,'Événements'!$A$5:$A$104,'Événements'!$E$5:$E$104),$F204>_xlfn.XLOOKUP($B204,'Événements'!$A$5:$A$104,'Événements'!$F$5:$F$104)),"Hors période",""),"ID inconnu")) | Q204: =IF(OR($F204="",$I204="Terminé",$I204="Annulé"),"",IF($F204<Paramètres!$B$2,"En retard","")) | R204: =IF(OR($K204="",$E204="",$F204=""),"",IF(COUNTIFS('Actions'!$K$5:$K$204,$K204,'Actions'!$E$5:$E$204,"<="&$F204,'Actions'!$F$5:$F$204,">="&$E204)>1,"Conflit",""))

Sheet Paramètres
A1: Paramètres et contrôles internes
A2: Date de suivi | B2: 46273 | F2: Contrôle | G2: Résultat
F3: Total des actions | G3: =SUM('Actions'!$M$5:$M$204)
A4: Statuts | B4: Priorités | C4: Types | D4: Phases | F4: Total engagé des événements | G4: =SUM('Événements'!$J$5:$J$104)
A5: À planifier | B5: Basse | C5: Séminaire | D5: Cadrage | F5: Total repris en synthèse | G5: =SUM('Synthèse'!$K$5:$K$104)
A6: Planifié | B6: Normale | C6: Conférence | D6: Préparation | F6: Concordance des totaux | G6: =IF(AND(G3=G4,G3=G5),"Concordant","À vérifier")
A7: En cours | B7: Haute | C7: Salon professionnel | D7: Logistique | F7: Alertes de structure | G7: Nombre
A8: Bloqué | B8: Critique | C8: Atelier | D8: Communication | F8: ID événement dupliqués | G8: =SUMPRODUCT(--('Événements'!$A$5:$A$104<>""),--(COUNTIF('Événements'!$A$5:$A$104,'Événements'!$A$5:$A$104)>1))
A9: Terminé | C9: Réunion interne | D9: Exploitation | F9: ID action dupliqués | G9: =SUMPRODUCT(--('Actions'!$A$5:$A$204<>""),--(COUNTIF('Actions'!$A$5:$A$204,'Actions'!$A$5:$A$204)>1))
A10: Annulé | D10: Clôture | F10: Dates inversées | G10: =SUMPRODUCT(--('Événements'!$E$5:$E$104<>""),--('Événements'!$F$5:$F$104<>""),--('Événements'!$F$5:$F$104<'Événements'!$E$5:$E$104))+SUMPRODUCT(--('Actions'!$E$5:$E$204<>""),--('Actions'!$F$5:$F$204<>""),--('Actions'!$F$5:$F$204<'Actions'!$E$5:$E$204))
F11: Références événement inconnues | G11: =SUMPRODUCT(--('Actions'!$B$5:$B$204<>""),--(COUNTIF('Événements'!$A$5:$A$104,'Actions'!$B$5:$B$204)=0))
A12: Repères d’utilisation | F12: Conflits de ressource | G12: =COUNTIF('Actions'!$R$5:$R$204,"Conflit")
A13: Les listes et la date de suivi sont modifiables dans les cellules jaunes. | F13: Actions en retard | G13: =COUNTIF('Actions'!$Q$5:$Q$204,"En retard")
A14: Les contrôles servent à repérer les écarts avant arbitrage par la coordination. | F14: Budgets dépassés | G14: =COUNTIF('Événements'!$K$5:$K$104,"<0")
A15: Ce fichier est un outil interne fictif, sans valeur officielle ni garantie de conformité. | F15: Actions hors période | G15: =COUNTIF('Actions'!$P$5:$P$204,"Hors période")
