Workbook

Sheet Synthèse
A1: Synthèse opérationnelle | B1: Valeur
A2: Événement | B2: =Paramètres!B3
A3: Date de référence | B3: =Paramètres!B2
A4: Suivi des inscriptions
A5: Dossiers enregistrés | B5: =COUNTIF('Inscriptions'!$A$2:$A$101,"<>")
A6: À confirmer | B6: =COUNTIFS('Inscriptions'!$H$2:$H$101,A6,'Inscriptions'!$A$2:$A$101,"<>")
A7: Confirmée | B7: =COUNTIFS('Inscriptions'!$H$2:$H$101,A7,'Inscriptions'!$A$2:$A$101,"<>")
A8: Liste d’attente | B8: =COUNTIFS('Inscriptions'!$H$2:$H$101,A8,'Inscriptions'!$A$2:$A$101,"<>")
A9: Annulée | B9: =COUNTIFS('Inscriptions'!$H$2:$H$101,A9,'Inscriptions'!$A$2:$A$101,"<>")
A10: Capacité et relances
A11: Sessions complètes | B11: =COUNTIF('Sessions'!$I$2:$I$101,"Complet")
A12: Sessions en dépassement | B12: =COUNTIF('Sessions'!$I$2:$I$101,"Dépassement")
A13: Relances à effectuer | B13: =COUNTIFS('Inscriptions'!$N$2:$N$101,"Relance à effectuer",'Inscriptions'!$A$2:$A$101,"<>")
A14: Capacité totale | B14: =SUM('Sessions'!$F$2:$F$101)
A15: Inscriptions confirmées | B15: =SUM('Sessions'!$G$2:$G$101)
A16: Taux de remplissage | B16: =IFERROR(SUM('Sessions'!$G$2:$G$101)/SUM('Sessions'!$F$2:$F$101),0)
A17: Sessions inconnues | B17: =COUNTIFS('Inscriptions'!$N$2:$N$101,"Session inconnue",'Inscriptions'!$A$2:$A$101,"<>")

Sheet Paramètres
A1: Paramètre | B1: Valeur | D1: Statuts autorisés | E1: Modes autorisés | F1: Besoins logistiques
A2: Date de référence | B2: 46273 | D2: À confirmer | E2: Sur place | F2: Aucun
A3: Nom de l’événement | B3: Forum professionnel fictif 2026 | D3: Confirmée | E3: À distance | F3: Accès spécifique
A4: Début | B4: 46310 | D4: Liste d’attente | F4: Régime alimentaire
A5: Fin | B5: 46311 | D5: Annulée | F5: Autre
A7: Périmètre | B7: Suivi interne et manuel des inscriptions, des affectations, des relances et des capacités.

Sheet Sessions
A1: Code session | B1: Intitulé | C1: Date | D1: Heure début | E1: Heure fin | F1: Capacité | G1: Inscriptions confirmées | H1: Places restantes | I1: État capacité
A2: SES-F01 | B2: Accueil fictif et cadrage | C2: 46310 | D2: 0.375 | E2: 0.4375 | F2: 3 | G2: =COUNTIFS('Inscriptions'!$F$2:$F$101,$A2,'Inscriptions'!$H$2:$H$101,"Confirmée") | H2: =IF($F2="","",$F2-$G2) | I2: =IF($F2="","",IF($H2<0,"Dépassement",IF($H2=0,"Complet","Disponible")))
A3: SES-F02 | B3: Atelier fictif des flux | C3: 46310 | D3: 0.45833333 | E3: 0.52083333 | F3: 2 | G3: =COUNTIFS('Inscriptions'!$F$2:$F$101,$A3,'Inscriptions'!$H$2:$H$101,"Confirmée") | H3: =IF($F3="","",$F3-$G3) | I3: =IF($F3="","",IF($H3<0,"Dépassement",IF($H3=0,"Complet","Disponible")))
A4: SES-F03 | B4: Clôture fictive et synthèse | C4: 46311 | D4: 0.58333333 | E4: 0.64583333 | F4: 1 | G4: =COUNTIFS('Inscriptions'!$F$2:$F$101,$A4,'Inscriptions'!$H$2:$H$101,"Confirmée") | H4: =IF($F4="","",$F4-$G4) | I4: =IF($F4="","",IF($H4<0,"Dépassement",IF($H4=0,"Complet","Disponible")))
G5: =COUNTIFS('Inscriptions'!$F$2:$F$101,$A5,'Inscriptions'!$H$2:$H$101,"Confirmée") | H5: =IF($F5="","",$F5-$G5) | I5: =IF($F5="","",IF($H5<0,"Dépassement",IF($H5=0,"Complet","Disponible")))
G6: =COUNTIFS('Inscriptions'!$F$2:$F$101,$A6,'Inscriptions'!$H$2:$H$101,"Confirmée") | H6: =IF($F6="","",$F6-$G6) | I6: =IF($F6="","",IF($H6<0,"Dépassement",IF($H6=0,"Complet","Disponible")))
G7: =COUNTIFS('Inscriptions'!$F$2:$F$101,$A7,'Inscriptions'!$H$2:$H$101,"Confirmée") | H7: =IF($F7="","",$F7-$G7) | I7: =IF($F7="","",IF($H7<0,"Dépassement",IF($H7=0,"Complet","Disponible")))
G8: =COUNTIFS('Inscriptions'!$F$2:$F$101,$A8,'Inscriptions'!$H$2:$H$101,"Confirmée") | H8: =IF($F8="","",$F8-$G8) | I8: =IF($F8="","",IF($H8<0,"Dépassement",IF($H8=0,"Complet","Disponible")))
G9: =COUNTIFS('Inscriptions'!$F$2:$F$101,$A9,'Inscriptions'!$H$2:$H$101,"Confirmée") | H9: =IF($F9="","",$F9-$G9) | I9: =IF($F9="","",IF($H9<0,"Dépassement",IF($H9=0,"Complet","Disponible")))
G10: =COUNTIFS('Inscriptions'!$F$2:$F$101,$A10,'Inscriptions'!$H$2:$H$101,"Confirmée") | H10: =IF($F10="","",$F10-$G10) | I10: =IF($F10="","",IF($H10<0,"Dépassement",IF($H10=0,"Complet","Disponible")))
G11: =COUNTIFS('Inscriptions'!$F$2:$F$101,$A11,'Inscriptions'!$H$2:$H$101,"Confirmée") | H11: =IF($F11="","",$F11-$G11) | I11: =IF($F11="","",IF($H11<0,"Dépassement",IF($H11=0,"Complet","Disponible")))
G12: =COUNTIFS('Inscriptions'!$F$2:$F$101,$A12,'Inscriptions'!$H$2:$H$101,"Confirmée") | H12: =IF($F12="","",$F12-$G12) | I12: =IF($F12="","",IF($H12<0,"Dépassement",IF($H12=0,"Complet","Disponible")))
G13: =COUNTIFS('Inscriptions'!$F$2:$F$101,$A13,'Inscriptions'!$H$2:$H$101,"Confirmée") | H13: =IF($F13="","",$F13-$G13) | I13: =IF($F13="","",IF($H13<0,"Dépassement",IF($H13=0,"Complet","Disponible")))
G14: =COUNTIFS('Inscriptions'!$F$2:$F$101,$A14,'Inscriptions'!$H$2:$H$101,"Confirmée") | H14: =IF($F14="","",$F14-$G14) | I14: =IF($F14="","",IF($H14<0,"Dépassement",IF($H14=0,"Complet","Disponible")))
G15: =COUNTIFS('Inscriptions'!$F$2:$F$101,$A15,'Inscriptions'!$H$2:$H$101,"Confirmée") | H15: =IF($F15="","",$F15-$G15) | I15: =IF($F15="","",IF($H15<0,"Dépassement",IF($H15=0,"Complet","Disponible")))
G16: =COUNTIFS('Inscriptions'!$F$2:$F$101,$A16,'Inscriptions'!$H$2:$H$101,"Confirmée") | H16: =IF($F16="","",$F16-$G16) | I16: =IF($F16="","",IF($H16<0,"Dépassement",IF($H16=0,"Complet","Disponible")))
... G101: =COUNTIFS('Inscriptions'!$F$2:$F$101,$A101,'Inscriptions'!$H$2:$H$101,"Confirmée") | H101: =IF($F101="","",$F101-$G101) | I101: =IF($F101="","",IF($H101<0,"Dépassement",IF($H101=0,"Complet","Disponible")))

Sheet Inscriptions
A1: ID inscription | B1: Date d’inscription | C1: Participant | D1: Organisation | E1: Courriel | F1: Code session | G1: Mode | H1: Statut | I1: Besoin logistique | J1: Date de relance | K1: Commentaire | L1: Capacité session | M1: Places restantes | N1: Alerte
A2: INS-F001 | B2: 46259 | C2: Participant fictif A | D2: Société fictive Alpha | E2: participant.a@example.invalid | F2: SES-F01 | G2: Sur place | H2: Confirmée | I2: Aucun | K2: Accueil fictif prévu. | L2: =IF($F2="","",IFERROR(_xlfn.XLOOKUP($F2,'Sessions'!$A$2:$A$101,'Sessions'!$F$2:$F$101),"")) | M2: =IF($F2="","",IFERROR(_xlfn.XLOOKUP($F2,'Sessions'!$A$2:$A$101,'Sessions'!$H$2:$H$101),"")) | N2: =IF($A2="","",IF($F2="","Session manquante",IF($L2="","Session inconnue",IF(AND($H2="À confirmer",$J2<>"",$J2<=Paramètres!$B$2),"Relance à effectuer",IF($M2<0,"Capacité dépassée","")))))
A3: INS-F002 | B3: 46260 | C3: Participant fictif B | D3: Société fictive Bêta | E3: participant.b@example.invalid | F3: SES-F01 | G3: À distance | H3: À confirmer | I3: Autre | J3: 46270 | K3: Relance fictive à effectuer. | L3: =IF($F3="","",IFERROR(_xlfn.XLOOKUP($F3,'Sessions'!$A$2:$A$101,'Sessions'!$F$2:$F$101),"")) | M3: =IF($F3="","",IFERROR(_xlfn.XLOOKUP($F3,'Sessions'!$A$2:$A$101,'Sessions'!$H$2:$H$101),"")) | N3: =IF($A3="","",IF($F3="","Session manquante",IF($L3="","Session inconnue",IF(AND($H3="À confirmer",$J3<>"",$J3<=Paramètres!$B$2),"Relance à effectuer",IF($M3<0,"Capacité dépassée","")))))
A4: INS-F003 | B4: 46262 | C4: Participant fictif C | D4: Société fictive Gamma | E4: participant.c@example.invalid | F4: SES-F01 | G4: Sur place | H4: Annulée | I4: Aucun | K4: Annulation fictive enregistrée. | L4: =IF($F4="","",IFERROR(_xlfn.XLOOKUP($F4,'Sessions'!$A$2:$A$101,'Sessions'!$F$2:$F$101),"")) | M4: =IF($F4="","",IFERROR(_xlfn.XLOOKUP($F4,'Sessions'!$A$2:$A$101,'Sessions'!$H$2:$H$101),"")) | N4: =IF($A4="","",IF($F4="","Session manquante",IF($L4="","Session inconnue",IF(AND($H4="À confirmer",$J4<>"",$J4<=Paramètres!$B$2),"Relance à effectuer",IF($M4<0,"Capacité dépassée","")))))
A5: INS-F004 | B5: 46264 | C5: Participant fictif D | D5: Société fictive Delta | E5: participant.d@example.invalid | F5: SES-F01 | G5: Sur place | H5: Confirmée | I5: Régime alimentaire | K5: Besoin fictif à organiser. | L5: =IF($F5="","",IFERROR(_xlfn.XLOOKUP($F5,'Sessions'!$A$2:$A$101,'Sessions'!$F$2:$F$101),"")) | M5: =IF($F5="","",IFERROR(_xlfn.XLOOKUP($F5,'Sessions'!$A$2:$A$101,'Sessions'!$H$2:$H$101),"")) | N5: =IF($A5="","",IF($F5="","Session manquante",IF($L5="","Session inconnue",IF(AND($H5="À confirmer",$J5<>"",$J5<=Paramètres!$B$2),"Relance à effectuer",IF($M5<0,"Capacité dépassée","")))))
A6: INS-F005 | B6: 46266 | C6: Participant fictif E | D6: Société fictive Epsilon | E6: participant.e@example.invalid | F6: SES-F02 | G6: Sur place | H6: Confirmée | I6: Accès spécifique | K6: Accès fictif à préparer. | L6: =IF($F6="","",IFERROR(_xlfn.XLOOKUP($F6,'Sessions'!$A$2:$A$101,'Sessions'!$F$2:$F$101),"")) | M6: =IF($F6="","",IFERROR(_xlfn.XLOOKUP($F6,'Sessions'!$A$2:$A$101,'Sessions'!$H$2:$H$101),"")) | N6: =IF($A6="","",IF($F6="","Session manquante",IF($L6="","Session inconnue",IF(AND($H6="À confirmer",$J6<>"",$J6<=Paramètres!$B$2),"Relance à effectuer",IF($M6<0,"Capacité dépassée","")))))
A7: INS-F006 | B7: 46267 | C7: Participant fictif F | D7: Société fictive Zêta | E7: participant.f@example.invalid | F7: SES-F02 | G7: À distance | H7: Confirmée | I7: Aucun | K7: Lien fictif à communiquer. | L7: =IF($F7="","",IFERROR(_xlfn.XLOOKUP($F7,'Sessions'!$A$2:$A$101,'Sessions'!$F$2:$F$101),"")) | M7: =IF($F7="","",IFERROR(_xlfn.XLOOKUP($F7,'Sessions'!$A$2:$A$101,'Sessions'!$H$2:$H$101),"")) | N7: =IF($A7="","",IF($F7="","Session manquante",IF($L7="","Session inconnue",IF(AND($H7="À confirmer",$J7<>"",$J7<=Paramètres!$B$2),"Relance à effectuer",IF($M7<0,"Capacité dépassée","")))))
A8: INS-F007 | B8: 46268 | C8: Participant fictif G | D8: Société fictive Eta | E8: participant.g@example.invalid | F8: SES-F02 | G8: Sur place | H8: Liste d’attente | I8: Aucun | K8: Attente fictive liée à la capacité. | L8: =IF($F8="","",IFERROR(_xlfn.XLOOKUP($F8,'Sessions'!$A$2:$A$101,'Sessions'!$F$2:$F$101),"")) | M8: =IF($F8="","",IFERROR(_xlfn.XLOOKUP($F8,'Sessions'!$A$2:$A$101,'Sessions'!$H$2:$H$101),"")) | N8: =IF($A8="","",IF($F8="","Session manquante",IF($L8="","Session inconnue",IF(AND($H8="À confirmer",$J8<>"",$J8<=Paramètres!$B$2),"Relance à effectuer",IF($M8<0,"Capacité dépassée","")))))
A9: INS-F008 | B9: 46269 | C9: Participant fictif H | D9: Société fictive Thêta | E9: participant.h@example.invalid | F9: SES-F03 | G9: Sur place | H9: Confirmée | I9: Autre | K9: Installation fictive demandée. | L9: =IF($F9="","",IFERROR(_xlfn.XLOOKUP($F9,'Sessions'!$A$2:$A$101,'Sessions'!$F$2:$F$101),"")) | M9: =IF($F9="","",IFERROR(_xlfn.XLOOKUP($F9,'Sessions'!$A$2:$A$101,'Sessions'!$H$2:$H$101),"")) | N9: =IF($A9="","",IF($F9="","Session manquante",IF($L9="","Session inconnue",IF(AND($H9="À confirmer",$J9<>"",$J9<=Paramètres!$B$2),"Relance à effectuer",IF($M9<0,"Capacité dépassée","")))))
A10: INS-F009 | B10: 46270 | C10: Participant fictif I | D10: Société fictive Iota | E10: participant.i@example.invalid | F10: SES-F03 | G10: À distance | H10: Confirmée | I10: Aucun | K10: Dossier fictif confirmé. | L10: =IF($F10="","",IFERROR(_xlfn.XLOOKUP($F10,'Sessions'!$A$2:$A$101,'Sessions'!$F$2:$F$101),"")) | M10: =IF($F10="","",IFERROR(_xlfn.XLOOKUP($F10,'Sessions'!$A$2:$A$101,'Sessions'!$H$2:$H$101),"")) | N10: =IF($A10="","",IF($F10="","Session manquante",IF($L10="","Session inconnue",IF(AND($H10="À confirmer",$J10<>"",$J10<=Paramètres!$B$2),"Relance à effectuer",IF($M10<0,"Capacité dépassée","")))))
A11: INS-F010 | B11: 46271 | C11: Participant fictif J | D11: Société fictive Kappa | E11: participant.j@example.invalid | F11: SES-F03 | G11: Sur place | H11: À confirmer | I11: Régime alimentaire | J11: 46272 | K11: Seconde relance fictive échue. | L11: =IF($F11="","",IFERROR(_xlfn.XLOOKUP($F11,'Sessions'!$A$2:$A$101,'Sessions'!$F$2:$F$101),"")) | M11: =IF($F11="","",IFERROR(_xlfn.XLOOKUP($F11,'Sessions'!$A$2:$A$101,'Sessions'!$H$2:$H$101),"")) | N11: =IF($A11="","",IF($F11="","Session manquante",IF($L11="","Session inconnue",IF(AND($H11="À confirmer",$J11<>"",$J11<=Paramètres!$B$2),"Relance à effectuer",IF($M11<0,"Capacité dépassée","")))))
L12: =IF($F12="","",IFERROR(_xlfn.XLOOKUP($F12,'Sessions'!$A$2:$A$101,'Sessions'!$F$2:$F$101),"")) | M12: =IF($F12="","",IFERROR(_xlfn.XLOOKUP($F12,'Sessions'!$A$2:$A$101,'Sessions'!$H$2:$H$101),"")) | N12: =IF($A12="","",IF($F12="","Session manquante",IF($L12="","Session inconnue",IF(AND($H12="À confirmer",$J12<>"",$J12<=Paramètres!$B$2),"Relance à effectuer",IF($M12<0,"Capacité dépassée","")))))
L13: =IF($F13="","",IFERROR(_xlfn.XLOOKUP($F13,'Sessions'!$A$2:$A$101,'Sessions'!$F$2:$F$101),"")) | M13: =IF($F13="","",IFERROR(_xlfn.XLOOKUP($F13,'Sessions'!$A$2:$A$101,'Sessions'!$H$2:$H$101),"")) | N13: =IF($A13="","",IF($F13="","Session manquante",IF($L13="","Session inconnue",IF(AND($H13="À confirmer",$J13<>"",$J13<=Paramètres!$B$2),"Relance à effectuer",IF($M13<0,"Capacité dépassée","")))))
L14: =IF($F14="","",IFERROR(_xlfn.XLOOKUP($F14,'Sessions'!$A$2:$A$101,'Sessions'!$F$2:$F$101),"")) | M14: =IF($F14="","",IFERROR(_xlfn.XLOOKUP($F14,'Sessions'!$A$2:$A$101,'Sessions'!$H$2:$H$101),"")) | N14: =IF($A14="","",IF($F14="","Session manquante",IF($L14="","Session inconnue",IF(AND($H14="À confirmer",$J14<>"",$J14<=Paramètres!$B$2),"Relance à effectuer",IF($M14<0,"Capacité dépassée","")))))
L15: =IF($F15="","",IFERROR(_xlfn.XLOOKUP($F15,'Sessions'!$A$2:$A$101,'Sessions'!$F$2:$F$101),"")) | M15: =IF($F15="","",IFERROR(_xlfn.XLOOKUP($F15,'Sessions'!$A$2:$A$101,'Sessions'!$H$2:$H$101),"")) | N15: =IF($A15="","",IF($F15="","Session manquante",IF($L15="","Session inconnue",IF(AND($H15="À confirmer",$J15<>"",$J15<=Paramètres!$B$2),"Relance à effectuer",IF($M15<0,"Capacité dépassée","")))))
L16: =IF($F16="","",IFERROR(_xlfn.XLOOKUP($F16,'Sessions'!$A$2:$A$101,'Sessions'!$F$2:$F$101),"")) | M16: =IF($F16="","",IFERROR(_xlfn.XLOOKUP($F16,'Sessions'!$A$2:$A$101,'Sessions'!$H$2:$H$101),"")) | N16: =IF($A16="","",IF($F16="","Session manquante",IF($L16="","Session inconnue",IF(AND($H16="À confirmer",$J16<>"",$J16<=Paramètres!$B$2),"Relance à effectuer",IF($M16<0,"Capacité dépassée","")))))
L17: =IF($F17="","",IFERROR(_xlfn.XLOOKUP($F17,'Sessions'!$A$2:$A$101,'Sessions'!$F$2:$F$101),"")) | M17: =IF($F17="","",IFERROR(_xlfn.XLOOKUP($F17,'Sessions'!$A$2:$A$101,'Sessions'!$H$2:$H$101),"")) | N17: =IF($A17="","",IF($F17="","Session manquante",IF($L17="","Session inconnue",IF(AND($H17="À confirmer",$J17<>"",$J17<=Paramètres!$B$2),"Relance à effectuer",IF($M17<0,"Capacité dépassée","")))))
L18: =IF($F18="","",IFERROR(_xlfn.XLOOKUP($F18,'Sessions'!$A$2:$A$101,'Sessions'!$F$2:$F$101),"")) | M18: =IF($F18="","",IFERROR(_xlfn.XLOOKUP($F18,'Sessions'!$A$2:$A$101,'Sessions'!$H$2:$H$101),"")) | N18: =IF($A18="","",IF($F18="","Session manquante",IF($L18="","Session inconnue",IF(AND($H18="À confirmer",$J18<>"",$J18<=Paramètres!$B$2),"Relance à effectuer",IF($M18<0,"Capacité dépassée","")))))
L19: =IF($F19="","",IFERROR(_xlfn.XLOOKUP($F19,'Sessions'!$A$2:$A$101,'Sessions'!$F$2:$F$101),"")) | M19: =IF($F19="","",IFERROR(_xlfn.XLOOKUP($F19,'Sessions'!$A$2:$A$101,'Sessions'!$H$2:$H$101),"")) | N19: =IF($A19="","",IF($F19="","Session manquante",IF($L19="","Session inconnue",IF(AND($H19="À confirmer",$J19<>"",$J19<=Paramètres!$B$2),"Relance à effectuer",IF($M19<0,"Capacité dépassée","")))))
L20: =IF($F20="","",IFERROR(_xlfn.XLOOKUP($F20,'Sessions'!$A$2:$A$101,'Sessions'!$F$2:$F$101),"")) | M20: =IF($F20="","",IFERROR(_xlfn.XLOOKUP($F20,'Sessions'!$A$2:$A$101,'Sessions'!$H$2:$H$101),"")) | N20: =IF($A20="","",IF($F20="","Session manquante",IF($L20="","Session inconnue",IF(AND($H20="À confirmer",$J20<>"",$J20<=Paramètres!$B$2),"Relance à effectuer",IF($M20<0,"Capacité dépassée","")))))
L21: =IF($F21="","",IFERROR(_xlfn.XLOOKUP($F21,'Sessions'!$A$2:$A$101,'Sessions'!$F$2:$F$101),"")) | M21: =IF($F21="","",IFERROR(_xlfn.XLOOKUP($F21,'Sessions'!$A$2:$A$101,'Sessions'!$H$2:$H$101),"")) | N21: =IF($A21="","",IF($F21="","Session manquante",IF($L21="","Session inconnue",IF(AND($H21="À confirmer",$J21<>"",$J21<=Paramètres!$B$2),"Relance à effectuer",IF($M21<0,"Capacité dépassée","")))))
L22: =IF($F22="","",IFERROR(_xlfn.XLOOKUP($F22,'Sessions'!$A$2:$A$101,'Sessions'!$F$2:$F$101),"")) | M22: =IF($F22="","",IFERROR(_xlfn.XLOOKUP($F22,'Sessions'!$A$2:$A$101,'Sessions'!$H$2:$H$101),"")) | N22: =IF($A22="","",IF($F22="","Session manquante",IF($L22="","Session inconnue",IF(AND($H22="À confirmer",$J22<>"",$J22<=Paramètres!$B$2),"Relance à effectuer",IF($M22<0,"Capacité dépassée","")))))
L23: =IF($F23="","",IFERROR(_xlfn.XLOOKUP($F23,'Sessions'!$A$2:$A$101,'Sessions'!$F$2:$F$101),"")) | M23: =IF($F23="","",IFERROR(_xlfn.XLOOKUP($F23,'Sessions'!$A$2:$A$101,'Sessions'!$H$2:$H$101),"")) | N23: =IF($A23="","",IF($F23="","Session manquante",IF($L23="","Session inconnue",IF(AND($H23="À confirmer",$J23<>"",$J23<=Paramètres!$B$2),"Relance à effectuer",IF($M23<0,"Capacité dépassée","")))))
... L101: =IF($F101="","",IFERROR(_xlfn.XLOOKUP($F101,'Sessions'!$A$2:$A$101,'Sessions'!$F$2:$F$101),"")) | M101: =IF($F101="","",IFERROR(_xlfn.XLOOKUP($F101,'Sessions'!$A$2:$A$101,'Sessions'!$H$2:$H$101),"")) | N101: =IF($A101="","",IF($F101="","Session manquante",IF($L101="","Session inconnue",IF(AND($H101="À confirmer",$J101<>"",$J101<=Paramètres!$B$2),"Relance à effectuer",IF($M101<0,"Capacité dépassée","")))))
