Workbook

Sheet Synthèse
A1: Synthèse du planning événementiel
A3: Événement | B3: =Paramètres!$B$4 | D3: Date de référence | E3: =Paramètres!$B$6
A4: Date de l’événement | B4: =Paramètres!$B$5 | D4: Début de période | E4: =Paramètres!$B$7
D5: Fin de période | E5: =Paramètres!$B$8
A7: Indicateurs | B7: Valeur | D7: Actions à examiner | E7: Nombre
A8: Nombre total de tâches renseignées | B8: =COUNTIF('Planning'!$C$4:$C$113,"<>") | D8: Échéances sous sept jours | E8: =COUNTIFS('Planning'!$C$4:$C$113,"<>",'Planning'!$I$4:$I$113,"<>Terminé",'Planning'!$I$4:$I$113,"<>Annulé",'Planning'!$F$4:$F$113,">="&Paramètres!$B$6,'Planning'!$F$4:$F$113,"<="&Paramètres!$B$6+7)
A9: Tâches terminées | B9: =COUNTIFS('Planning'!$I$4:$I$113,"Terminé",'Planning'!$C$4:$C$113,"<>") | D9: Dépendances ouvertes | E9: =COUNTIF('Planning'!$Q$4:$Q$113,"Dépendance ouverte")
A10: Tâches bloquées | B10: =COUNTIFS('Planning'!$I$4:$I$113,"Bloqué",'Planning'!$C$4:$C$113,"<>") | D10: Anomalies de saisie | E10: =COUNTIF('Planning'!$Q$4:$Q$113,"Dates incohérentes")+COUNTIF('Planning'!$Q$4:$Q$113,"ID en doublon")+COUNTIF('Planning'!$Q$4:$Q$113,"Dépendance inconnue")
A11: Tâches en retard | B11: =COUNTIF('Planning'!$Q$4:$Q$113,"En retard") | D11: Tâches sans responsable | E11: =COUNTIFS('Planning'!$C$4:$C$113,"<>",'Planning'!$D$4:$D$113,"")
A12: Jalons ouverts | B12: =COUNTIFS('Planning'!$O$4:$O$113,"Oui",'Planning'!$I$4:$I$113,"<>Terminé",'Planning'!$I$4:$I$113,"<>Annulé",'Planning'!$C$4:$C$113,"<>")
A13: Taux d’avancement global | B13: =IFERROR(COUNTIF('Planning'!$I$4:$I$113,"Terminé")/COUNTIF('Planning'!$C$4:$C$113,"<>"),0)
A16: Outil interne autonome fondé sur des exemples manifestement fictifs. Les hypothèses restent modifiables dans la feuille Paramètres.

Sheet Planning
A1: Planning de préparation de l’événement
A2: Événement | B2: =Paramètres!$B$4 | D2: Date | E2: =Paramètres!$B$5 | G2: Référence | H2: =Paramètres!$B$6 | Q2: Jaune : saisie modifiable
A3: ID | B3: Phase | C3: Tâche | D3: Responsable | E3: Début prévu | F3: Fin prévue | G3: Durée (jours) | H3: Priorité | I3: Statut | J3: Avancement | K3: ID dépendance | L3: Statut dépendance | M3: Date de réalisation | N3: Jours restants | O3: Jalon | P3: Commentaire | Q3: Alerte
A4: EVT-001 | B4: Cadrage | C4: Cadrage | D4: Pilotage | E4: 46266 | F4: 46268 | G4: =IF(OR(E4="",F4=""),"",F4-E4+1) | H4: Haute | I4: Terminé | J4: 1 | L4: =IF(K4="","",IFERROR(_xlfn.XLOOKUP(K4,'Planning'!$A$4:$A$113,'Planning'!$I$4:$I$113),"ID introuvable")) | M4: 46268 | N4: =IF(F4="","",F4-Paramètres!$B$6) | O4: Oui | P4: Validation interne fictive achevée. | Q4: =IF(C4="","",IF(AND(E4<>"",F4<>"",F4<E4),"Dates incohérentes",IF(COUNTIF('Planning'!$A$4:$A$113,A4)>1,"ID en doublon",IF(L4="ID introuvable","Dépendance inconnue",IF(AND(I4<>"Terminé",I4<>"Annulé",F4<>"",F4<Paramètres!$B$6),"En retard",IF(AND(K4<>"",L4<>"Terminé"),"Dépendance ouverte",""))))))
A5: EVT-002 | B5: Conception | C5: Programme provisoire | D5: Contenu | E5: 46269 | F5: 46275 | G5: =IF(OR(E5="",F5=""),"",F5-E5+1) | H5: Haute | I5: En cours | J5: 0.6 | K5: EVT-001 | L5: =IF(K5="","",IFERROR(_xlfn.XLOOKUP(K5,'Planning'!$A$4:$A$113,'Planning'!$I$4:$I$113),"ID introuvable")) | N5: =IF(F5="","",F5-Paramètres!$B$6) | O5: Oui | P5: Consolider les séquences de démonstration fictives. | Q5: =IF(C5="","",IF(AND(E5<>"",F5<>"",F5<E5),"Dates incohérentes",IF(COUNTIF('Planning'!$A$4:$A$113,A5)>1,"ID en doublon",IF(L5="ID introuvable","Dépendance inconnue",IF(AND(I5<>"Terminé",I5<>"Annulé",F5<>"",F5<Paramètres!$B$6),"En retard",IF(AND(K5<>"",L5<>"Terminé"),"Dépendance ouverte",""))))))
A6: EVT-003 | B6: Conception | C6: Plan d’implantation | D6: Logistique | E6: 46272 | F6: 46279 | G6: =IF(OR(E6="",F6=""),"",F6-E6+1) | H6: Haute | I6: À faire | J6: 0.1 | K6: EVT-001 | L6: =IF(K6="","",IFERROR(_xlfn.XLOOKUP(K6,'Planning'!$A$4:$A$113,'Planning'!$I$4:$I$113),"ID introuvable")) | N6: =IF(F6="","",F6-Paramètres!$B$6) | O6: Non | P6: Prévoir les zones d’accueil et de circulation fictives. | Q6: =IF(C6="","",IF(AND(E6<>"",F6<>"",F6<E6),"Dates incohérentes",IF(COUNTIF('Planning'!$A$4:$A$113,A6)>1,"ID en doublon",IF(L6="ID introuvable","Dépendance inconnue",IF(AND(I6<>"Terminé",I6<>"Annulé",F6<>"",F6<Paramètres!$B$6),"En retard",IF(AND(K6<>"",L6<>"Terminé"),"Dépendance ouverte",""))))))
A7: EVT-004 | B7: Préparation | C7: Besoins audiovisuels | D7: Technique | E7: 46273 | F7: 46280 | G7: =IF(OR(E7="",F7=""),"",F7-E7+1) | H7: Critique | I7: Bloqué | J7: 0.2 | K7: EVT-003 | L7: =IF(K7="","",IFERROR(_xlfn.XLOOKUP(K7,'Planning'!$A$4:$A$113,'Planning'!$I$4:$I$113),"ID introuvable")) | N7: =IF(F7="","",F7-Paramètres!$B$6) | O7: Non | P7: Attente du plan d’implantation fictif. | Q7: =IF(C7="","",IF(AND(E7<>"",F7<>"",F7<E7),"Dates incohérentes",IF(COUNTIF('Planning'!$A$4:$A$113,A7)>1,"ID en doublon",IF(L7="ID introuvable","Dépendance inconnue",IF(AND(I7<>"Terminé",I7<>"Annulé",F7<>"",F7<Paramètres!$B$6),"En retard",IF(AND(K7<>"",L7<>"Terminé"),"Dépendance ouverte",""))))))
A8: EVT-005 | B8: Préparation | C8: Supports d’accueil | D8: Communication | E8: 46279 | F8: 46290 | G8: =IF(OR(E8="",F8=""),"",F8-E8+1) | H8: Normale | I8: À faire | J8: 0 | K8: EVT-002 | L8: =IF(K8="","",IFERROR(_xlfn.XLOOKUP(K8,'Planning'!$A$4:$A$113,'Planning'!$I$4:$I$113),"ID introuvable")) | N8: =IF(F8="","",F8-Paramètres!$B$6) | O8: Non | P8: Préparer une signalétique interne de démonstration. | Q8: =IF(C8="","",IF(AND(E8<>"",F8<>"",F8<E8),"Dates incohérentes",IF(COUNTIF('Planning'!$A$4:$A$113,A8)>1,"ID en doublon",IF(L8="ID introuvable","Dépendance inconnue",IF(AND(I8<>"Terminé",I8<>"Annulé",F8<>"",F8<Paramètres!$B$6),"En retard",IF(AND(K8<>"",L8<>"Terminé"),"Dépendance ouverte",""))))))
A9: EVT-006 | B9: Coordination | C9: Déroulé horaire | D9: Pilotage | E9: 46286 | F9: 46295 | G9: =IF(OR(E9="",F9=""),"",F9-E9+1) | H9: Haute | I9: À faire | J9: 0 | K9: EVT-002 | L9: =IF(K9="","",IFERROR(_xlfn.XLOOKUP(K9,'Planning'!$A$4:$A$113,'Planning'!$I$4:$I$113),"ID introuvable")) | N9: =IF(F9="","",F9-Paramètres!$B$6) | O9: Oui | P9: Ordonnancer les temps forts du scénario fictif. | Q9: =IF(C9="","",IF(AND(E9<>"",F9<>"",F9<E9),"Dates incohérentes",IF(COUNTIF('Planning'!$A$4:$A$113,A9)>1,"ID en doublon",IF(L9="ID introuvable","Dépendance inconnue",IF(AND(I9<>"Terminé",I9<>"Annulé",F9<>"",F9<Paramètres!$B$6),"En retard",IF(AND(K9<>"",L9<>"Terminé"),"Dépendance ouverte",""))))))
A10: EVT-007 | B10: Coordination | C10: Brief équipe | D10: Coordination | E10: 46300 | F10: 46300 | G10: =IF(OR(E10="",F10=""),"",F10-E10+1) | H10: Haute | I10: À faire | J10: 0 | K10: EVT-006 | L10: =IF(K10="","",IFERROR(_xlfn.XLOOKUP(K10,'Planning'!$A$4:$A$113,'Planning'!$I$4:$I$113),"ID introuvable")) | N10: =IF(F10="","",F10-Paramètres!$B$6) | O10: Oui | P10: Partager les rôles génériques et les horaires fictifs. | Q10: =IF(C10="","",IF(AND(E10<>"",F10<>"",F10<E10),"Dates incohérentes",IF(COUNTIF('Planning'!$A$4:$A$113,A10)>1,"ID en doublon",IF(L10="ID introuvable","Dépendance inconnue",IF(AND(I10<>"Terminé",I10<>"Annulé",F10<>"",F10<Paramètres!$B$6),"En retard",IF(AND(K10<>"",L10<>"Terminé"),"Dépendance ouverte",""))))))
A11: EVT-008 | B11: Production | C11: Test technique | D11: Technique | E11: 46307 | F11: 46307 | G11: =IF(OR(E11="",F11=""),"",F11-E11+1) | H11: Critique | I11: À faire | J11: 0 | K11: EVT-004 | L11: =IF(K11="","",IFERROR(_xlfn.XLOOKUP(K11,'Planning'!$A$4:$A$113,'Planning'!$I$4:$I$113),"ID introuvable")) | N11: =IF(F11="","",F11-Paramètres!$B$6) | O11: Oui | P11: Tester les équipements de démonstration fictifs. | Q11: =IF(C11="","",IF(AND(E11<>"",F11<>"",F11<E11),"Dates incohérentes",IF(COUNTIF('Planning'!$A$4:$A$113,A11)>1,"ID en doublon",IF(L11="ID introuvable","Dépendance inconnue",IF(AND(I11<>"Terminé",I11<>"Annulé",F11<>"",F11<Paramètres!$B$6),"En retard",IF(AND(K11<>"",L11<>"Terminé"),"Dépendance ouverte",""))))))
A12: EVT-009 | B12: Production | C12: Installation | D12: Logistique | E12: 46309 | F12: 46309 | G12: =IF(OR(E12="",F12=""),"",F12-E12+1) | H12: Critique | I12: À faire | J12: 0 | K12: EVT-003 | L12: =IF(K12="","",IFERROR(_xlfn.XLOOKUP(K12,'Planning'!$A$4:$A$113,'Planning'!$I$4:$I$113),"ID introuvable")) | N12: =IF(F12="","",F12-Paramètres!$B$6) | O12: Oui | P12: Installer les espaces internes fictifs. | Q12: =IF(C12="","",IF(AND(E12<>"",F12<>"",F12<E12),"Dates incohérentes",IF(COUNTIF('Planning'!$A$4:$A$113,A12)>1,"ID en doublon",IF(L12="ID introuvable","Dépendance inconnue",IF(AND(I12<>"Terminé",I12<>"Annulé",F12<>"",F12<Paramètres!$B$6),"En retard",IF(AND(K12<>"",L12<>"Terminé"),"Dépendance ouverte",""))))))
A13: EVT-010 | B13: Clôture | C13: Bilan interne | D13: Pilotage | E13: 46314 | F13: 46318 | G13: =IF(OR(E13="",F13=""),"",F13-E13+1) | H13: Basse | I13: À faire | J13: 0 | K13: EVT-009 | L13: =IF(K13="","",IFERROR(_xlfn.XLOOKUP(K13,'Planning'!$A$4:$A$113,'Planning'!$I$4:$I$113),"ID introuvable")) | N13: =IF(F13="","",F13-Paramètres!$B$6) | O13: Non | P13: Recueillir les constats internes du scénario fictif. | Q13: =IF(C13="","",IF(AND(E13<>"",F13<>"",F13<E13),"Dates incohérentes",IF(COUNTIF('Planning'!$A$4:$A$113,A13)>1,"ID en doublon",IF(L13="ID introuvable","Dépendance inconnue",IF(AND(I13<>"Terminé",I13<>"Annulé",F13<>"",F13<Paramètres!$B$6),"En retard",IF(AND(K13<>"",L13<>"Terminé"),"Dépendance ouverte",""))))))
G14: =IF(OR(E14="",F14=""),"",F14-E14+1) | L14: =IF(K14="","",IFERROR(_xlfn.XLOOKUP(K14,'Planning'!$A$4:$A$113,'Planning'!$I$4:$I$113),"ID introuvable")) | N14: =IF(F14="","",F14-Paramètres!$B$6) | Q14: =IF(C14="","",IF(AND(E14<>"",F14<>"",F14<E14),"Dates incohérentes",IF(COUNTIF('Planning'!$A$4:$A$113,A14)>1,"ID en doublon",IF(L14="ID introuvable","Dépendance inconnue",IF(AND(I14<>"Terminé",I14<>"Annulé",F14<>"",F14<Paramètres!$B$6),"En retard",IF(AND(K14<>"",L14<>"Terminé"),"Dépendance ouverte",""))))))
G15: =IF(OR(E15="",F15=""),"",F15-E15+1) | L15: =IF(K15="","",IFERROR(_xlfn.XLOOKUP(K15,'Planning'!$A$4:$A$113,'Planning'!$I$4:$I$113),"ID introuvable")) | N15: =IF(F15="","",F15-Paramètres!$B$6) | Q15: =IF(C15="","",IF(AND(E15<>"",F15<>"",F15<E15),"Dates incohérentes",IF(COUNTIF('Planning'!$A$4:$A$113,A15)>1,"ID en doublon",IF(L15="ID introuvable","Dépendance inconnue",IF(AND(I15<>"Terminé",I15<>"Annulé",F15<>"",F15<Paramètres!$B$6),"En retard",IF(AND(K15<>"",L15<>"Terminé"),"Dépendance ouverte",""))))))
G16: =IF(OR(E16="",F16=""),"",F16-E16+1) | L16: =IF(K16="","",IFERROR(_xlfn.XLOOKUP(K16,'Planning'!$A$4:$A$113,'Planning'!$I$4:$I$113),"ID introuvable")) | N16: =IF(F16="","",F16-Paramètres!$B$6) | Q16: =IF(C16="","",IF(AND(E16<>"",F16<>"",F16<E16),"Dates incohérentes",IF(COUNTIF('Planning'!$A$4:$A$113,A16)>1,"ID en doublon",IF(L16="ID introuvable","Dépendance inconnue",IF(AND(I16<>"Terminé",I16<>"Annulé",F16<>"",F16<Paramètres!$B$6),"En retard",IF(AND(K16<>"",L16<>"Terminé"),"Dépendance ouverte",""))))))
G17: =IF(OR(E17="",F17=""),"",F17-E17+1) | L17: =IF(K17="","",IFERROR(_xlfn.XLOOKUP(K17,'Planning'!$A$4:$A$113,'Planning'!$I$4:$I$113),"ID introuvable")) | N17: =IF(F17="","",F17-Paramètres!$B$6) | Q17: =IF(C17="","",IF(AND(E17<>"",F17<>"",F17<E17),"Dates incohérentes",IF(COUNTIF('Planning'!$A$4:$A$113,A17)>1,"ID en doublon",IF(L17="ID introuvable","Dépendance inconnue",IF(AND(I17<>"Terminé",I17<>"Annulé",F17<>"",F17<Paramètres!$B$6),"En retard",IF(AND(K17<>"",L17<>"Terminé"),"Dépendance ouverte",""))))))
G18: =IF(OR(E18="",F18=""),"",F18-E18+1) | L18: =IF(K18="","",IFERROR(_xlfn.XLOOKUP(K18,'Planning'!$A$4:$A$113,'Planning'!$I$4:$I$113),"ID introuvable")) | N18: =IF(F18="","",F18-Paramètres!$B$6) | Q18: =IF(C18="","",IF(AND(E18<>"",F18<>"",F18<E18),"Dates incohérentes",IF(COUNTIF('Planning'!$A$4:$A$113,A18)>1,"ID en doublon",IF(L18="ID introuvable","Dépendance inconnue",IF(AND(I18<>"Terminé",I18<>"Annulé",F18<>"",F18<Paramètres!$B$6),"En retard",IF(AND(K18<>"",L18<>"Terminé"),"Dépendance ouverte",""))))))
G19: =IF(OR(E19="",F19=""),"",F19-E19+1) | L19: =IF(K19="","",IFERROR(_xlfn.XLOOKUP(K19,'Planning'!$A$4:$A$113,'Planning'!$I$4:$I$113),"ID introuvable")) | N19: =IF(F19="","",F19-Paramètres!$B$6) | Q19: =IF(C19="","",IF(AND(E19<>"",F19<>"",F19<E19),"Dates incohérentes",IF(COUNTIF('Planning'!$A$4:$A$113,A19)>1,"ID en doublon",IF(L19="ID introuvable","Dépendance inconnue",IF(AND(I19<>"Terminé",I19<>"Annulé",F19<>"",F19<Paramètres!$B$6),"En retard",IF(AND(K19<>"",L19<>"Terminé"),"Dépendance ouverte",""))))))
G20: =IF(OR(E20="",F20=""),"",F20-E20+1) | L20: =IF(K20="","",IFERROR(_xlfn.XLOOKUP(K20,'Planning'!$A$4:$A$113,'Planning'!$I$4:$I$113),"ID introuvable")) | N20: =IF(F20="","",F20-Paramètres!$B$6) | Q20: =IF(C20="","",IF(AND(E20<>"",F20<>"",F20<E20),"Dates incohérentes",IF(COUNTIF('Planning'!$A$4:$A$113,A20)>1,"ID en doublon",IF(L20="ID introuvable","Dépendance inconnue",IF(AND(I20<>"Terminé",I20<>"Annulé",F20<>"",F20<Paramètres!$B$6),"En retard",IF(AND(K20<>"",L20<>"Terminé"),"Dépendance ouverte",""))))))
G21: =IF(OR(E21="",F21=""),"",F21-E21+1) | L21: =IF(K21="","",IFERROR(_xlfn.XLOOKUP(K21,'Planning'!$A$4:$A$113,'Planning'!$I$4:$I$113),"ID introuvable")) | N21: =IF(F21="","",F21-Paramètres!$B$6) | Q21: =IF(C21="","",IF(AND(E21<>"",F21<>"",F21<E21),"Dates incohérentes",IF(COUNTIF('Planning'!$A$4:$A$113,A21)>1,"ID en doublon",IF(L21="ID introuvable","Dépendance inconnue",IF(AND(I21<>"Terminé",I21<>"Annulé",F21<>"",F21<Paramètres!$B$6),"En retard",IF(AND(K21<>"",L21<>"Terminé"),"Dépendance ouverte",""))))))
G22: =IF(OR(E22="",F22=""),"",F22-E22+1) | L22: =IF(K22="","",IFERROR(_xlfn.XLOOKUP(K22,'Planning'!$A$4:$A$113,'Planning'!$I$4:$I$113),"ID introuvable")) | N22: =IF(F22="","",F22-Paramètres!$B$6) | Q22: =IF(C22="","",IF(AND(E22<>"",F22<>"",F22<E22),"Dates incohérentes",IF(COUNTIF('Planning'!$A$4:$A$113,A22)>1,"ID en doublon",IF(L22="ID introuvable","Dépendance inconnue",IF(AND(I22<>"Terminé",I22<>"Annulé",F22<>"",F22<Paramètres!$B$6),"En retard",IF(AND(K22<>"",L22<>"Terminé"),"Dépendance ouverte",""))))))
G23: =IF(OR(E23="",F23=""),"",F23-E23+1) | L23: =IF(K23="","",IFERROR(_xlfn.XLOOKUP(K23,'Planning'!$A$4:$A$113,'Planning'!$I$4:$I$113),"ID introuvable")) | N23: =IF(F23="","",F23-Paramètres!$B$6) | Q23: =IF(C23="","",IF(AND(E23<>"",F23<>"",F23<E23),"Dates incohérentes",IF(COUNTIF('Planning'!$A$4:$A$113,A23)>1,"ID en doublon",IF(L23="ID introuvable","Dépendance inconnue",IF(AND(I23<>"Terminé",I23<>"Annulé",F23<>"",F23<Paramètres!$B$6),"En retard",IF(AND(K23<>"",L23<>"Terminé"),"Dépendance ouverte",""))))))
G24: =IF(OR(E24="",F24=""),"",F24-E24+1) | L24: =IF(K24="","",IFERROR(_xlfn.XLOOKUP(K24,'Planning'!$A$4:$A$113,'Planning'!$I$4:$I$113),"ID introuvable")) | N24: =IF(F24="","",F24-Paramètres!$B$6) | Q24: =IF(C24="","",IF(AND(E24<>"",F24<>"",F24<E24),"Dates incohérentes",IF(COUNTIF('Planning'!$A$4:$A$113,A24)>1,"ID en doublon",IF(L24="ID introuvable","Dépendance inconnue",IF(AND(I24<>"Terminé",I24<>"Annulé",F24<>"",F24<Paramètres!$B$6),"En retard",IF(AND(K24<>"",L24<>"Terminé"),"Dépendance ouverte",""))))))
G25: =IF(OR(E25="",F25=""),"",F25-E25+1) | L25: =IF(K25="","",IFERROR(_xlfn.XLOOKUP(K25,'Planning'!$A$4:$A$113,'Planning'!$I$4:$I$113),"ID introuvable")) | N25: =IF(F25="","",F25-Paramètres!$B$6) | Q25: =IF(C25="","",IF(AND(E25<>"",F25<>"",F25<E25),"Dates incohérentes",IF(COUNTIF('Planning'!$A$4:$A$113,A25)>1,"ID en doublon",IF(L25="ID introuvable","Dépendance inconnue",IF(AND(I25<>"Terminé",I25<>"Annulé",F25<>"",F25<Paramètres!$B$6),"En retard",IF(AND(K25<>"",L25<>"Terminé"),"Dépendance ouverte",""))))))
... G113: =IF(OR(E113="",F113=""),"",F113-E113+1) | L113: =IF(K113="","",IFERROR(_xlfn.XLOOKUP(K113,'Planning'!$A$4:$A$113,'Planning'!$I$4:$I$113),"ID introuvable")) | N113: =IF(F113="","",F113-Paramètres!$B$6) | Q113: =IF(C113="","",IF(AND(E113<>"",F113<>"",F113<E113),"Dates incohérentes",IF(COUNTIF('Planning'!$A$4:$A$113,A113)>1,"ID en doublon",IF(L113="ID introuvable","Dépendance inconnue",IF(AND(I113<>"Terminé",I113<>"Annulé",F113<>"",F113<Paramètres!$B$6),"En retard",IF(AND(K113<>"",L113<>"Terminé"),"Dépendance ouverte",""))))))

Sheet Paramètres
A1: Paramètres du planning événementiel
A2: Les cellules jaunes sont modifiables. Les listes alimentent les menus du planning.
A3: Caractéristique | B3: Valeur modifiable | D3: Phases | E3: Rôles | F3: Priorités | G3: Statuts | H3: Oui / Non
A4: Nom de l’événement | B4: Forum Démo Horizon 2026 | D4: Cadrage | E4: Pilotage | F4: Basse | G4: À faire | H4: Oui
A5: Date de l’événement | B5: 46310 | D5: Conception | E5: Contenu | F5: Normale | G5: En cours | H5: Non
A6: Date de référence | B6: 46272 | D6: Préparation | E6: Logistique | F6: Haute | G6: Bloqué
A7: Début de période | B7: 46266 | D7: Coordination | E7: Technique | F7: Critique | G7: Terminé
A8: Fin de période | B8: 46326 | D8: Production | E8: Communication | G8: Annulé
D9: Clôture | E9: Coordination
A10: Repère d’utilisation | B10: Les dates et listes sont des hypothèses internes modifiables.
