Workbook

Sheet Synthèse
A1: Synthèse de la matrice RACI
A2: Total des tâches | B2: =COUNTIF('Matrice RACI'!C6:C105,"<>") | C2: Date d’analyse | D2: =Paramètres!$B$2 | E2: Lecture | F2: Le code R/A est compté dans les charges R et A.
A3: Tâches complètes | B3: =COUNTIF('Matrice RACI'!V6:V105,"Complet") | C3: Seuil indicatif R | D3: =Paramètres!$B$3 | E3: Périmètre | F3: Aide à la décision RACI, sans fonction de planning, budget, annuaire, billetterie ou CRM.
A4: Taux de complétude | B4: =IFERROR(B3/B2,0)
A5: Tâches à corriger | B5: =COUNTIF('Matrice RACI'!V6:V105,"À corriger")
A6: Alertes d’échéance | B6: =COUNTIF('Matrice RACI'!W6:W105,"<>")
A8: Rôle | B8: Charge R | C8: Charge A | D8: Alerte paramétrage
A9: =IF(Paramètres!B7="","",Paramètres!B7) | B9: =COUNTIF('Matrice RACI'!H$6:H$105,"R")+COUNTIF('Matrice RACI'!H$6:H$105,"R/A") | C9: =COUNTIF('Matrice RACI'!H$6:H$105,"A")+COUNTIF('Matrice RACI'!H$6:H$105,"R/A") | D9: =IF(AND(Paramètres!B7="",COUNTA('Matrice RACI'!H$6:H$105)>0),"Libellé manquant","")
A10: =IF(Paramètres!B8="","",Paramètres!B8) | B10: =COUNTIF('Matrice RACI'!I$6:I$105,"R")+COUNTIF('Matrice RACI'!I$6:I$105,"R/A") | C10: =COUNTIF('Matrice RACI'!I$6:I$105,"A")+COUNTIF('Matrice RACI'!I$6:I$105,"R/A") | D10: =IF(AND(Paramètres!B8="",COUNTA('Matrice RACI'!I$6:I$105)>0),"Libellé manquant","")
A11: =IF(Paramètres!B9="","",Paramètres!B9) | B11: =COUNTIF('Matrice RACI'!J$6:J$105,"R")+COUNTIF('Matrice RACI'!J$6:J$105,"R/A") | C11: =COUNTIF('Matrice RACI'!J$6:J$105,"A")+COUNTIF('Matrice RACI'!J$6:J$105,"R/A") | D11: =IF(AND(Paramètres!B9="",COUNTA('Matrice RACI'!J$6:J$105)>0),"Libellé manquant","")
A12: =IF(Paramètres!B10="","",Paramètres!B10) | B12: =COUNTIF('Matrice RACI'!K$6:K$105,"R")+COUNTIF('Matrice RACI'!K$6:K$105,"R/A") | C12: =COUNTIF('Matrice RACI'!K$6:K$105,"A")+COUNTIF('Matrice RACI'!K$6:K$105,"R/A") | D12: =IF(AND(Paramètres!B10="",COUNTA('Matrice RACI'!K$6:K$105)>0),"Libellé manquant","")
A13: =IF(Paramètres!B11="","",Paramètres!B11) | B13: =COUNTIF('Matrice RACI'!L$6:L$105,"R")+COUNTIF('Matrice RACI'!L$6:L$105,"R/A") | C13: =COUNTIF('Matrice RACI'!L$6:L$105,"A")+COUNTIF('Matrice RACI'!L$6:L$105,"R/A") | D13: =IF(AND(Paramètres!B11="",COUNTA('Matrice RACI'!L$6:L$105)>0),"Libellé manquant","")
A14: =IF(Paramètres!B12="","",Paramètres!B12) | B14: =COUNTIF('Matrice RACI'!M$6:M$105,"R")+COUNTIF('Matrice RACI'!M$6:M$105,"R/A") | C14: =COUNTIF('Matrice RACI'!M$6:M$105,"A")+COUNTIF('Matrice RACI'!M$6:M$105,"R/A") | D14: =IF(AND(Paramètres!B12="",COUNTA('Matrice RACI'!M$6:M$105)>0),"Libellé manquant","")
A15: =IF(Paramètres!B13="","",Paramètres!B13) | B15: =COUNTIF('Matrice RACI'!N$6:N$105,"R")+COUNTIF('Matrice RACI'!N$6:N$105,"R/A") | C15: =COUNTIF('Matrice RACI'!N$6:N$105,"A")+COUNTIF('Matrice RACI'!N$6:N$105,"R/A") | D15: =IF(AND(Paramètres!B13="",COUNTA('Matrice RACI'!N$6:N$105)>0),"Libellé manquant","")
A16: =IF(Paramètres!B14="","",Paramètres!B14) | B16: =COUNTIF('Matrice RACI'!O$6:O$105,"R")+COUNTIF('Matrice RACI'!O$6:O$105,"R/A") | C16: =COUNTIF('Matrice RACI'!O$6:O$105,"A")+COUNTIF('Matrice RACI'!O$6:O$105,"R/A") | D16: =IF(AND(Paramètres!B14="",COUNTA('Matrice RACI'!O$6:O$105)>0),"Libellé manquant","")
A17: =IF(Paramètres!B15="","",Paramètres!B15) | B17: =COUNTIF('Matrice RACI'!P$6:P$105,"R")+COUNTIF('Matrice RACI'!P$6:P$105,"R/A") | C17: =COUNTIF('Matrice RACI'!P$6:P$105,"A")+COUNTIF('Matrice RACI'!P$6:P$105,"R/A") | D17: =IF(AND(Paramètres!B15="",COUNTA('Matrice RACI'!P$6:P$105)>0),"Libellé manquant","")
A18: =IF(Paramètres!B16="","",Paramètres!B16) | B18: =COUNTIF('Matrice RACI'!Q$6:Q$105,"R")+COUNTIF('Matrice RACI'!Q$6:Q$105,"R/A") | C18: =COUNTIF('Matrice RACI'!Q$6:Q$105,"A")+COUNTIF('Matrice RACI'!Q$6:Q$105,"R/A") | D18: =IF(AND(Paramètres!B16="",COUNTA('Matrice RACI'!Q$6:Q$105)>0),"Libellé manquant","")

Sheet Matrice RACI
A1: Matrice RACI de l’événement professionnel fictif
A2: Date d’analyse | B2: =Paramètres!$B$2 | D2: Seuil indicatif R par rôle | E2: =Paramètres!$B$3
A3: Contrôle | B3: Exactement un A et au moins un R par tâche. | D3: Saisie | E3: Les cellules jaunes sont modifiables.
A5: ID tâche | B5: Phase | C5: Tâche | D5: Résultat attendu | E5: Échéance | F5: Priorité | G5: Statut | H5: =IF(Paramètres!B7="","",Paramètres!B7) | I5: =IF(Paramètres!B8="","",Paramètres!B8) | J5: =IF(Paramètres!B9="","",Paramètres!B9) | K5: =IF(Paramètres!B10="","",Paramètres!B10) | L5: =IF(Paramètres!B11="","",Paramètres!B11) | M5: =IF(Paramètres!B12="","",Paramètres!B12) | N5: =IF(Paramètres!B13="","",Paramètres!B13) | O5: =IF(Paramètres!B14="","",Paramètres!B14) | P5: =IF(Paramètres!B15="","",Paramètres!B15) | Q5: =IF(Paramètres!B16="","",Paramètres!B16) | R5: Nombre R | S5: Nombre A | T5: Nombre C | U5: Nombre I | V5: Contrôle RACI | W5: Alerte échéance | X5: Commentaire
A6: =IF(C6="","","T-"&TEXT(ROW()-5,"000")) | B6: Cadrage | C6: Cadrage de l’événement | D6: Périmètre fictif et objectifs de démonstration validés | E6: 46280 | F6: Haute | G6: En cours | H6: R/A | I6: R | P6: I | Q6: C | R6: =IF(C6="","",COUNTIF(H6:Q6,"R")+COUNTIF(H6:Q6,"R/A")) | S6: =IF(C6="","",COUNTIF(H6:Q6,"A")+COUNTIF(H6:Q6,"R/A")) | T6: =IF(C6="","",COUNTIF(H6:Q6,"C")) | U6: =IF(C6="","",COUNTIF(H6:Q6,"I")) | V6: =IF(C6="","",IF(S6<>1,"À corriger",IF(R6=0,"À corriger","Complet"))) | W6: =IF(C6="","",IF(E6="","Échéance absente",IF(AND(G6<>"Terminée",E6<Paramètres!$B$2),"En retard",""))) | X6: Exemple fictif — scénario de démonstration sans donnée personnelle.
A7: =IF(C7="","","T-"&TEXT(ROW()-5,"000")) | B7: Programme | C7: Définition du programme | D7: Trame fictive du programme validée | E7: 46283 | F7: Haute | G7: En cours | H7: A | I7: C | K7: R | L7: I | Q7: C | R7: =IF(C7="","",COUNTIF(H7:Q7,"R")+COUNTIF(H7:Q7,"R/A")) | S7: =IF(C7="","",COUNTIF(H7:Q7,"A")+COUNTIF(H7:Q7,"R/A")) | T7: =IF(C7="","",COUNTIF(H7:Q7,"C")) | U7: =IF(C7="","",COUNTIF(H7:Q7,"I")) | V7: =IF(C7="","",IF(S7<>1,"À corriger",IF(R7=0,"À corriger","Complet"))) | W7: =IF(C7="","",IF(E7="","Échéance absente",IF(AND(G7<>"Terminée",E7<Paramètres!$B$2),"En retard",""))) | X7: Exemple fictif — contenu créé uniquement pour ce modèle.
A8: =IF(C8="","","T-"&TEXT(ROW()-5,"000")) | B8: Planification | C8: Sélection de la date | D8: Date fictive retenue selon les contraintes du scénario | E8: 46287 | F8: Haute | G8: Terminée | H8: A | I8: R | J8: C | L8: I | Q8: C | R8: =IF(C8="","",COUNTIF(H8:Q8,"R")+COUNTIF(H8:Q8,"R/A")) | S8: =IF(C8="","",COUNTIF(H8:Q8,"A")+COUNTIF(H8:Q8,"R/A")) | T8: =IF(C8="","",COUNTIF(H8:Q8,"C")) | U8: =IF(C8="","",COUNTIF(H8:Q8,"I")) | V8: =IF(C8="","",IF(S8<>1,"À corriger",IF(R8=0,"À corriger","Complet"))) | W8: =IF(C8="","",IF(E8="","Échéance absente",IF(AND(G8<>"Terminée",E8<Paramètres!$B$2),"En retard",""))) | X8: Exemple fictif — aucune réservation réelle n’est associée.
A9: =IF(C9="","","T-"&TEXT(ROW()-5,"000")) | B9: Logistique | C9: Préparation de l’espace | D9: Plan d’implantation fictif prêt pour validation | E9: 46295 | F9: Moyenne | G9: À faire | I9: C | J9: R/A | M9: C | N9: I | P9: I | R9: =IF(C9="","",COUNTIF(H9:Q9,"R")+COUNTIF(H9:Q9,"R/A")) | S9: =IF(C9="","",COUNTIF(H9:Q9,"A")+COUNTIF(H9:Q9,"R/A")) | T9: =IF(C9="","",COUNTIF(H9:Q9,"C")) | U9: =IF(C9="","",COUNTIF(H9:Q9,"I")) | V9: =IF(C9="","",IF(S9<>1,"À corriger",IF(R9=0,"À corriger","Complet"))) | W9: =IF(C9="","",IF(E9="","Échéance absente",IF(AND(G9<>"Terminée",E9<Paramètres!$B$2),"En retard",""))) | X9: Exemple fictif — espace et organisation entièrement inventés.
A10: =IF(C10="","","T-"&TEXT(ROW()-5,"000")) | B10: Technique | C10: Plan technique | D10: Besoins audiovisuels fictifs recensés | E10: 46300 | F10: Haute | G10: Bloquée | H10: A | I10: C | J10: C | K10: C | M10: R | R10: =IF(C10="","",COUNTIF(H10:Q10,"R")+COUNTIF(H10:Q10,"R/A")) | S10: =IF(C10="","",COUNTIF(H10:Q10,"A")+COUNTIF(H10:Q10,"R/A")) | T10: =IF(C10="","",COUNTIF(H10:Q10,"C")) | U10: =IF(C10="","",COUNTIF(H10:Q10,"I")) | V10: =IF(C10="","",IF(S10<>1,"À corriger",IF(R10=0,"À corriger","Complet"))) | W10: =IF(C10="","",IF(E10="","Échéance absente",IF(AND(G10<>"Terminée",E10<Paramètres!$B$2),"En retard",""))) | X10: Exemple fictif — aucun prestataire réel n’est mentionné.
A11: =IF(C11="","","T-"&TEXT(ROW()-5,"000")) | B11: Communication | C11: Supports d’invitation | D11: Maquettes fictives prêtes pour relecture interne | E11: 46305 | F11: Moyenne | G11: En cours | H11: A | K11: C | L11: R | O11: I | P11: C | R11: =IF(C11="","",COUNTIF(H11:Q11,"R")+COUNTIF(H11:Q11,"R/A")) | S11: =IF(C11="","",COUNTIF(H11:Q11,"A")+COUNTIF(H11:Q11,"R/A")) | T11: =IF(C11="","",COUNTIF(H11:Q11,"C")) | U11: =IF(C11="","",COUNTIF(H11:Q11,"I")) | V11: =IF(C11="","",IF(S11<>1,"À corriger",IF(R11=0,"À corriger","Complet"))) | W11: =IF(C11="","",IF(E11="","Échéance absente",IF(AND(G11<>"Terminée",E11<Paramètres!$B$2),"En retard",""))) | X11: Exemple fictif — aucun envoi ni fichier de contacts n’est prévu.
A12: =IF(C12="","","T-"&TEXT(ROW()-5,"000")) | B12: Intervenants | C12: Coordination des intervenants | D12: Déroulé fictif des prises de parole consolidé | E12: 46310 | F12: Haute | G12: À faire | H12: A | I12: R | K12: R | L12: C | N12: I | R12: =IF(C12="","",COUNTIF(H12:Q12,"R")+COUNTIF(H12:Q12,"R/A")) | S12: =IF(C12="","",COUNTIF(H12:Q12,"A")+COUNTIF(H12:Q12,"R/A")) | T12: =IF(C12="","",COUNTIF(H12:Q12,"C")) | U12: =IF(C12="","",COUNTIF(H12:Q12,"I")) | V12: =IF(C12="","",IF(S12<>1,"À corriger",IF(R12=0,"À corriger","Complet"))) | W12: =IF(C12="","",IF(E12="","Échéance absente",IF(AND(G12<>"Terminée",E12<Paramètres!$B$2),"En retard",""))) | X12: Exemple fictif — les intervenants ne correspondent à aucune personne réelle.
A13: =IF(C13="","","T-"&TEXT(ROW()-5,"000")) | B13: Accueil | C13: Organisation de l’accueil | D13: Parcours d’accueil fictif défini | E13: 46315 | F13: Moyenne | G13: À faire | I13: A | J13: C | L13: I | N13: R | P13: C | R13: =IF(C13="","",COUNTIF(H13:Q13,"R")+COUNTIF(H13:Q13,"R/A")) | S13: =IF(C13="","",COUNTIF(H13:Q13,"A")+COUNTIF(H13:Q13,"R/A")) | T13: =IF(C13="","",COUNTIF(H13:Q13,"C")) | U13: =IF(C13="","",COUNTIF(H13:Q13,"I")) | V13: =IF(C13="","",IF(S13<>1,"À corriger",IF(R13=0,"À corriger","Complet"))) | W13: =IF(C13="","",IF(E13="","Échéance absente",IF(AND(G13<>"Terminée",E13<Paramètres!$B$2),"En retard",""))) | X13: Exemple fictif — aucun participant ni dispositif réel n’est enregistré.
A14: =IF(C14="","","T-"&TEXT(ROW()-5,"000")) | B14: Technique | C14: Répétition générale | D14: Scénario fictif de répétition établi | E14: 46320 | F14: Haute | G14: À faire | H14: I | I14: A | K14: C | M14: R | N14: R | R14: =IF(C14="","",COUNTIF(H14:Q14,"R")+COUNTIF(H14:Q14,"R/A")) | S14: =IF(C14="","",COUNTIF(H14:Q14,"A")+COUNTIF(H14:Q14,"R/A")) | T14: =IF(C14="","",COUNTIF(H14:Q14,"C")) | U14: =IF(C14="","",COUNTIF(H14:Q14,"I")) | V14: =IF(C14="","",IF(S14<>1,"À corriger",IF(R14=0,"À corriger","Complet"))) | W14: =IF(C14="","",IF(E14="","Échéance absente",IF(AND(G14<>"Terminée",E14<Paramètres!$B$2),"En retard",""))) | X14: Exemple fictif — répétition sans lieu ni équipe réels.
A15: =IF(C15="","","T-"&TEXT(ROW()-5,"000")) | B15: Clôture | C15: Bilan interne | D15: Synthèse fictive des enseignements préparée | E15: 46325 | F15: Basse | G15: À faire | H15: A | I15: R | K15: C | L15: C | P15: R | Q15: I | R15: =IF(C15="","",COUNTIF(H15:Q15,"R")+COUNTIF(H15:Q15,"R/A")) | S15: =IF(C15="","",COUNTIF(H15:Q15,"A")+COUNTIF(H15:Q15,"R/A")) | T15: =IF(C15="","",COUNTIF(H15:Q15,"C")) | U15: =IF(C15="","",COUNTIF(H15:Q15,"I")) | V15: =IF(C15="","",IF(S15<>1,"À corriger",IF(R15=0,"À corriger","Complet"))) | W15: =IF(C15="","",IF(E15="","Échéance absente",IF(AND(G15<>"Terminée",E15<Paramètres!$B$2),"En retard",""))) | X15: Exemple fictif — bilan de démonstration sans données opérationnelles.
A16: =IF(C16="","","T-"&TEXT(ROW()-5,"000")) | R16: =IF(C16="","",COUNTIF(H16:Q16,"R")+COUNTIF(H16:Q16,"R/A")) | S16: =IF(C16="","",COUNTIF(H16:Q16,"A")+COUNTIF(H16:Q16,"R/A")) | T16: =IF(C16="","",COUNTIF(H16:Q16,"C")) | U16: =IF(C16="","",COUNTIF(H16:Q16,"I")) | V16: =IF(C16="","",IF(S16<>1,"À corriger",IF(R16=0,"À corriger","Complet"))) | W16: =IF(C16="","",IF(E16="","Échéance absente",IF(AND(G16<>"Terminée",E16<Paramètres!$B$2),"En retard","")))
A17: =IF(C17="","","T-"&TEXT(ROW()-5,"000")) | R17: =IF(C17="","",COUNTIF(H17:Q17,"R")+COUNTIF(H17:Q17,"R/A")) | S17: =IF(C17="","",COUNTIF(H17:Q17,"A")+COUNTIF(H17:Q17,"R/A")) | T17: =IF(C17="","",COUNTIF(H17:Q17,"C")) | U17: =IF(C17="","",COUNTIF(H17:Q17,"I")) | V17: =IF(C17="","",IF(S17<>1,"À corriger",IF(R17=0,"À corriger","Complet"))) | W17: =IF(C17="","",IF(E17="","Échéance absente",IF(AND(G17<>"Terminée",E17<Paramètres!$B$2),"En retard","")))
A18: =IF(C18="","","T-"&TEXT(ROW()-5,"000")) | R18: =IF(C18="","",COUNTIF(H18:Q18,"R")+COUNTIF(H18:Q18,"R/A")) | S18: =IF(C18="","",COUNTIF(H18:Q18,"A")+COUNTIF(H18:Q18,"R/A")) | T18: =IF(C18="","",COUNTIF(H18:Q18,"C")) | U18: =IF(C18="","",COUNTIF(H18:Q18,"I")) | V18: =IF(C18="","",IF(S18<>1,"À corriger",IF(R18=0,"À corriger","Complet"))) | W18: =IF(C18="","",IF(E18="","Échéance absente",IF(AND(G18<>"Terminée",E18<Paramètres!$B$2),"En retard","")))
A19: =IF(C19="","","T-"&TEXT(ROW()-5,"000")) | R19: =IF(C19="","",COUNTIF(H19:Q19,"R")+COUNTIF(H19:Q19,"R/A")) | S19: =IF(C19="","",COUNTIF(H19:Q19,"A")+COUNTIF(H19:Q19,"R/A")) | T19: =IF(C19="","",COUNTIF(H19:Q19,"C")) | U19: =IF(C19="","",COUNTIF(H19:Q19,"I")) | V19: =IF(C19="","",IF(S19<>1,"À corriger",IF(R19=0,"À corriger","Complet"))) | W19: =IF(C19="","",IF(E19="","Échéance absente",IF(AND(G19<>"Terminée",E19<Paramètres!$B$2),"En retard","")))
A20: =IF(C20="","","T-"&TEXT(ROW()-5,"000")) | R20: =IF(C20="","",COUNTIF(H20:Q20,"R")+COUNTIF(H20:Q20,"R/A")) | S20: =IF(C20="","",COUNTIF(H20:Q20,"A")+COUNTIF(H20:Q20,"R/A")) | T20: =IF(C20="","",COUNTIF(H20:Q20,"C")) | U20: =IF(C20="","",COUNTIF(H20:Q20,"I")) | V20: =IF(C20="","",IF(S20<>1,"À corriger",IF(R20=0,"À corriger","Complet"))) | W20: =IF(C20="","",IF(E20="","Échéance absente",IF(AND(G20<>"Terminée",E20<Paramètres!$B$2),"En retard","")))
A21: =IF(C21="","","T-"&TEXT(ROW()-5,"000")) | R21: =IF(C21="","",COUNTIF(H21:Q21,"R")+COUNTIF(H21:Q21,"R/A")) | S21: =IF(C21="","",COUNTIF(H21:Q21,"A")+COUNTIF(H21:Q21,"R/A")) | T21: =IF(C21="","",COUNTIF(H21:Q21,"C")) | U21: =IF(C21="","",COUNTIF(H21:Q21,"I")) | V21: =IF(C21="","",IF(S21<>1,"À corriger",IF(R21=0,"À corriger","Complet"))) | W21: =IF(C21="","",IF(E21="","Échéance absente",IF(AND(G21<>"Terminée",E21<Paramètres!$B$2),"En retard","")))
A22: =IF(C22="","","T-"&TEXT(ROW()-5,"000")) | R22: =IF(C22="","",COUNTIF(H22:Q22,"R")+COUNTIF(H22:Q22,"R/A")) | S22: =IF(C22="","",COUNTIF(H22:Q22,"A")+COUNTIF(H22:Q22,"R/A")) | T22: =IF(C22="","",COUNTIF(H22:Q22,"C")) | U22: =IF(C22="","",COUNTIF(H22:Q22,"I")) | V22: =IF(C22="","",IF(S22<>1,"À corriger",IF(R22=0,"À corriger","Complet"))) | W22: =IF(C22="","",IF(E22="","Échéance absente",IF(AND(G22<>"Terminée",E22<Paramètres!$B$2),"En retard","")))
A23: =IF(C23="","","T-"&TEXT(ROW()-5,"000")) | R23: =IF(C23="","",COUNTIF(H23:Q23,"R")+COUNTIF(H23:Q23,"R/A")) | S23: =IF(C23="","",COUNTIF(H23:Q23,"A")+COUNTIF(H23:Q23,"R/A")) | T23: =IF(C23="","",COUNTIF(H23:Q23,"C")) | U23: =IF(C23="","",COUNTIF(H23:Q23,"I")) | V23: =IF(C23="","",IF(S23<>1,"À corriger",IF(R23=0,"À corriger","Complet"))) | W23: =IF(C23="","",IF(E23="","Échéance absente",IF(AND(G23<>"Terminée",E23<Paramètres!$B$2),"En retard","")))
A24: =IF(C24="","","T-"&TEXT(ROW()-5,"000")) | R24: =IF(C24="","",COUNTIF(H24:Q24,"R")+COUNTIF(H24:Q24,"R/A")) | S24: =IF(C24="","",COUNTIF(H24:Q24,"A")+COUNTIF(H24:Q24,"R/A")) | T24: =IF(C24="","",COUNTIF(H24:Q24,"C")) | U24: =IF(C24="","",COUNTIF(H24:Q24,"I")) | V24: =IF(C24="","",IF(S24<>1,"À corriger",IF(R24=0,"À corriger","Complet"))) | W24: =IF(C24="","",IF(E24="","Échéance absente",IF(AND(G24<>"Terminée",E24<Paramètres!$B$2),"En retard","")))
A25: =IF(C25="","","T-"&TEXT(ROW()-5,"000")) | R25: =IF(C25="","",COUNTIF(H25:Q25,"R")+COUNTIF(H25:Q25,"R/A")) | S25: =IF(C25="","",COUNTIF(H25:Q25,"A")+COUNTIF(H25:Q25,"R/A")) | T25: =IF(C25="","",COUNTIF(H25:Q25,"C")) | U25: =IF(C25="","",COUNTIF(H25:Q25,"I")) | V25: =IF(C25="","",IF(S25<>1,"À corriger",IF(R25=0,"À corriger","Complet"))) | W25: =IF(C25="","",IF(E25="","Échéance absente",IF(AND(G25<>"Terminée",E25<Paramètres!$B$2),"En retard","")))
A26: =IF(C26="","","T-"&TEXT(ROW()-5,"000")) | R26: =IF(C26="","",COUNTIF(H26:Q26,"R")+COUNTIF(H26:Q26,"R/A")) | S26: =IF(C26="","",COUNTIF(H26:Q26,"A")+COUNTIF(H26:Q26,"R/A")) | T26: =IF(C26="","",COUNTIF(H26:Q26,"C")) | U26: =IF(C26="","",COUNTIF(H26:Q26,"I")) | V26: =IF(C26="","",IF(S26<>1,"À corriger",IF(R26=0,"À corriger","Complet"))) | W26: =IF(C26="","",IF(E26="","Échéance absente",IF(AND(G26<>"Terminée",E26<Paramètres!$B$2),"En retard","")))
A27: =IF(C27="","","T-"&TEXT(ROW()-5,"000")) | R27: =IF(C27="","",COUNTIF(H27:Q27,"R")+COUNTIF(H27:Q27,"R/A")) | S27: =IF(C27="","",COUNTIF(H27:Q27,"A")+COUNTIF(H27:Q27,"R/A")) | T27: =IF(C27="","",COUNTIF(H27:Q27,"C")) | U27: =IF(C27="","",COUNTIF(H27:Q27,"I")) | V27: =IF(C27="","",IF(S27<>1,"À corriger",IF(R27=0,"À corriger","Complet"))) | W27: =IF(C27="","",IF(E27="","Échéance absente",IF(AND(G27<>"Terminée",E27<Paramètres!$B$2),"En retard","")))
... A105: =IF(C105="","","T-"&TEXT(ROW()-5,"000")) | R105: =IF(C105="","",COUNTIF(H105:Q105,"R")+COUNTIF(H105:Q105,"R/A")) | S105: =IF(C105="","",COUNTIF(H105:Q105,"A")+COUNTIF(H105:Q105,"R/A")) | T105: =IF(C105="","",COUNTIF(H105:Q105,"C")) | U105: =IF(C105="","",COUNTIF(H105:Q105,"I")) | V105: =IF(C105="","",IF(S105<>1,"À corriger",IF(R105=0,"À corriger","Complet"))) | W105: =IF(C105="","",IF(E105="","Échéance absente",IF(AND(G105<>"Terminée",E105<Paramètres!$B$2),"En retard","")))

Sheet Paramètres
A1: Paramètres de la matrice RACI
A2: Date d’analyse | B2: 46272
A3: Seuil indicatif de responsabilités R par rôle | B3: 15
A6: N° | B6: Libellé du rôle | D6: Phases | E6: Priorités | F6: Statuts | G6: Codes RACI
A7: 1 | B7: Direction de projet | D7: Cadrage | E7: Haute | F7: À faire | G7: R
A8: 2 | B8: Coordination | D8: Programme | E8: Moyenne | F8: En cours | G8: A
A9: 3 | B9: Logistique | D9: Planification | E9: Basse | F9: Bloquée | G9: C
A10: 4 | B10: Contenu | D10: Logistique | F10: Terminée | G10: I
A11: 5 | B11: Communication | D11: Technique | G11: R/A
A12: 6 | B12: Technique | D12: Communication
A13: 7 | B13: Accueil | D13: Intervenants
A14: 8 | B14: Partenariats | D14: Accueil
A15: 9 | B15: Administration | D15: Clôture
A16: 10 | B16: Direction
A18: Note | B18: Le seuil de charge est indicatif et doit être adapté au contexte du projet. Il ne constitue ni une norme ni une garantie contractuelle ou réglementaire.
A19: Périmètre | B19: Cet outil répartit les responsabilités RACI. Il ne remplace ni planning détaillé, ni budget, ni annuaire, ni billetterie ou CRM.
