Workbook

Sheet Synthèse
A1: Synthèse des validations et décision de passage
A2: La décision est limitée à l’événement sélectionné et reste un repère interne non contractuel.
A4: Événement analysé | B4: =Paramètres!$B$3 | D4: Délai d’alerte | E4: =Paramètres!$B$4
A5: Date de référence | B5: =Paramètres!$B$2
A7: Total jalons | B7: =IF(Paramètres!$B$3="","",COUNTIF('Jalons'!$B$4:$B$103,Paramètres!$B$3)) | C7: Jalons critiques | D7: =IF(Paramètres!$B$3="","",COUNTIFS('Jalons'!$B$4:$B$103,Paramètres!$B$3,'Jalons'!$K$4:$K$103,"Oui")) | E7: Critiques validés | F7: =IF(Paramètres!$B$3="","",COUNTIFS('Jalons'!$B$4:$B$103,Paramètres!$B$3,'Jalons'!$K$4:$K$103,"Oui",'Jalons'!$M$4:$M$103,"Validé"))
A8: Taux critiques validés | B8: =IF(Paramètres!$B$3="","",IFERROR(COUNTIFS('Jalons'!$B$4:$B$103,Paramètres!$B$3,'Jalons'!$K$4:$K$103,"Oui",'Jalons'!$M$4:$M$103,"Validé")/COUNTIFS('Jalons'!$B$4:$B$103,Paramètres!$B$3,'Jalons'!$K$4:$K$103,"Oui"),0)) | C8: Critiques refusés | D8: =IF(Paramètres!$B$3="","",COUNTIFS('Jalons'!$B$4:$B$103,Paramètres!$B$3,'Jalons'!$K$4:$K$103,"Oui",'Jalons'!$M$4:$M$103,"Refusé")) | E8: Critiques en attente | F8: =IF(Paramètres!$B$3="","",COUNTIFS('Jalons'!$B$4:$B$103,Paramètres!$B$3,'Jalons'!$K$4:$K$103,"Oui",'Jalons'!$M$4:$M$103,"<>Validé",'Jalons'!$M$4:$M$103,"<>Refusé",'Jalons'!$M$4:$M$103,"<>Sans objet"))
A10: Décision | B10: =IF(Paramètres!$B$3="","",IF(COUNTIFS('Jalons'!$B$4:$B$103,Paramètres!$B$3,'Jalons'!$K$4:$K$103,"Oui")=0,"AUCUN JALON CRITIQUE",IF(COUNTIFS('Jalons'!$B$4:$B$103,Paramètres!$B$3,'Jalons'!$K$4:$K$103,"Oui",'Jalons'!$M$4:$M$103,"Refusé")>0,"ARBITRAGE",IF(COUNTIFS('Jalons'!$B$4:$B$103,Paramètres!$B$3,'Jalons'!$K$4:$K$103,"Oui",'Jalons'!$M$4:$M$103,"Validé")=COUNTIFS('Jalons'!$B$4:$B$103,Paramètres!$B$3,'Jalons'!$K$4:$K$103,"Oui"),"PASSAGE AUTORISÉ","ATTENTE"))))
A12: ID jalon | B12: Jalon | C12: Rôle responsable | D12: Date cible | E12: Statut | F12: Alerte
A13: =IFERROR(INDEX(Jalons!$A$4:$A$103,AGGREGATE(15,6,(ROW(Jalons!$A$4:$A$103)-ROW(Jalons!$A$4)+1)/((Jalons!$B$4:$B$103=Paramètres!$B$3)*(Jalons!$R$4:$R$103<>"")*(Jalons!$R$4:$R$103<>"OK")),1)),"") | B13: =IF($A13="","",IFERROR(INDEX(Jalons!$E$4:$E$103,MATCH($A13,Jalons!$A$4:$A$103,0)),"")) | C13: =IF($A13="","",IFERROR(INDEX(Jalons!$G$4:$G$103,MATCH($A13,Jalons!$A$4:$A$103,0)),"")) | D13: =IF($A13="","",IFERROR(IF(INDEX(Jalons!$J$4:$J$103,MATCH($A13,Jalons!$A$4:$A$103,0))=0,"",INDEX(Jalons!$J$4:$J$103,MATCH($A13,Jalons!$A$4:$A$103,0))),"")) | E13: =IF($A13="","",IFERROR(INDEX(Jalons!$M$4:$M$103,MATCH($A13,Jalons!$A$4:$A$103,0)),"")) | F13: =IF($A13="","",IFERROR(INDEX(Jalons!$R$4:$R$103,MATCH($A13,Jalons!$A$4:$A$103,0)),""))
A14: =IFERROR(INDEX(Jalons!$A$4:$A$103,AGGREGATE(15,6,(ROW(Jalons!$A$4:$A$103)-ROW(Jalons!$A$4)+1)/((Jalons!$B$4:$B$103=Paramètres!$B$3)*(Jalons!$R$4:$R$103<>"")*(Jalons!$R$4:$R$103<>"OK")),2)),"") | B14: =IF($A14="","",IFERROR(INDEX(Jalons!$E$4:$E$103,MATCH($A14,Jalons!$A$4:$A$103,0)),"")) | C14: =IF($A14="","",IFERROR(INDEX(Jalons!$G$4:$G$103,MATCH($A14,Jalons!$A$4:$A$103,0)),"")) | D14: =IF($A14="","",IFERROR(IF(INDEX(Jalons!$J$4:$J$103,MATCH($A14,Jalons!$A$4:$A$103,0))=0,"",INDEX(Jalons!$J$4:$J$103,MATCH($A14,Jalons!$A$4:$A$103,0))),"")) | E14: =IF($A14="","",IFERROR(INDEX(Jalons!$M$4:$M$103,MATCH($A14,Jalons!$A$4:$A$103,0)),"")) | F14: =IF($A14="","",IFERROR(INDEX(Jalons!$R$4:$R$103,MATCH($A14,Jalons!$A$4:$A$103,0)),""))
A15: =IFERROR(INDEX(Jalons!$A$4:$A$103,AGGREGATE(15,6,(ROW(Jalons!$A$4:$A$103)-ROW(Jalons!$A$4)+1)/((Jalons!$B$4:$B$103=Paramètres!$B$3)*(Jalons!$R$4:$R$103<>"")*(Jalons!$R$4:$R$103<>"OK")),3)),"") | B15: =IF($A15="","",IFERROR(INDEX(Jalons!$E$4:$E$103,MATCH($A15,Jalons!$A$4:$A$103,0)),"")) | C15: =IF($A15="","",IFERROR(INDEX(Jalons!$G$4:$G$103,MATCH($A15,Jalons!$A$4:$A$103,0)),"")) | D15: =IF($A15="","",IFERROR(IF(INDEX(Jalons!$J$4:$J$103,MATCH($A15,Jalons!$A$4:$A$103,0))=0,"",INDEX(Jalons!$J$4:$J$103,MATCH($A15,Jalons!$A$4:$A$103,0))),"")) | E15: =IF($A15="","",IFERROR(INDEX(Jalons!$M$4:$M$103,MATCH($A15,Jalons!$A$4:$A$103,0)),"")) | F15: =IF($A15="","",IFERROR(INDEX(Jalons!$R$4:$R$103,MATCH($A15,Jalons!$A$4:$A$103,0)),""))
A16: =IFERROR(INDEX(Jalons!$A$4:$A$103,AGGREGATE(15,6,(ROW(Jalons!$A$4:$A$103)-ROW(Jalons!$A$4)+1)/((Jalons!$B$4:$B$103=Paramètres!$B$3)*(Jalons!$R$4:$R$103<>"")*(Jalons!$R$4:$R$103<>"OK")),4)),"") | B16: =IF($A16="","",IFERROR(INDEX(Jalons!$E$4:$E$103,MATCH($A16,Jalons!$A$4:$A$103,0)),"")) | C16: =IF($A16="","",IFERROR(INDEX(Jalons!$G$4:$G$103,MATCH($A16,Jalons!$A$4:$A$103,0)),"")) | D16: =IF($A16="","",IFERROR(IF(INDEX(Jalons!$J$4:$J$103,MATCH($A16,Jalons!$A$4:$A$103,0))=0,"",INDEX(Jalons!$J$4:$J$103,MATCH($A16,Jalons!$A$4:$A$103,0))),"")) | E16: =IF($A16="","",IFERROR(INDEX(Jalons!$M$4:$M$103,MATCH($A16,Jalons!$A$4:$A$103,0)),"")) | F16: =IF($A16="","",IFERROR(INDEX(Jalons!$R$4:$R$103,MATCH($A16,Jalons!$A$4:$A$103,0)),""))
A17: =IFERROR(INDEX(Jalons!$A$4:$A$103,AGGREGATE(15,6,(ROW(Jalons!$A$4:$A$103)-ROW(Jalons!$A$4)+1)/((Jalons!$B$4:$B$103=Paramètres!$B$3)*(Jalons!$R$4:$R$103<>"")*(Jalons!$R$4:$R$103<>"OK")),5)),"") | B17: =IF($A17="","",IFERROR(INDEX(Jalons!$E$4:$E$103,MATCH($A17,Jalons!$A$4:$A$103,0)),"")) | C17: =IF($A17="","",IFERROR(INDEX(Jalons!$G$4:$G$103,MATCH($A17,Jalons!$A$4:$A$103,0)),"")) | D17: =IF($A17="","",IFERROR(IF(INDEX(Jalons!$J$4:$J$103,MATCH($A17,Jalons!$A$4:$A$103,0))=0,"",INDEX(Jalons!$J$4:$J$103,MATCH($A17,Jalons!$A$4:$A$103,0))),"")) | E17: =IF($A17="","",IFERROR(INDEX(Jalons!$M$4:$M$103,MATCH($A17,Jalons!$A$4:$A$103,0)),"")) | F17: =IF($A17="","",IFERROR(INDEX(Jalons!$R$4:$R$103,MATCH($A17,Jalons!$A$4:$A$103,0)),""))
A18: =IFERROR(INDEX(Jalons!$A$4:$A$103,AGGREGATE(15,6,(ROW(Jalons!$A$4:$A$103)-ROW(Jalons!$A$4)+1)/((Jalons!$B$4:$B$103=Paramètres!$B$3)*(Jalons!$R$4:$R$103<>"")*(Jalons!$R$4:$R$103<>"OK")),6)),"") | B18: =IF($A18="","",IFERROR(INDEX(Jalons!$E$4:$E$103,MATCH($A18,Jalons!$A$4:$A$103,0)),"")) | C18: =IF($A18="","",IFERROR(INDEX(Jalons!$G$4:$G$103,MATCH($A18,Jalons!$A$4:$A$103,0)),"")) | D18: =IF($A18="","",IFERROR(IF(INDEX(Jalons!$J$4:$J$103,MATCH($A18,Jalons!$A$4:$A$103,0))=0,"",INDEX(Jalons!$J$4:$J$103,MATCH($A18,Jalons!$A$4:$A$103,0))),"")) | E18: =IF($A18="","",IFERROR(INDEX(Jalons!$M$4:$M$103,MATCH($A18,Jalons!$A$4:$A$103,0)),"")) | F18: =IF($A18="","",IFERROR(INDEX(Jalons!$R$4:$R$103,MATCH($A18,Jalons!$A$4:$A$103,0)),""))
A19: =IFERROR(INDEX(Jalons!$A$4:$A$103,AGGREGATE(15,6,(ROW(Jalons!$A$4:$A$103)-ROW(Jalons!$A$4)+1)/((Jalons!$B$4:$B$103=Paramètres!$B$3)*(Jalons!$R$4:$R$103<>"")*(Jalons!$R$4:$R$103<>"OK")),7)),"") | B19: =IF($A19="","",IFERROR(INDEX(Jalons!$E$4:$E$103,MATCH($A19,Jalons!$A$4:$A$103,0)),"")) | C19: =IF($A19="","",IFERROR(INDEX(Jalons!$G$4:$G$103,MATCH($A19,Jalons!$A$4:$A$103,0)),"")) | D19: =IF($A19="","",IFERROR(IF(INDEX(Jalons!$J$4:$J$103,MATCH($A19,Jalons!$A$4:$A$103,0))=0,"",INDEX(Jalons!$J$4:$J$103,MATCH($A19,Jalons!$A$4:$A$103,0))),"")) | E19: =IF($A19="","",IFERROR(INDEX(Jalons!$M$4:$M$103,MATCH($A19,Jalons!$A$4:$A$103,0)),"")) | F19: =IF($A19="","",IFERROR(INDEX(Jalons!$R$4:$R$103,MATCH($A19,Jalons!$A$4:$A$103,0)),""))
A20: =IFERROR(INDEX(Jalons!$A$4:$A$103,AGGREGATE(15,6,(ROW(Jalons!$A$4:$A$103)-ROW(Jalons!$A$4)+1)/((Jalons!$B$4:$B$103=Paramètres!$B$3)*(Jalons!$R$4:$R$103<>"")*(Jalons!$R$4:$R$103<>"OK")),8)),"") | B20: =IF($A20="","",IFERROR(INDEX(Jalons!$E$4:$E$103,MATCH($A20,Jalons!$A$4:$A$103,0)),"")) | C20: =IF($A20="","",IFERROR(INDEX(Jalons!$G$4:$G$103,MATCH($A20,Jalons!$A$4:$A$103,0)),"")) | D20: =IF($A20="","",IFERROR(IF(INDEX(Jalons!$J$4:$J$103,MATCH($A20,Jalons!$A$4:$A$103,0))=0,"",INDEX(Jalons!$J$4:$J$103,MATCH($A20,Jalons!$A$4:$A$103,0))),"")) | E20: =IF($A20="","",IFERROR(INDEX(Jalons!$M$4:$M$103,MATCH($A20,Jalons!$A$4:$A$103,0)),"")) | F20: =IF($A20="","",IFERROR(INDEX(Jalons!$R$4:$R$103,MATCH($A20,Jalons!$A$4:$A$103,0)),""))
A21: =IFERROR(INDEX(Jalons!$A$4:$A$103,AGGREGATE(15,6,(ROW(Jalons!$A$4:$A$103)-ROW(Jalons!$A$4)+1)/((Jalons!$B$4:$B$103=Paramètres!$B$3)*(Jalons!$R$4:$R$103<>"")*(Jalons!$R$4:$R$103<>"OK")),9)),"") | B21: =IF($A21="","",IFERROR(INDEX(Jalons!$E$4:$E$103,MATCH($A21,Jalons!$A$4:$A$103,0)),"")) | C21: =IF($A21="","",IFERROR(INDEX(Jalons!$G$4:$G$103,MATCH($A21,Jalons!$A$4:$A$103,0)),"")) | D21: =IF($A21="","",IFERROR(IF(INDEX(Jalons!$J$4:$J$103,MATCH($A21,Jalons!$A$4:$A$103,0))=0,"",INDEX(Jalons!$J$4:$J$103,MATCH($A21,Jalons!$A$4:$A$103,0))),"")) | E21: =IF($A21="","",IFERROR(INDEX(Jalons!$M$4:$M$103,MATCH($A21,Jalons!$A$4:$A$103,0)),"")) | F21: =IF($A21="","",IFERROR(INDEX(Jalons!$R$4:$R$103,MATCH($A21,Jalons!$A$4:$A$103,0)),""))
A22: =IFERROR(INDEX(Jalons!$A$4:$A$103,AGGREGATE(15,6,(ROW(Jalons!$A$4:$A$103)-ROW(Jalons!$A$4)+1)/((Jalons!$B$4:$B$103=Paramètres!$B$3)*(Jalons!$R$4:$R$103<>"")*(Jalons!$R$4:$R$103<>"OK")),10)),"") | B22: =IF($A22="","",IFERROR(INDEX(Jalons!$E$4:$E$103,MATCH($A22,Jalons!$A$4:$A$103,0)),"")) | C22: =IF($A22="","",IFERROR(INDEX(Jalons!$G$4:$G$103,MATCH($A22,Jalons!$A$4:$A$103,0)),"")) | D22: =IF($A22="","",IFERROR(IF(INDEX(Jalons!$J$4:$J$103,MATCH($A22,Jalons!$A$4:$A$103,0))=0,"",INDEX(Jalons!$J$4:$J$103,MATCH($A22,Jalons!$A$4:$A$103,0))),"")) | E22: =IF($A22="","",IFERROR(INDEX(Jalons!$M$4:$M$103,MATCH($A22,Jalons!$A$4:$A$103,0)),"")) | F22: =IF($A22="","",IFERROR(INDEX(Jalons!$R$4:$R$103,MATCH($A22,Jalons!$A$4:$A$103,0)),""))
A23: =IFERROR(INDEX(Jalons!$A$4:$A$103,AGGREGATE(15,6,(ROW(Jalons!$A$4:$A$103)-ROW(Jalons!$A$4)+1)/((Jalons!$B$4:$B$103=Paramètres!$B$3)*(Jalons!$R$4:$R$103<>"")*(Jalons!$R$4:$R$103<>"OK")),11)),"") | B23: =IF($A23="","",IFERROR(INDEX(Jalons!$E$4:$E$103,MATCH($A23,Jalons!$A$4:$A$103,0)),"")) | C23: =IF($A23="","",IFERROR(INDEX(Jalons!$G$4:$G$103,MATCH($A23,Jalons!$A$4:$A$103,0)),"")) | D23: =IF($A23="","",IFERROR(IF(INDEX(Jalons!$J$4:$J$103,MATCH($A23,Jalons!$A$4:$A$103,0))=0,"",INDEX(Jalons!$J$4:$J$103,MATCH($A23,Jalons!$A$4:$A$103,0))),"")) | E23: =IF($A23="","",IFERROR(INDEX(Jalons!$M$4:$M$103,MATCH($A23,Jalons!$A$4:$A$103,0)),"")) | F23: =IF($A23="","",IFERROR(INDEX(Jalons!$R$4:$R$103,MATCH($A23,Jalons!$A$4:$A$103,0)),""))
A24: =IFERROR(INDEX(Jalons!$A$4:$A$103,AGGREGATE(15,6,(ROW(Jalons!$A$4:$A$103)-ROW(Jalons!$A$4)+1)/((Jalons!$B$4:$B$103=Paramètres!$B$3)*(Jalons!$R$4:$R$103<>"")*(Jalons!$R$4:$R$103<>"OK")),12)),"") | B24: =IF($A24="","",IFERROR(INDEX(Jalons!$E$4:$E$103,MATCH($A24,Jalons!$A$4:$A$103,0)),"")) | C24: =IF($A24="","",IFERROR(INDEX(Jalons!$G$4:$G$103,MATCH($A24,Jalons!$A$4:$A$103,0)),"")) | D24: =IF($A24="","",IFERROR(IF(INDEX(Jalons!$J$4:$J$103,MATCH($A24,Jalons!$A$4:$A$103,0))=0,"",INDEX(Jalons!$J$4:$J$103,MATCH($A24,Jalons!$A$4:$A$103,0))),"")) | E24: =IF($A24="","",IFERROR(INDEX(Jalons!$M$4:$M$103,MATCH($A24,Jalons!$A$4:$A$103,0)),"")) | F24: =IF($A24="","",IFERROR(INDEX(Jalons!$R$4:$R$103,MATCH($A24,Jalons!$A$4:$A$103,0)),""))
A25: =IFERROR(INDEX(Jalons!$A$4:$A$103,AGGREGATE(15,6,(ROW(Jalons!$A$4:$A$103)-ROW(Jalons!$A$4)+1)/((Jalons!$B$4:$B$103=Paramètres!$B$3)*(Jalons!$R$4:$R$103<>"")*(Jalons!$R$4:$R$103<>"OK")),13)),"") | B25: =IF($A25="","",IFERROR(INDEX(Jalons!$E$4:$E$103,MATCH($A25,Jalons!$A$4:$A$103,0)),"")) | C25: =IF($A25="","",IFERROR(INDEX(Jalons!$G$4:$G$103,MATCH($A25,Jalons!$A$4:$A$103,0)),"")) | D25: =IF($A25="","",IFERROR(IF(INDEX(Jalons!$J$4:$J$103,MATCH($A25,Jalons!$A$4:$A$103,0))=0,"",INDEX(Jalons!$J$4:$J$103,MATCH($A25,Jalons!$A$4:$A$103,0))),"")) | E25: =IF($A25="","",IFERROR(INDEX(Jalons!$M$4:$M$103,MATCH($A25,Jalons!$A$4:$A$103,0)),"")) | F25: =IF($A25="","",IFERROR(INDEX(Jalons!$R$4:$R$103,MATCH($A25,Jalons!$A$4:$A$103,0)),""))
A26: =IFERROR(INDEX(Jalons!$A$4:$A$103,AGGREGATE(15,6,(ROW(Jalons!$A$4:$A$103)-ROW(Jalons!$A$4)+1)/((Jalons!$B$4:$B$103=Paramètres!$B$3)*(Jalons!$R$4:$R$103<>"")*(Jalons!$R$4:$R$103<>"OK")),14)),"") | B26: =IF($A26="","",IFERROR(INDEX(Jalons!$E$4:$E$103,MATCH($A26,Jalons!$A$4:$A$103,0)),"")) | C26: =IF($A26="","",IFERROR(INDEX(Jalons!$G$4:$G$103,MATCH($A26,Jalons!$A$4:$A$103,0)),"")) | D26: =IF($A26="","",IFERROR(IF(INDEX(Jalons!$J$4:$J$103,MATCH($A26,Jalons!$A$4:$A$103,0))=0,"",INDEX(Jalons!$J$4:$J$103,MATCH($A26,Jalons!$A$4:$A$103,0))),"")) | E26: =IF($A26="","",IFERROR(INDEX(Jalons!$M$4:$M$103,MATCH($A26,Jalons!$A$4:$A$103,0)),"")) | F26: =IF($A26="","",IFERROR(INDEX(Jalons!$R$4:$R$103,MATCH($A26,Jalons!$A$4:$A$103,0)),""))
A27: =IFERROR(INDEX(Jalons!$A$4:$A$103,AGGREGATE(15,6,(ROW(Jalons!$A$4:$A$103)-ROW(Jalons!$A$4)+1)/((Jalons!$B$4:$B$103=Paramètres!$B$3)*(Jalons!$R$4:$R$103<>"")*(Jalons!$R$4:$R$103<>"OK")),15)),"") | B27: =IF($A27="","",IFERROR(INDEX(Jalons!$E$4:$E$103,MATCH($A27,Jalons!$A$4:$A$103,0)),"")) | C27: =IF($A27="","",IFERROR(INDEX(Jalons!$G$4:$G$103,MATCH($A27,Jalons!$A$4:$A$103,0)),"")) | D27: =IF($A27="","",IFERROR(IF(INDEX(Jalons!$J$4:$J$103,MATCH($A27,Jalons!$A$4:$A$103,0))=0,"",INDEX(Jalons!$J$4:$J$103,MATCH($A27,Jalons!$A$4:$A$103,0))),"")) | E27: =IF($A27="","",IFERROR(INDEX(Jalons!$M$4:$M$103,MATCH($A27,Jalons!$A$4:$A$103,0)),"")) | F27: =IF($A27="","",IFERROR(INDEX(Jalons!$R$4:$R$103,MATCH($A27,Jalons!$A$4:$A$103,0)),""))
A28: =IFERROR(INDEX(Jalons!$A$4:$A$103,AGGREGATE(15,6,(ROW(Jalons!$A$4:$A$103)-ROW(Jalons!$A$4)+1)/((Jalons!$B$4:$B$103=Paramètres!$B$3)*(Jalons!$R$4:$R$103<>"")*(Jalons!$R$4:$R$103<>"OK")),16)),"") | B28: =IF($A28="","",IFERROR(INDEX(Jalons!$E$4:$E$103,MATCH($A28,Jalons!$A$4:$A$103,0)),"")) | C28: =IF($A28="","",IFERROR(INDEX(Jalons!$G$4:$G$103,MATCH($A28,Jalons!$A$4:$A$103,0)),"")) | D28: =IF($A28="","",IFERROR(IF(INDEX(Jalons!$J$4:$J$103,MATCH($A28,Jalons!$A$4:$A$103,0))=0,"",INDEX(Jalons!$J$4:$J$103,MATCH($A28,Jalons!$A$4:$A$103,0))),"")) | E28: =IF($A28="","",IFERROR(INDEX(Jalons!$M$4:$M$103,MATCH($A28,Jalons!$A$4:$A$103,0)),"")) | F28: =IF($A28="","",IFERROR(INDEX(Jalons!$R$4:$R$103,MATCH($A28,Jalons!$A$4:$A$103,0)),""))
A29: =IFERROR(INDEX(Jalons!$A$4:$A$103,AGGREGATE(15,6,(ROW(Jalons!$A$4:$A$103)-ROW(Jalons!$A$4)+1)/((Jalons!$B$4:$B$103=Paramètres!$B$3)*(Jalons!$R$4:$R$103<>"")*(Jalons!$R$4:$R$103<>"OK")),17)),"") | B29: =IF($A29="","",IFERROR(INDEX(Jalons!$E$4:$E$103,MATCH($A29,Jalons!$A$4:$A$103,0)),"")) | C29: =IF($A29="","",IFERROR(INDEX(Jalons!$G$4:$G$103,MATCH($A29,Jalons!$A$4:$A$103,0)),"")) | D29: =IF($A29="","",IFERROR(IF(INDEX(Jalons!$J$4:$J$103,MATCH($A29,Jalons!$A$4:$A$103,0))=0,"",INDEX(Jalons!$J$4:$J$103,MATCH($A29,Jalons!$A$4:$A$103,0))),"")) | E29: =IF($A29="","",IFERROR(INDEX(Jalons!$M$4:$M$103,MATCH($A29,Jalons!$A$4:$A$103,0)),"")) | F29: =IF($A29="","",IFERROR(INDEX(Jalons!$R$4:$R$103,MATCH($A29,Jalons!$A$4:$A$103,0)),""))
A30: =IFERROR(INDEX(Jalons!$A$4:$A$103,AGGREGATE(15,6,(ROW(Jalons!$A$4:$A$103)-ROW(Jalons!$A$4)+1)/((Jalons!$B$4:$B$103=Paramètres!$B$3)*(Jalons!$R$4:$R$103<>"")*(Jalons!$R$4:$R$103<>"OK")),18)),"") | B30: =IF($A30="","",IFERROR(INDEX(Jalons!$E$4:$E$103,MATCH($A30,Jalons!$A$4:$A$103,0)),"")) | C30: =IF($A30="","",IFERROR(INDEX(Jalons!$G$4:$G$103,MATCH($A30,Jalons!$A$4:$A$103,0)),"")) | D30: =IF($A30="","",IFERROR(IF(INDEX(Jalons!$J$4:$J$103,MATCH($A30,Jalons!$A$4:$A$103,0))=0,"",INDEX(Jalons!$J$4:$J$103,MATCH($A30,Jalons!$A$4:$A$103,0))),"")) | E30: =IF($A30="","",IFERROR(INDEX(Jalons!$M$4:$M$103,MATCH($A30,Jalons!$A$4:$A$103,0)),"")) | F30: =IF($A30="","",IFERROR(INDEX(Jalons!$R$4:$R$103,MATCH($A30,Jalons!$A$4:$A$103,0)),""))
A31: =IFERROR(INDEX(Jalons!$A$4:$A$103,AGGREGATE(15,6,(ROW(Jalons!$A$4:$A$103)-ROW(Jalons!$A$4)+1)/((Jalons!$B$4:$B$103=Paramètres!$B$3)*(Jalons!$R$4:$R$103<>"")*(Jalons!$R$4:$R$103<>"OK")),19)),"") | B31: =IF($A31="","",IFERROR(INDEX(Jalons!$E$4:$E$103,MATCH($A31,Jalons!$A$4:$A$103,0)),"")) | C31: =IF($A31="","",IFERROR(INDEX(Jalons!$G$4:$G$103,MATCH($A31,Jalons!$A$4:$A$103,0)),"")) | D31: =IF($A31="","",IFERROR(IF(INDEX(Jalons!$J$4:$J$103,MATCH($A31,Jalons!$A$4:$A$103,0))=0,"",INDEX(Jalons!$J$4:$J$103,MATCH($A31,Jalons!$A$4:$A$103,0))),"")) | E31: =IF($A31="","",IFERROR(INDEX(Jalons!$M$4:$M$103,MATCH($A31,Jalons!$A$4:$A$103,0)),"")) | F31: =IF($A31="","",IFERROR(INDEX(Jalons!$R$4:$R$103,MATCH($A31,Jalons!$A$4:$A$103,0)),""))
A32: =IFERROR(INDEX(Jalons!$A$4:$A$103,AGGREGATE(15,6,(ROW(Jalons!$A$4:$A$103)-ROW(Jalons!$A$4)+1)/((Jalons!$B$4:$B$103=Paramètres!$B$3)*(Jalons!$R$4:$R$103<>"")*(Jalons!$R$4:$R$103<>"OK")),20)),"") | B32: =IF($A32="","",IFERROR(INDEX(Jalons!$E$4:$E$103,MATCH($A32,Jalons!$A$4:$A$103,0)),"")) | C32: =IF($A32="","",IFERROR(INDEX(Jalons!$G$4:$G$103,MATCH($A32,Jalons!$A$4:$A$103,0)),"")) | D32: =IF($A32="","",IFERROR(IF(INDEX(Jalons!$J$4:$J$103,MATCH($A32,Jalons!$A$4:$A$103,0))=0,"",INDEX(Jalons!$J$4:$J$103,MATCH($A32,Jalons!$A$4:$A$103,0))),"")) | E32: =IF($A32="","",IFERROR(INDEX(Jalons!$M$4:$M$103,MATCH($A32,Jalons!$A$4:$A$103,0)),"")) | F32: =IF($A32="","",IFERROR(INDEX(Jalons!$R$4:$R$103,MATCH($A32,Jalons!$A$4:$A$103,0)),""))
A33: =IFERROR(INDEX(Jalons!$A$4:$A$103,AGGREGATE(15,6,(ROW(Jalons!$A$4:$A$103)-ROW(Jalons!$A$4)+1)/((Jalons!$B$4:$B$103=Paramètres!$B$3)*(Jalons!$R$4:$R$103<>"")*(Jalons!$R$4:$R$103<>"OK")),21)),"") | B33: =IF($A33="","",IFERROR(INDEX(Jalons!$E$4:$E$103,MATCH($A33,Jalons!$A$4:$A$103,0)),"")) | C33: =IF($A33="","",IFERROR(INDEX(Jalons!$G$4:$G$103,MATCH($A33,Jalons!$A$4:$A$103,0)),"")) | D33: =IF($A33="","",IFERROR(IF(INDEX(Jalons!$J$4:$J$103,MATCH($A33,Jalons!$A$4:$A$103,0))=0,"",INDEX(Jalons!$J$4:$J$103,MATCH($A33,Jalons!$A$4:$A$103,0))),"")) | E33: =IF($A33="","",IFERROR(INDEX(Jalons!$M$4:$M$103,MATCH($A33,Jalons!$A$4:$A$103,0)),"")) | F33: =IF($A33="","",IFERROR(INDEX(Jalons!$R$4:$R$103,MATCH($A33,Jalons!$A$4:$A$103,0)),""))
A34: =IFERROR(INDEX(Jalons!$A$4:$A$103,AGGREGATE(15,6,(ROW(Jalons!$A$4:$A$103)-ROW(Jalons!$A$4)+1)/((Jalons!$B$4:$B$103=Paramètres!$B$3)*(Jalons!$R$4:$R$103<>"")*(Jalons!$R$4:$R$103<>"OK")),22)),"") | B34: =IF($A34="","",IFERROR(INDEX(Jalons!$E$4:$E$103,MATCH($A34,Jalons!$A$4:$A$103,0)),"")) | C34: =IF($A34="","",IFERROR(INDEX(Jalons!$G$4:$G$103,MATCH($A34,Jalons!$A$4:$A$103,0)),"")) | D34: =IF($A34="","",IFERROR(IF(INDEX(Jalons!$J$4:$J$103,MATCH($A34,Jalons!$A$4:$A$103,0))=0,"",INDEX(Jalons!$J$4:$J$103,MATCH($A34,Jalons!$A$4:$A$103,0))),"")) | E34: =IF($A34="","",IFERROR(INDEX(Jalons!$M$4:$M$103,MATCH($A34,Jalons!$A$4:$A$103,0)),"")) | F34: =IF($A34="","",IFERROR(INDEX(Jalons!$R$4:$R$103,MATCH($A34,Jalons!$A$4:$A$103,0)),""))
A35: =IFERROR(INDEX(Jalons!$A$4:$A$103,AGGREGATE(15,6,(ROW(Jalons!$A$4:$A$103)-ROW(Jalons!$A$4)+1)/((Jalons!$B$4:$B$103=Paramètres!$B$3)*(Jalons!$R$4:$R$103<>"")*(Jalons!$R$4:$R$103<>"OK")),23)),"") | B35: =IF($A35="","",IFERROR(INDEX(Jalons!$E$4:$E$103,MATCH($A35,Jalons!$A$4:$A$103,0)),"")) | C35: =IF($A35="","",IFERROR(INDEX(Jalons!$G$4:$G$103,MATCH($A35,Jalons!$A$4:$A$103,0)),"")) | D35: =IF($A35="","",IFERROR(IF(INDEX(Jalons!$J$4:$J$103,MATCH($A35,Jalons!$A$4:$A$103,0))=0,"",INDEX(Jalons!$J$4:$J$103,MATCH($A35,Jalons!$A$4:$A$103,0))),"")) | E35: =IF($A35="","",IFERROR(INDEX(Jalons!$M$4:$M$103,MATCH($A35,Jalons!$A$4:$A$103,0)),"")) | F35: =IF($A35="","",IFERROR(INDEX(Jalons!$R$4:$R$103,MATCH($A35,Jalons!$A$4:$A$103,0)),""))
A36: =IFERROR(INDEX(Jalons!$A$4:$A$103,AGGREGATE(15,6,(ROW(Jalons!$A$4:$A$103)-ROW(Jalons!$A$4)+1)/((Jalons!$B$4:$B$103=Paramètres!$B$3)*(Jalons!$R$4:$R$103<>"")*(Jalons!$R$4:$R$103<>"OK")),24)),"") | B36: =IF($A36="","",IFERROR(INDEX(Jalons!$E$4:$E$103,MATCH($A36,Jalons!$A$4:$A$103,0)),"")) | C36: =IF($A36="","",IFERROR(INDEX(Jalons!$G$4:$G$103,MATCH($A36,Jalons!$A$4:$A$103,0)),"")) | D36: =IF($A36="","",IFERROR(IF(INDEX(Jalons!$J$4:$J$103,MATCH($A36,Jalons!$A$4:$A$103,0))=0,"",INDEX(Jalons!$J$4:$J$103,MATCH($A36,Jalons!$A$4:$A$103,0))),"")) | E36: =IF($A36="","",IFERROR(INDEX(Jalons!$M$4:$M$103,MATCH($A36,Jalons!$A$4:$A$103,0)),"")) | F36: =IF($A36="","",IFERROR(INDEX(Jalons!$R$4:$R$103,MATCH($A36,Jalons!$A$4:$A$103,0)),""))
A37: =IFERROR(INDEX(Jalons!$A$4:$A$103,AGGREGATE(15,6,(ROW(Jalons!$A$4:$A$103)-ROW(Jalons!$A$4)+1)/((Jalons!$B$4:$B$103=Paramètres!$B$3)*(Jalons!$R$4:$R$103<>"")*(Jalons!$R$4:$R$103<>"OK")),25)),"") | B37: =IF($A37="","",IFERROR(INDEX(Jalons!$E$4:$E$103,MATCH($A37,Jalons!$A$4:$A$103,0)),"")) | C37: =IF($A37="","",IFERROR(INDEX(Jalons!$G$4:$G$103,MATCH($A37,Jalons!$A$4:$A$103,0)),"")) | D37: =IF($A37="","",IFERROR(IF(INDEX(Jalons!$J$4:$J$103,MATCH($A37,Jalons!$A$4:$A$103,0))=0,"",INDEX(Jalons!$J$4:$J$103,MATCH($A37,Jalons!$A$4:$A$103,0))),"")) | E37: =IF($A37="","",IFERROR(INDEX(Jalons!$M$4:$M$103,MATCH($A37,Jalons!$A$4:$A$103,0)),"")) | F37: =IF($A37="","",IFERROR(INDEX(Jalons!$R$4:$R$103,MATCH($A37,Jalons!$A$4:$A$103,0)),""))
A38: =IFERROR(INDEX(Jalons!$A$4:$A$103,AGGREGATE(15,6,(ROW(Jalons!$A$4:$A$103)-ROW(Jalons!$A$4)+1)/((Jalons!$B$4:$B$103=Paramètres!$B$3)*(Jalons!$R$4:$R$103<>"")*(Jalons!$R$4:$R$103<>"OK")),26)),"") | B38: =IF($A38="","",IFERROR(INDEX(Jalons!$E$4:$E$103,MATCH($A38,Jalons!$A$4:$A$103,0)),"")) | C38: =IF($A38="","",IFERROR(INDEX(Jalons!$G$4:$G$103,MATCH($A38,Jalons!$A$4:$A$103,0)),"")) | D38: =IF($A38="","",IFERROR(IF(INDEX(Jalons!$J$4:$J$103,MATCH($A38,Jalons!$A$4:$A$103,0))=0,"",INDEX(Jalons!$J$4:$J$103,MATCH($A38,Jalons!$A$4:$A$103,0))),"")) | E38: =IF($A38="","",IFERROR(INDEX(Jalons!$M$4:$M$103,MATCH($A38,Jalons!$A$4:$A$103,0)),"")) | F38: =IF($A38="","",IFERROR(INDEX(Jalons!$R$4:$R$103,MATCH($A38,Jalons!$A$4:$A$103,0)),""))
A39: =IFERROR(INDEX(Jalons!$A$4:$A$103,AGGREGATE(15,6,(ROW(Jalons!$A$4:$A$103)-ROW(Jalons!$A$4)+1)/((Jalons!$B$4:$B$103=Paramètres!$B$3)*(Jalons!$R$4:$R$103<>"")*(Jalons!$R$4:$R$103<>"OK")),27)),"") | B39: =IF($A39="","",IFERROR(INDEX(Jalons!$E$4:$E$103,MATCH($A39,Jalons!$A$4:$A$103,0)),"")) | C39: =IF($A39="","",IFERROR(INDEX(Jalons!$G$4:$G$103,MATCH($A39,Jalons!$A$4:$A$103,0)),"")) | D39: =IF($A39="","",IFERROR(IF(INDEX(Jalons!$J$4:$J$103,MATCH($A39,Jalons!$A$4:$A$103,0))=0,"",INDEX(Jalons!$J$4:$J$103,MATCH($A39,Jalons!$A$4:$A$103,0))),"")) | E39: =IF($A39="","",IFERROR(INDEX(Jalons!$M$4:$M$103,MATCH($A39,Jalons!$A$4:$A$103,0)),"")) | F39: =IF($A39="","",IFERROR(INDEX(Jalons!$R$4:$R$103,MATCH($A39,Jalons!$A$4:$A$103,0)),""))
A40: =IFERROR(INDEX(Jalons!$A$4:$A$103,AGGREGATE(15,6,(ROW(Jalons!$A$4:$A$103)-ROW(Jalons!$A$4)+1)/((Jalons!$B$4:$B$103=Paramètres!$B$3)*(Jalons!$R$4:$R$103<>"")*(Jalons!$R$4:$R$103<>"OK")),28)),"") | B40: =IF($A40="","",IFERROR(INDEX(Jalons!$E$4:$E$103,MATCH($A40,Jalons!$A$4:$A$103,0)),"")) | C40: =IF($A40="","",IFERROR(INDEX(Jalons!$G$4:$G$103,MATCH($A40,Jalons!$A$4:$A$103,0)),"")) | D40: =IF($A40="","",IFERROR(IF(INDEX(Jalons!$J$4:$J$103,MATCH($A40,Jalons!$A$4:$A$103,0))=0,"",INDEX(Jalons!$J$4:$J$103,MATCH($A40,Jalons!$A$4:$A$103,0))),"")) | E40: =IF($A40="","",IFERROR(INDEX(Jalons!$M$4:$M$103,MATCH($A40,Jalons!$A$4:$A$103,0)),"")) | F40: =IF($A40="","",IFERROR(INDEX(Jalons!$R$4:$R$103,MATCH($A40,Jalons!$A$4:$A$103,0)),""))
A41: =IFERROR(INDEX(Jalons!$A$4:$A$103,AGGREGATE(15,6,(ROW(Jalons!$A$4:$A$103)-ROW(Jalons!$A$4)+1)/((Jalons!$B$4:$B$103=Paramètres!$B$3)*(Jalons!$R$4:$R$103<>"")*(Jalons!$R$4:$R$103<>"OK")),29)),"") | B41: =IF($A41="","",IFERROR(INDEX(Jalons!$E$4:$E$103,MATCH($A41,Jalons!$A$4:$A$103,0)),"")) | C41: =IF($A41="","",IFERROR(INDEX(Jalons!$G$4:$G$103,MATCH($A41,Jalons!$A$4:$A$103,0)),"")) | D41: =IF($A41="","",IFERROR(IF(INDEX(Jalons!$J$4:$J$103,MATCH($A41,Jalons!$A$4:$A$103,0))=0,"",INDEX(Jalons!$J$4:$J$103,MATCH($A41,Jalons!$A$4:$A$103,0))),"")) | E41: =IF($A41="","",IFERROR(INDEX(Jalons!$M$4:$M$103,MATCH($A41,Jalons!$A$4:$A$103,0)),"")) | F41: =IF($A41="","",IFERROR(INDEX(Jalons!$R$4:$R$103,MATCH($A41,Jalons!$A$4:$A$103,0)),""))
A42: =IFERROR(INDEX(Jalons!$A$4:$A$103,AGGREGATE(15,6,(ROW(Jalons!$A$4:$A$103)-ROW(Jalons!$A$4)+1)/((Jalons!$B$4:$B$103=Paramètres!$B$3)*(Jalons!$R$4:$R$103<>"")*(Jalons!$R$4:$R$103<>"OK")),30)),"") | B42: =IF($A42="","",IFERROR(INDEX(Jalons!$E$4:$E$103,MATCH($A42,Jalons!$A$4:$A$103,0)),"")) | C42: =IF($A42="","",IFERROR(INDEX(Jalons!$G$4:$G$103,MATCH($A42,Jalons!$A$4:$A$103,0)),"")) | D42: =IF($A42="","",IFERROR(IF(INDEX(Jalons!$J$4:$J$103,MATCH($A42,Jalons!$A$4:$A$103,0))=0,"",INDEX(Jalons!$J$4:$J$103,MATCH($A42,Jalons!$A$4:$A$103,0))),"")) | E42: =IF($A42="","",IFERROR(INDEX(Jalons!$M$4:$M$103,MATCH($A42,Jalons!$A$4:$A$103,0)),"")) | F42: =IF($A42="","",IFERROR(INDEX(Jalons!$R$4:$R$103,MATCH($A42,Jalons!$A$4:$A$103,0)),""))
A43: =IFERROR(INDEX(Jalons!$A$4:$A$103,AGGREGATE(15,6,(ROW(Jalons!$A$4:$A$103)-ROW(Jalons!$A$4)+1)/((Jalons!$B$4:$B$103=Paramètres!$B$3)*(Jalons!$R$4:$R$103<>"")*(Jalons!$R$4:$R$103<>"OK")),31)),"") | B43: =IF($A43="","",IFERROR(INDEX(Jalons!$E$4:$E$103,MATCH($A43,Jalons!$A$4:$A$103,0)),"")) | C43: =IF($A43="","",IFERROR(INDEX(Jalons!$G$4:$G$103,MATCH($A43,Jalons!$A$4:$A$103,0)),"")) | D43: =IF($A43="","",IFERROR(IF(INDEX(Jalons!$J$4:$J$103,MATCH($A43,Jalons!$A$4:$A$103,0))=0,"",INDEX(Jalons!$J$4:$J$103,MATCH($A43,Jalons!$A$4:$A$103,0))),"")) | E43: =IF($A43="","",IFERROR(INDEX(Jalons!$M$4:$M$103,MATCH($A43,Jalons!$A$4:$A$103,0)),"")) | F43: =IF($A43="","",IFERROR(INDEX(Jalons!$R$4:$R$103,MATCH($A43,Jalons!$A$4:$A$103,0)),""))
A44: =IFERROR(INDEX(Jalons!$A$4:$A$103,AGGREGATE(15,6,(ROW(Jalons!$A$4:$A$103)-ROW(Jalons!$A$4)+1)/((Jalons!$B$4:$B$103=Paramètres!$B$3)*(Jalons!$R$4:$R$103<>"")*(Jalons!$R$4:$R$103<>"OK")),32)),"") | B44: =IF($A44="","",IFERROR(INDEX(Jalons!$E$4:$E$103,MATCH($A44,Jalons!$A$4:$A$103,0)),"")) | C44: =IF($A44="","",IFERROR(INDEX(Jalons!$G$4:$G$103,MATCH($A44,Jalons!$A$4:$A$103,0)),"")) | D44: =IF($A44="","",IFERROR(IF(INDEX(Jalons!$J$4:$J$103,MATCH($A44,Jalons!$A$4:$A$103,0))=0,"",INDEX(Jalons!$J$4:$J$103,MATCH($A44,Jalons!$A$4:$A$103,0))),"")) | E44: =IF($A44="","",IFERROR(INDEX(Jalons!$M$4:$M$103,MATCH($A44,Jalons!$A$4:$A$103,0)),"")) | F44: =IF($A44="","",IFERROR(INDEX(Jalons!$R$4:$R$103,MATCH($A44,Jalons!$A$4:$A$103,0)),""))
A45: =IFERROR(INDEX(Jalons!$A$4:$A$103,AGGREGATE(15,6,(ROW(Jalons!$A$4:$A$103)-ROW(Jalons!$A$4)+1)/((Jalons!$B$4:$B$103=Paramètres!$B$3)*(Jalons!$R$4:$R$103<>"")*(Jalons!$R$4:$R$103<>"OK")),33)),"") | B45: =IF($A45="","",IFERROR(INDEX(Jalons!$E$4:$E$103,MATCH($A45,Jalons!$A$4:$A$103,0)),"")) | C45: =IF($A45="","",IFERROR(INDEX(Jalons!$G$4:$G$103,MATCH($A45,Jalons!$A$4:$A$103,0)),"")) | D45: =IF($A45="","",IFERROR(IF(INDEX(Jalons!$J$4:$J$103,MATCH($A45,Jalons!$A$4:$A$103,0))=0,"",INDEX(Jalons!$J$4:$J$103,MATCH($A45,Jalons!$A$4:$A$103,0))),"")) | E45: =IF($A45="","",IFERROR(INDEX(Jalons!$M$4:$M$103,MATCH($A45,Jalons!$A$4:$A$103,0)),"")) | F45: =IF($A45="","",IFERROR(INDEX(Jalons!$R$4:$R$103,MATCH($A45,Jalons!$A$4:$A$103,0)),""))
A46: =IFERROR(INDEX(Jalons!$A$4:$A$103,AGGREGATE(15,6,(ROW(Jalons!$A$4:$A$103)-ROW(Jalons!$A$4)+1)/((Jalons!$B$4:$B$103=Paramètres!$B$3)*(Jalons!$R$4:$R$103<>"")*(Jalons!$R$4:$R$103<>"OK")),34)),"") | B46: =IF($A46="","",IFERROR(INDEX(Jalons!$E$4:$E$103,MATCH($A46,Jalons!$A$4:$A$103,0)),"")) | C46: =IF($A46="","",IFERROR(INDEX(Jalons!$G$4:$G$103,MATCH($A46,Jalons!$A$4:$A$103,0)),"")) | D46: =IF($A46="","",IFERROR(IF(INDEX(Jalons!$J$4:$J$103,MATCH($A46,Jalons!$A$4:$A$103,0))=0,"",INDEX(Jalons!$J$4:$J$103,MATCH($A46,Jalons!$A$4:$A$103,0))),"")) | E46: =IF($A46="","",IFERROR(INDEX(Jalons!$M$4:$M$103,MATCH($A46,Jalons!$A$4:$A$103,0)),"")) | F46: =IF($A46="","",IFERROR(INDEX(Jalons!$R$4:$R$103,MATCH($A46,Jalons!$A$4:$A$103,0)),""))
A47: =IFERROR(INDEX(Jalons!$A$4:$A$103,AGGREGATE(15,6,(ROW(Jalons!$A$4:$A$103)-ROW(Jalons!$A$4)+1)/((Jalons!$B$4:$B$103=Paramètres!$B$3)*(Jalons!$R$4:$R$103<>"")*(Jalons!$R$4:$R$103<>"OK")),35)),"") | B47: =IF($A47="","",IFERROR(INDEX(Jalons!$E$4:$E$103,MATCH($A47,Jalons!$A$4:$A$103,0)),"")) | C47: =IF($A47="","",IFERROR(INDEX(Jalons!$G$4:$G$103,MATCH($A47,Jalons!$A$4:$A$103,0)),"")) | D47: =IF($A47="","",IFERROR(IF(INDEX(Jalons!$J$4:$J$103,MATCH($A47,Jalons!$A$4:$A$103,0))=0,"",INDEX(Jalons!$J$4:$J$103,MATCH($A47,Jalons!$A$4:$A$103,0))),"")) | E47: =IF($A47="","",IFERROR(INDEX(Jalons!$M$4:$M$103,MATCH($A47,Jalons!$A$4:$A$103,0)),"")) | F47: =IF($A47="","",IFERROR(INDEX(Jalons!$R$4:$R$103,MATCH($A47,Jalons!$A$4:$A$103,0)),""))
A48: =IFERROR(INDEX(Jalons!$A$4:$A$103,AGGREGATE(15,6,(ROW(Jalons!$A$4:$A$103)-ROW(Jalons!$A$4)+1)/((Jalons!$B$4:$B$103=Paramètres!$B$3)*(Jalons!$R$4:$R$103<>"")*(Jalons!$R$4:$R$103<>"OK")),36)),"") | B48: =IF($A48="","",IFERROR(INDEX(Jalons!$E$4:$E$103,MATCH($A48,Jalons!$A$4:$A$103,0)),"")) | C48: =IF($A48="","",IFERROR(INDEX(Jalons!$G$4:$G$103,MATCH($A48,Jalons!$A$4:$A$103,0)),"")) | D48: =IF($A48="","",IFERROR(IF(INDEX(Jalons!$J$4:$J$103,MATCH($A48,Jalons!$A$4:$A$103,0))=0,"",INDEX(Jalons!$J$4:$J$103,MATCH($A48,Jalons!$A$4:$A$103,0))),"")) | E48: =IF($A48="","",IFERROR(INDEX(Jalons!$M$4:$M$103,MATCH($A48,Jalons!$A$4:$A$103,0)),"")) | F48: =IF($A48="","",IFERROR(INDEX(Jalons!$R$4:$R$103,MATCH($A48,Jalons!$A$4:$A$103,0)),""))
A49: =IFERROR(INDEX(Jalons!$A$4:$A$103,AGGREGATE(15,6,(ROW(Jalons!$A$4:$A$103)-ROW(Jalons!$A$4)+1)/((Jalons!$B$4:$B$103=Paramètres!$B$3)*(Jalons!$R$4:$R$103<>"")*(Jalons!$R$4:$R$103<>"OK")),37)),"") | B49: =IF($A49="","",IFERROR(INDEX(Jalons!$E$4:$E$103,MATCH($A49,Jalons!$A$4:$A$103,0)),"")) | C49: =IF($A49="","",IFERROR(INDEX(Jalons!$G$4:$G$103,MATCH($A49,Jalons!$A$4:$A$103,0)),"")) | D49: =IF($A49="","",IFERROR(IF(INDEX(Jalons!$J$4:$J$103,MATCH($A49,Jalons!$A$4:$A$103,0))=0,"",INDEX(Jalons!$J$4:$J$103,MATCH($A49,Jalons!$A$4:$A$103,0))),"")) | E49: =IF($A49="","",IFERROR(INDEX(Jalons!$M$4:$M$103,MATCH($A49,Jalons!$A$4:$A$103,0)),"")) | F49: =IF($A49="","",IFERROR(INDEX(Jalons!$R$4:$R$103,MATCH($A49,Jalons!$A$4:$A$103,0)),""))
A50: =IFERROR(INDEX(Jalons!$A$4:$A$103,AGGREGATE(15,6,(ROW(Jalons!$A$4:$A$103)-ROW(Jalons!$A$4)+1)/((Jalons!$B$4:$B$103=Paramètres!$B$3)*(Jalons!$R$4:$R$103<>"")*(Jalons!$R$4:$R$103<>"OK")),38)),"") | B50: =IF($A50="","",IFERROR(INDEX(Jalons!$E$4:$E$103,MATCH($A50,Jalons!$A$4:$A$103,0)),"")) | C50: =IF($A50="","",IFERROR(INDEX(Jalons!$G$4:$G$103,MATCH($A50,Jalons!$A$4:$A$103,0)),"")) | D50: =IF($A50="","",IFERROR(IF(INDEX(Jalons!$J$4:$J$103,MATCH($A50,Jalons!$A$4:$A$103,0))=0,"",INDEX(Jalons!$J$4:$J$103,MATCH($A50,Jalons!$A$4:$A$103,0))),"")) | E50: =IF($A50="","",IFERROR(INDEX(Jalons!$M$4:$M$103,MATCH($A50,Jalons!$A$4:$A$103,0)),"")) | F50: =IF($A50="","",IFERROR(INDEX(Jalons!$R$4:$R$103,MATCH($A50,Jalons!$A$4:$A$103,0)),""))
A51: =IFERROR(INDEX(Jalons!$A$4:$A$103,AGGREGATE(15,6,(ROW(Jalons!$A$4:$A$103)-ROW(Jalons!$A$4)+1)/((Jalons!$B$4:$B$103=Paramètres!$B$3)*(Jalons!$R$4:$R$103<>"")*(Jalons!$R$4:$R$103<>"OK")),39)),"") | B51: =IF($A51="","",IFERROR(INDEX(Jalons!$E$4:$E$103,MATCH($A51,Jalons!$A$4:$A$103,0)),"")) | C51: =IF($A51="","",IFERROR(INDEX(Jalons!$G$4:$G$103,MATCH($A51,Jalons!$A$4:$A$103,0)),"")) | D51: =IF($A51="","",IFERROR(IF(INDEX(Jalons!$J$4:$J$103,MATCH($A51,Jalons!$A$4:$A$103,0))=0,"",INDEX(Jalons!$J$4:$J$103,MATCH($A51,Jalons!$A$4:$A$103,0))),"")) | E51: =IF($A51="","",IFERROR(INDEX(Jalons!$M$4:$M$103,MATCH($A51,Jalons!$A$4:$A$103,0)),"")) | F51: =IF($A51="","",IFERROR(INDEX(Jalons!$R$4:$R$103,MATCH($A51,Jalons!$A$4:$A$103,0)),""))
A52: =IFERROR(INDEX(Jalons!$A$4:$A$103,AGGREGATE(15,6,(ROW(Jalons!$A$4:$A$103)-ROW(Jalons!$A$4)+1)/((Jalons!$B$4:$B$103=Paramètres!$B$3)*(Jalons!$R$4:$R$103<>"")*(Jalons!$R$4:$R$103<>"OK")),40)),"") | B52: =IF($A52="","",IFERROR(INDEX(Jalons!$E$4:$E$103,MATCH($A52,Jalons!$A$4:$A$103,0)),"")) | C52: =IF($A52="","",IFERROR(INDEX(Jalons!$G$4:$G$103,MATCH($A52,Jalons!$A$4:$A$103,0)),"")) | D52: =IF($A52="","",IFERROR(IF(INDEX(Jalons!$J$4:$J$103,MATCH($A52,Jalons!$A$4:$A$103,0))=0,"",INDEX(Jalons!$J$4:$J$103,MATCH($A52,Jalons!$A$4:$A$103,0))),"")) | E52: =IF($A52="","",IFERROR(INDEX(Jalons!$M$4:$M$103,MATCH($A52,Jalons!$A$4:$A$103,0)),"")) | F52: =IF($A52="","",IFERROR(INDEX(Jalons!$R$4:$R$103,MATCH($A52,Jalons!$A$4:$A$103,0)),""))
A53: =IFERROR(INDEX(Jalons!$A$4:$A$103,AGGREGATE(15,6,(ROW(Jalons!$A$4:$A$103)-ROW(Jalons!$A$4)+1)/((Jalons!$B$4:$B$103=Paramètres!$B$3)*(Jalons!$R$4:$R$103<>"")*(Jalons!$R$4:$R$103<>"OK")),41)),"") | B53: =IF($A53="","",IFERROR(INDEX(Jalons!$E$4:$E$103,MATCH($A53,Jalons!$A$4:$A$103,0)),"")) | C53: =IF($A53="","",IFERROR(INDEX(Jalons!$G$4:$G$103,MATCH($A53,Jalons!$A$4:$A$103,0)),"")) | D53: =IF($A53="","",IFERROR(IF(INDEX(Jalons!$J$4:$J$103,MATCH($A53,Jalons!$A$4:$A$103,0))=0,"",INDEX(Jalons!$J$4:$J$103,MATCH($A53,Jalons!$A$4:$A$103,0))),"")) | E53: =IF($A53="","",IFERROR(INDEX(Jalons!$M$4:$M$103,MATCH($A53,Jalons!$A$4:$A$103,0)),"")) | F53: =IF($A53="","",IFERROR(INDEX(Jalons!$R$4:$R$103,MATCH($A53,Jalons!$A$4:$A$103,0)),""))
A54: =IFERROR(INDEX(Jalons!$A$4:$A$103,AGGREGATE(15,6,(ROW(Jalons!$A$4:$A$103)-ROW(Jalons!$A$4)+1)/((Jalons!$B$4:$B$103=Paramètres!$B$3)*(Jalons!$R$4:$R$103<>"")*(Jalons!$R$4:$R$103<>"OK")),42)),"") | B54: =IF($A54="","",IFERROR(INDEX(Jalons!$E$4:$E$103,MATCH($A54,Jalons!$A$4:$A$103,0)),"")) | C54: =IF($A54="","",IFERROR(INDEX(Jalons!$G$4:$G$103,MATCH($A54,Jalons!$A$4:$A$103,0)),"")) | D54: =IF($A54="","",IFERROR(IF(INDEX(Jalons!$J$4:$J$103,MATCH($A54,Jalons!$A$4:$A$103,0))=0,"",INDEX(Jalons!$J$4:$J$103,MATCH($A54,Jalons!$A$4:$A$103,0))),"")) | E54: =IF($A54="","",IFERROR(INDEX(Jalons!$M$4:$M$103,MATCH($A54,Jalons!$A$4:$A$103,0)),"")) | F54: =IF($A54="","",IFERROR(INDEX(Jalons!$R$4:$R$103,MATCH($A54,Jalons!$A$4:$A$103,0)),""))
A55: =IFERROR(INDEX(Jalons!$A$4:$A$103,AGGREGATE(15,6,(ROW(Jalons!$A$4:$A$103)-ROW(Jalons!$A$4)+1)/((Jalons!$B$4:$B$103=Paramètres!$B$3)*(Jalons!$R$4:$R$103<>"")*(Jalons!$R$4:$R$103<>"OK")),43)),"") | B55: =IF($A55="","",IFERROR(INDEX(Jalons!$E$4:$E$103,MATCH($A55,Jalons!$A$4:$A$103,0)),"")) | C55: =IF($A55="","",IFERROR(INDEX(Jalons!$G$4:$G$103,MATCH($A55,Jalons!$A$4:$A$103,0)),"")) | D55: =IF($A55="","",IFERROR(IF(INDEX(Jalons!$J$4:$J$103,MATCH($A55,Jalons!$A$4:$A$103,0))=0,"",INDEX(Jalons!$J$4:$J$103,MATCH($A55,Jalons!$A$4:$A$103,0))),"")) | E55: =IF($A55="","",IFERROR(INDEX(Jalons!$M$4:$M$103,MATCH($A55,Jalons!$A$4:$A$103,0)),"")) | F55: =IF($A55="","",IFERROR(INDEX(Jalons!$R$4:$R$103,MATCH($A55,Jalons!$A$4:$A$103,0)),""))
A56: =IFERROR(INDEX(Jalons!$A$4:$A$103,AGGREGATE(15,6,(ROW(Jalons!$A$4:$A$103)-ROW(Jalons!$A$4)+1)/((Jalons!$B$4:$B$103=Paramètres!$B$3)*(Jalons!$R$4:$R$103<>"")*(Jalons!$R$4:$R$103<>"OK")),44)),"") | B56: =IF($A56="","",IFERROR(INDEX(Jalons!$E$4:$E$103,MATCH($A56,Jalons!$A$4:$A$103,0)),"")) | C56: =IF($A56="","",IFERROR(INDEX(Jalons!$G$4:$G$103,MATCH($A56,Jalons!$A$4:$A$103,0)),"")) | D56: =IF($A56="","",IFERROR(IF(INDEX(Jalons!$J$4:$J$103,MATCH($A56,Jalons!$A$4:$A$103,0))=0,"",INDEX(Jalons!$J$4:$J$103,MATCH($A56,Jalons!$A$4:$A$103,0))),"")) | E56: =IF($A56="","",IFERROR(INDEX(Jalons!$M$4:$M$103,MATCH($A56,Jalons!$A$4:$A$103,0)),"")) | F56: =IF($A56="","",IFERROR(INDEX(Jalons!$R$4:$R$103,MATCH($A56,Jalons!$A$4:$A$103,0)),""))
A57: =IFERROR(INDEX(Jalons!$A$4:$A$103,AGGREGATE(15,6,(ROW(Jalons!$A$4:$A$103)-ROW(Jalons!$A$4)+1)/((Jalons!$B$4:$B$103=Paramètres!$B$3)*(Jalons!$R$4:$R$103<>"")*(Jalons!$R$4:$R$103<>"OK")),45)),"") | B57: =IF($A57="","",IFERROR(INDEX(Jalons!$E$4:$E$103,MATCH($A57,Jalons!$A$4:$A$103,0)),"")) | C57: =IF($A57="","",IFERROR(INDEX(Jalons!$G$4:$G$103,MATCH($A57,Jalons!$A$4:$A$103,0)),"")) | D57: =IF($A57="","",IFERROR(IF(INDEX(Jalons!$J$4:$J$103,MATCH($A57,Jalons!$A$4:$A$103,0))=0,"",INDEX(Jalons!$J$4:$J$103,MATCH($A57,Jalons!$A$4:$A$103,0))),"")) | E57: =IF($A57="","",IFERROR(INDEX(Jalons!$M$4:$M$103,MATCH($A57,Jalons!$A$4:$A$103,0)),"")) | F57: =IF($A57="","",IFERROR(INDEX(Jalons!$R$4:$R$103,MATCH($A57,Jalons!$A$4:$A$103,0)),""))
A58: =IFERROR(INDEX(Jalons!$A$4:$A$103,AGGREGATE(15,6,(ROW(Jalons!$A$4:$A$103)-ROW(Jalons!$A$4)+1)/((Jalons!$B$4:$B$103=Paramètres!$B$3)*(Jalons!$R$4:$R$103<>"")*(Jalons!$R$4:$R$103<>"OK")),46)),"") | B58: =IF($A58="","",IFERROR(INDEX(Jalons!$E$4:$E$103,MATCH($A58,Jalons!$A$4:$A$103,0)),"")) | C58: =IF($A58="","",IFERROR(INDEX(Jalons!$G$4:$G$103,MATCH($A58,Jalons!$A$4:$A$103,0)),"")) | D58: =IF($A58="","",IFERROR(IF(INDEX(Jalons!$J$4:$J$103,MATCH($A58,Jalons!$A$4:$A$103,0))=0,"",INDEX(Jalons!$J$4:$J$103,MATCH($A58,Jalons!$A$4:$A$103,0))),"")) | E58: =IF($A58="","",IFERROR(INDEX(Jalons!$M$4:$M$103,MATCH($A58,Jalons!$A$4:$A$103,0)),"")) | F58: =IF($A58="","",IFERROR(INDEX(Jalons!$R$4:$R$103,MATCH($A58,Jalons!$A$4:$A$103,0)),""))
A59: =IFERROR(INDEX(Jalons!$A$4:$A$103,AGGREGATE(15,6,(ROW(Jalons!$A$4:$A$103)-ROW(Jalons!$A$4)+1)/((Jalons!$B$4:$B$103=Paramètres!$B$3)*(Jalons!$R$4:$R$103<>"")*(Jalons!$R$4:$R$103<>"OK")),47)),"") | B59: =IF($A59="","",IFERROR(INDEX(Jalons!$E$4:$E$103,MATCH($A59,Jalons!$A$4:$A$103,0)),"")) | C59: =IF($A59="","",IFERROR(INDEX(Jalons!$G$4:$G$103,MATCH($A59,Jalons!$A$4:$A$103,0)),"")) | D59: =IF($A59="","",IFERROR(IF(INDEX(Jalons!$J$4:$J$103,MATCH($A59,Jalons!$A$4:$A$103,0))=0,"",INDEX(Jalons!$J$4:$J$103,MATCH($A59,Jalons!$A$4:$A$103,0))),"")) | E59: =IF($A59="","",IFERROR(INDEX(Jalons!$M$4:$M$103,MATCH($A59,Jalons!$A$4:$A$103,0)),"")) | F59: =IF($A59="","",IFERROR(INDEX(Jalons!$R$4:$R$103,MATCH($A59,Jalons!$A$4:$A$103,0)),""))
A60: =IFERROR(INDEX(Jalons!$A$4:$A$103,AGGREGATE(15,6,(ROW(Jalons!$A$4:$A$103)-ROW(Jalons!$A$4)+1)/((Jalons!$B$4:$B$103=Paramètres!$B$3)*(Jalons!$R$4:$R$103<>"")*(Jalons!$R$4:$R$103<>"OK")),48)),"") | B60: =IF($A60="","",IFERROR(INDEX(Jalons!$E$4:$E$103,MATCH($A60,Jalons!$A$4:$A$103,0)),"")) | C60: =IF($A60="","",IFERROR(INDEX(Jalons!$G$4:$G$103,MATCH($A60,Jalons!$A$4:$A$103,0)),"")) | D60: =IF($A60="","",IFERROR(IF(INDEX(Jalons!$J$4:$J$103,MATCH($A60,Jalons!$A$4:$A$103,0))=0,"",INDEX(Jalons!$J$4:$J$103,MATCH($A60,Jalons!$A$4:$A$103,0))),"")) | E60: =IF($A60="","",IFERROR(INDEX(Jalons!$M$4:$M$103,MATCH($A60,Jalons!$A$4:$A$103,0)),"")) | F60: =IF($A60="","",IFERROR(INDEX(Jalons!$R$4:$R$103,MATCH($A60,Jalons!$A$4:$A$103,0)),""))
A61: =IFERROR(INDEX(Jalons!$A$4:$A$103,AGGREGATE(15,6,(ROW(Jalons!$A$4:$A$103)-ROW(Jalons!$A$4)+1)/((Jalons!$B$4:$B$103=Paramètres!$B$3)*(Jalons!$R$4:$R$103<>"")*(Jalons!$R$4:$R$103<>"OK")),49)),"") | B61: =IF($A61="","",IFERROR(INDEX(Jalons!$E$4:$E$103,MATCH($A61,Jalons!$A$4:$A$103,0)),"")) | C61: =IF($A61="","",IFERROR(INDEX(Jalons!$G$4:$G$103,MATCH($A61,Jalons!$A$4:$A$103,0)),"")) | D61: =IF($A61="","",IFERROR(IF(INDEX(Jalons!$J$4:$J$103,MATCH($A61,Jalons!$A$4:$A$103,0))=0,"",INDEX(Jalons!$J$4:$J$103,MATCH($A61,Jalons!$A$4:$A$103,0))),"")) | E61: =IF($A61="","",IFERROR(INDEX(Jalons!$M$4:$M$103,MATCH($A61,Jalons!$A$4:$A$103,0)),"")) | F61: =IF($A61="","",IFERROR(INDEX(Jalons!$R$4:$R$103,MATCH($A61,Jalons!$A$4:$A$103,0)),""))
A62: =IFERROR(INDEX(Jalons!$A$4:$A$103,AGGREGATE(15,6,(ROW(Jalons!$A$4:$A$103)-ROW(Jalons!$A$4)+1)/((Jalons!$B$4:$B$103=Paramètres!$B$3)*(Jalons!$R$4:$R$103<>"")*(Jalons!$R$4:$R$103<>"OK")),50)),"") | B62: =IF($A62="","",IFERROR(INDEX(Jalons!$E$4:$E$103,MATCH($A62,Jalons!$A$4:$A$103,0)),"")) | C62: =IF($A62="","",IFERROR(INDEX(Jalons!$G$4:$G$103,MATCH($A62,Jalons!$A$4:$A$103,0)),"")) | D62: =IF($A62="","",IFERROR(IF(INDEX(Jalons!$J$4:$J$103,MATCH($A62,Jalons!$A$4:$A$103,0))=0,"",INDEX(Jalons!$J$4:$J$103,MATCH($A62,Jalons!$A$4:$A$103,0))),"")) | E62: =IF($A62="","",IFERROR(INDEX(Jalons!$M$4:$M$103,MATCH($A62,Jalons!$A$4:$A$103,0)),"")) | F62: =IF($A62="","",IFERROR(INDEX(Jalons!$R$4:$R$103,MATCH($A62,Jalons!$A$4:$A$103,0)),""))
A63: =IFERROR(INDEX(Jalons!$A$4:$A$103,AGGREGATE(15,6,(ROW(Jalons!$A$4:$A$103)-ROW(Jalons!$A$4)+1)/((Jalons!$B$4:$B$103=Paramètres!$B$3)*(Jalons!$R$4:$R$103<>"")*(Jalons!$R$4:$R$103<>"OK")),51)),"") | B63: =IF($A63="","",IFERROR(INDEX(Jalons!$E$4:$E$103,MATCH($A63,Jalons!$A$4:$A$103,0)),"")) | C63: =IF($A63="","",IFERROR(INDEX(Jalons!$G$4:$G$103,MATCH($A63,Jalons!$A$4:$A$103,0)),"")) | D63: =IF($A63="","",IFERROR(IF(INDEX(Jalons!$J$4:$J$103,MATCH($A63,Jalons!$A$4:$A$103,0))=0,"",INDEX(Jalons!$J$4:$J$103,MATCH($A63,Jalons!$A$4:$A$103,0))),"")) | E63: =IF($A63="","",IFERROR(INDEX(Jalons!$M$4:$M$103,MATCH($A63,Jalons!$A$4:$A$103,0)),"")) | F63: =IF($A63="","",IFERROR(INDEX(Jalons!$R$4:$R$103,MATCH($A63,Jalons!$A$4:$A$103,0)),""))
A64: =IFERROR(INDEX(Jalons!$A$4:$A$103,AGGREGATE(15,6,(ROW(Jalons!$A$4:$A$103)-ROW(Jalons!$A$4)+1)/((Jalons!$B$4:$B$103=Paramètres!$B$3)*(Jalons!$R$4:$R$103<>"")*(Jalons!$R$4:$R$103<>"OK")),52)),"") | B64: =IF($A64="","",IFERROR(INDEX(Jalons!$E$4:$E$103,MATCH($A64,Jalons!$A$4:$A$103,0)),"")) | C64: =IF($A64="","",IFERROR(INDEX(Jalons!$G$4:$G$103,MATCH($A64,Jalons!$A$4:$A$103,0)),"")) | D64: =IF($A64="","",IFERROR(IF(INDEX(Jalons!$J$4:$J$103,MATCH($A64,Jalons!$A$4:$A$103,0))=0,"",INDEX(Jalons!$J$4:$J$103,MATCH($A64,Jalons!$A$4:$A$103,0))),"")) | E64: =IF($A64="","",IFERROR(INDEX(Jalons!$M$4:$M$103,MATCH($A64,Jalons!$A$4:$A$103,0)),"")) | F64: =IF($A64="","",IFERROR(INDEX(Jalons!$R$4:$R$103,MATCH($A64,Jalons!$A$4:$A$103,0)),""))
A65: =IFERROR(INDEX(Jalons!$A$4:$A$103,AGGREGATE(15,6,(ROW(Jalons!$A$4:$A$103)-ROW(Jalons!$A$4)+1)/((Jalons!$B$4:$B$103=Paramètres!$B$3)*(Jalons!$R$4:$R$103<>"")*(Jalons!$R$4:$R$103<>"OK")),53)),"") | B65: =IF($A65="","",IFERROR(INDEX(Jalons!$E$4:$E$103,MATCH($A65,Jalons!$A$4:$A$103,0)),"")) | C65: =IF($A65="","",IFERROR(INDEX(Jalons!$G$4:$G$103,MATCH($A65,Jalons!$A$4:$A$103,0)),"")) | D65: =IF($A65="","",IFERROR(IF(INDEX(Jalons!$J$4:$J$103,MATCH($A65,Jalons!$A$4:$A$103,0))=0,"",INDEX(Jalons!$J$4:$J$103,MATCH($A65,Jalons!$A$4:$A$103,0))),"")) | E65: =IF($A65="","",IFERROR(INDEX(Jalons!$M$4:$M$103,MATCH($A65,Jalons!$A$4:$A$103,0)),"")) | F65: =IF($A65="","",IFERROR(INDEX(Jalons!$R$4:$R$103,MATCH($A65,Jalons!$A$4:$A$103,0)),""))
A66: =IFERROR(INDEX(Jalons!$A$4:$A$103,AGGREGATE(15,6,(ROW(Jalons!$A$4:$A$103)-ROW(Jalons!$A$4)+1)/((Jalons!$B$4:$B$103=Paramètres!$B$3)*(Jalons!$R$4:$R$103<>"")*(Jalons!$R$4:$R$103<>"OK")),54)),"") | B66: =IF($A66="","",IFERROR(INDEX(Jalons!$E$4:$E$103,MATCH($A66,Jalons!$A$4:$A$103,0)),"")) | C66: =IF($A66="","",IFERROR(INDEX(Jalons!$G$4:$G$103,MATCH($A66,Jalons!$A$4:$A$103,0)),"")) | D66: =IF($A66="","",IFERROR(IF(INDEX(Jalons!$J$4:$J$103,MATCH($A66,Jalons!$A$4:$A$103,0))=0,"",INDEX(Jalons!$J$4:$J$103,MATCH($A66,Jalons!$A$4:$A$103,0))),"")) | E66: =IF($A66="","",IFERROR(INDEX(Jalons!$M$4:$M$103,MATCH($A66,Jalons!$A$4:$A$103,0)),"")) | F66: =IF($A66="","",IFERROR(INDEX(Jalons!$R$4:$R$103,MATCH($A66,Jalons!$A$4:$A$103,0)),""))
A67: =IFERROR(INDEX(Jalons!$A$4:$A$103,AGGREGATE(15,6,(ROW(Jalons!$A$4:$A$103)-ROW(Jalons!$A$4)+1)/((Jalons!$B$4:$B$103=Paramètres!$B$3)*(Jalons!$R$4:$R$103<>"")*(Jalons!$R$4:$R$103<>"OK")),55)),"") | B67: =IF($A67="","",IFERROR(INDEX(Jalons!$E$4:$E$103,MATCH($A67,Jalons!$A$4:$A$103,0)),"")) | C67: =IF($A67="","",IFERROR(INDEX(Jalons!$G$4:$G$103,MATCH($A67,Jalons!$A$4:$A$103,0)),"")) | D67: =IF($A67="","",IFERROR(IF(INDEX(Jalons!$J$4:$J$103,MATCH($A67,Jalons!$A$4:$A$103,0))=0,"",INDEX(Jalons!$J$4:$J$103,MATCH($A67,Jalons!$A$4:$A$103,0))),"")) | E67: =IF($A67="","",IFERROR(INDEX(Jalons!$M$4:$M$103,MATCH($A67,Jalons!$A$4:$A$103,0)),"")) | F67: =IF($A67="","",IFERROR(INDEX(Jalons!$R$4:$R$103,MATCH($A67,Jalons!$A$4:$A$103,0)),""))
A68: =IFERROR(INDEX(Jalons!$A$4:$A$103,AGGREGATE(15,6,(ROW(Jalons!$A$4:$A$103)-ROW(Jalons!$A$4)+1)/((Jalons!$B$4:$B$103=Paramètres!$B$3)*(Jalons!$R$4:$R$103<>"")*(Jalons!$R$4:$R$103<>"OK")),56)),"") | B68: =IF($A68="","",IFERROR(INDEX(Jalons!$E$4:$E$103,MATCH($A68,Jalons!$A$4:$A$103,0)),"")) | C68: =IF($A68="","",IFERROR(INDEX(Jalons!$G$4:$G$103,MATCH($A68,Jalons!$A$4:$A$103,0)),"")) | D68: =IF($A68="","",IFERROR(IF(INDEX(Jalons!$J$4:$J$103,MATCH($A68,Jalons!$A$4:$A$103,0))=0,"",INDEX(Jalons!$J$4:$J$103,MATCH($A68,Jalons!$A$4:$A$103,0))),"")) | E68: =IF($A68="","",IFERROR(INDEX(Jalons!$M$4:$M$103,MATCH($A68,Jalons!$A$4:$A$103,0)),"")) | F68: =IF($A68="","",IFERROR(INDEX(Jalons!$R$4:$R$103,MATCH($A68,Jalons!$A$4:$A$103,0)),""))
A69: =IFERROR(INDEX(Jalons!$A$4:$A$103,AGGREGATE(15,6,(ROW(Jalons!$A$4:$A$103)-ROW(Jalons!$A$4)+1)/((Jalons!$B$4:$B$103=Paramètres!$B$3)*(Jalons!$R$4:$R$103<>"")*(Jalons!$R$4:$R$103<>"OK")),57)),"") | B69: =IF($A69="","",IFERROR(INDEX(Jalons!$E$4:$E$103,MATCH($A69,Jalons!$A$4:$A$103,0)),"")) | C69: =IF($A69="","",IFERROR(INDEX(Jalons!$G$4:$G$103,MATCH($A69,Jalons!$A$4:$A$103,0)),"")) | D69: =IF($A69="","",IFERROR(IF(INDEX(Jalons!$J$4:$J$103,MATCH($A69,Jalons!$A$4:$A$103,0))=0,"",INDEX(Jalons!$J$4:$J$103,MATCH($A69,Jalons!$A$4:$A$103,0))),"")) | E69: =IF($A69="","",IFERROR(INDEX(Jalons!$M$4:$M$103,MATCH($A69,Jalons!$A$4:$A$103,0)),"")) | F69: =IF($A69="","",IFERROR(INDEX(Jalons!$R$4:$R$103,MATCH($A69,Jalons!$A$4:$A$103,0)),""))
A70: =IFERROR(INDEX(Jalons!$A$4:$A$103,AGGREGATE(15,6,(ROW(Jalons!$A$4:$A$103)-ROW(Jalons!$A$4)+1)/((Jalons!$B$4:$B$103=Paramètres!$B$3)*(Jalons!$R$4:$R$103<>"")*(Jalons!$R$4:$R$103<>"OK")),58)),"") | B70: =IF($A70="","",IFERROR(INDEX(Jalons!$E$4:$E$103,MATCH($A70,Jalons!$A$4:$A$103,0)),"")) | C70: =IF($A70="","",IFERROR(INDEX(Jalons!$G$4:$G$103,MATCH($A70,Jalons!$A$4:$A$103,0)),"")) | D70: =IF($A70="","",IFERROR(IF(INDEX(Jalons!$J$4:$J$103,MATCH($A70,Jalons!$A$4:$A$103,0))=0,"",INDEX(Jalons!$J$4:$J$103,MATCH($A70,Jalons!$A$4:$A$103,0))),"")) | E70: =IF($A70="","",IFERROR(INDEX(Jalons!$M$4:$M$103,MATCH($A70,Jalons!$A$4:$A$103,0)),"")) | F70: =IF($A70="","",IFERROR(INDEX(Jalons!$R$4:$R$103,MATCH($A70,Jalons!$A$4:$A$103,0)),""))
A71: =IFERROR(INDEX(Jalons!$A$4:$A$103,AGGREGATE(15,6,(ROW(Jalons!$A$4:$A$103)-ROW(Jalons!$A$4)+1)/((Jalons!$B$4:$B$103=Paramètres!$B$3)*(Jalons!$R$4:$R$103<>"")*(Jalons!$R$4:$R$103<>"OK")),59)),"") | B71: =IF($A71="","",IFERROR(INDEX(Jalons!$E$4:$E$103,MATCH($A71,Jalons!$A$4:$A$103,0)),"")) | C71: =IF($A71="","",IFERROR(INDEX(Jalons!$G$4:$G$103,MATCH($A71,Jalons!$A$4:$A$103,0)),"")) | D71: =IF($A71="","",IFERROR(IF(INDEX(Jalons!$J$4:$J$103,MATCH($A71,Jalons!$A$4:$A$103,0))=0,"",INDEX(Jalons!$J$4:$J$103,MATCH($A71,Jalons!$A$4:$A$103,0))),"")) | E71: =IF($A71="","",IFERROR(INDEX(Jalons!$M$4:$M$103,MATCH($A71,Jalons!$A$4:$A$103,0)),"")) | F71: =IF($A71="","",IFERROR(INDEX(Jalons!$R$4:$R$103,MATCH($A71,Jalons!$A$4:$A$103,0)),""))
A72: =IFERROR(INDEX(Jalons!$A$4:$A$103,AGGREGATE(15,6,(ROW(Jalons!$A$4:$A$103)-ROW(Jalons!$A$4)+1)/((Jalons!$B$4:$B$103=Paramètres!$B$3)*(Jalons!$R$4:$R$103<>"")*(Jalons!$R$4:$R$103<>"OK")),60)),"") | B72: =IF($A72="","",IFERROR(INDEX(Jalons!$E$4:$E$103,MATCH($A72,Jalons!$A$4:$A$103,0)),"")) | C72: =IF($A72="","",IFERROR(INDEX(Jalons!$G$4:$G$103,MATCH($A72,Jalons!$A$4:$A$103,0)),"")) | D72: =IF($A72="","",IFERROR(IF(INDEX(Jalons!$J$4:$J$103,MATCH($A72,Jalons!$A$4:$A$103,0))=0,"",INDEX(Jalons!$J$4:$J$103,MATCH($A72,Jalons!$A$4:$A$103,0))),"")) | E72: =IF($A72="","",IFERROR(INDEX(Jalons!$M$4:$M$103,MATCH($A72,Jalons!$A$4:$A$103,0)),"")) | F72: =IF($A72="","",IFERROR(INDEX(Jalons!$R$4:$R$103,MATCH($A72,Jalons!$A$4:$A$103,0)),""))
A73: =IFERROR(INDEX(Jalons!$A$4:$A$103,AGGREGATE(15,6,(ROW(Jalons!$A$4:$A$103)-ROW(Jalons!$A$4)+1)/((Jalons!$B$4:$B$103=Paramètres!$B$3)*(Jalons!$R$4:$R$103<>"")*(Jalons!$R$4:$R$103<>"OK")),61)),"") | B73: =IF($A73="","",IFERROR(INDEX(Jalons!$E$4:$E$103,MATCH($A73,Jalons!$A$4:$A$103,0)),"")) | C73: =IF($A73="","",IFERROR(INDEX(Jalons!$G$4:$G$103,MATCH($A73,Jalons!$A$4:$A$103,0)),"")) | D73: =IF($A73="","",IFERROR(IF(INDEX(Jalons!$J$4:$J$103,MATCH($A73,Jalons!$A$4:$A$103,0))=0,"",INDEX(Jalons!$J$4:$J$103,MATCH($A73,Jalons!$A$4:$A$103,0))),"")) | E73: =IF($A73="","",IFERROR(INDEX(Jalons!$M$4:$M$103,MATCH($A73,Jalons!$A$4:$A$103,0)),"")) | F73: =IF($A73="","",IFERROR(INDEX(Jalons!$R$4:$R$103,MATCH($A73,Jalons!$A$4:$A$103,0)),""))
A74: =IFERROR(INDEX(Jalons!$A$4:$A$103,AGGREGATE(15,6,(ROW(Jalons!$A$4:$A$103)-ROW(Jalons!$A$4)+1)/((Jalons!$B$4:$B$103=Paramètres!$B$3)*(Jalons!$R$4:$R$103<>"")*(Jalons!$R$4:$R$103<>"OK")),62)),"") | B74: =IF($A74="","",IFERROR(INDEX(Jalons!$E$4:$E$103,MATCH($A74,Jalons!$A$4:$A$103,0)),"")) | C74: =IF($A74="","",IFERROR(INDEX(Jalons!$G$4:$G$103,MATCH($A74,Jalons!$A$4:$A$103,0)),"")) | D74: =IF($A74="","",IFERROR(IF(INDEX(Jalons!$J$4:$J$103,MATCH($A74,Jalons!$A$4:$A$103,0))=0,"",INDEX(Jalons!$J$4:$J$103,MATCH($A74,Jalons!$A$4:$A$103,0))),"")) | E74: =IF($A74="","",IFERROR(INDEX(Jalons!$M$4:$M$103,MATCH($A74,Jalons!$A$4:$A$103,0)),"")) | F74: =IF($A74="","",IFERROR(INDEX(Jalons!$R$4:$R$103,MATCH($A74,Jalons!$A$4:$A$103,0)),""))
A75: =IFERROR(INDEX(Jalons!$A$4:$A$103,AGGREGATE(15,6,(ROW(Jalons!$A$4:$A$103)-ROW(Jalons!$A$4)+1)/((Jalons!$B$4:$B$103=Paramètres!$B$3)*(Jalons!$R$4:$R$103<>"")*(Jalons!$R$4:$R$103<>"OK")),63)),"") | B75: =IF($A75="","",IFERROR(INDEX(Jalons!$E$4:$E$103,MATCH($A75,Jalons!$A$4:$A$103,0)),"")) | C75: =IF($A75="","",IFERROR(INDEX(Jalons!$G$4:$G$103,MATCH($A75,Jalons!$A$4:$A$103,0)),"")) | D75: =IF($A75="","",IFERROR(IF(INDEX(Jalons!$J$4:$J$103,MATCH($A75,Jalons!$A$4:$A$103,0))=0,"",INDEX(Jalons!$J$4:$J$103,MATCH($A75,Jalons!$A$4:$A$103,0))),"")) | E75: =IF($A75="","",IFERROR(INDEX(Jalons!$M$4:$M$103,MATCH($A75,Jalons!$A$4:$A$103,0)),"")) | F75: =IF($A75="","",IFERROR(INDEX(Jalons!$R$4:$R$103,MATCH($A75,Jalons!$A$4:$A$103,0)),""))
A76: =IFERROR(INDEX(Jalons!$A$4:$A$103,AGGREGATE(15,6,(ROW(Jalons!$A$4:$A$103)-ROW(Jalons!$A$4)+1)/((Jalons!$B$4:$B$103=Paramètres!$B$3)*(Jalons!$R$4:$R$103<>"")*(Jalons!$R$4:$R$103<>"OK")),64)),"") | B76: =IF($A76="","",IFERROR(INDEX(Jalons!$E$4:$E$103,MATCH($A76,Jalons!$A$4:$A$103,0)),"")) | C76: =IF($A76="","",IFERROR(INDEX(Jalons!$G$4:$G$103,MATCH($A76,Jalons!$A$4:$A$103,0)),"")) | D76: =IF($A76="","",IFERROR(IF(INDEX(Jalons!$J$4:$J$103,MATCH($A76,Jalons!$A$4:$A$103,0))=0,"",INDEX(Jalons!$J$4:$J$103,MATCH($A76,Jalons!$A$4:$A$103,0))),"")) | E76: =IF($A76="","",IFERROR(INDEX(Jalons!$M$4:$M$103,MATCH($A76,Jalons!$A$4:$A$103,0)),"")) | F76: =IF($A76="","",IFERROR(INDEX(Jalons!$R$4:$R$103,MATCH($A76,Jalons!$A$4:$A$103,0)),""))
A77: =IFERROR(INDEX(Jalons!$A$4:$A$103,AGGREGATE(15,6,(ROW(Jalons!$A$4:$A$103)-ROW(Jalons!$A$4)+1)/((Jalons!$B$4:$B$103=Paramètres!$B$3)*(Jalons!$R$4:$R$103<>"")*(Jalons!$R$4:$R$103<>"OK")),65)),"") | B77: =IF($A77="","",IFERROR(INDEX(Jalons!$E$4:$E$103,MATCH($A77,Jalons!$A$4:$A$103,0)),"")) | C77: =IF($A77="","",IFERROR(INDEX(Jalons!$G$4:$G$103,MATCH($A77,Jalons!$A$4:$A$103,0)),"")) | D77: =IF($A77="","",IFERROR(IF(INDEX(Jalons!$J$4:$J$103,MATCH($A77,Jalons!$A$4:$A$103,0))=0,"",INDEX(Jalons!$J$4:$J$103,MATCH($A77,Jalons!$A$4:$A$103,0))),"")) | E77: =IF($A77="","",IFERROR(INDEX(Jalons!$M$4:$M$103,MATCH($A77,Jalons!$A$4:$A$103,0)),"")) | F77: =IF($A77="","",IFERROR(INDEX(Jalons!$R$4:$R$103,MATCH($A77,Jalons!$A$4:$A$103,0)),""))
A78: =IFERROR(INDEX(Jalons!$A$4:$A$103,AGGREGATE(15,6,(ROW(Jalons!$A$4:$A$103)-ROW(Jalons!$A$4)+1)/((Jalons!$B$4:$B$103=Paramètres!$B$3)*(Jalons!$R$4:$R$103<>"")*(Jalons!$R$4:$R$103<>"OK")),66)),"") | B78: =IF($A78="","",IFERROR(INDEX(Jalons!$E$4:$E$103,MATCH($A78,Jalons!$A$4:$A$103,0)),"")) | C78: =IF($A78="","",IFERROR(INDEX(Jalons!$G$4:$G$103,MATCH($A78,Jalons!$A$4:$A$103,0)),"")) | D78: =IF($A78="","",IFERROR(IF(INDEX(Jalons!$J$4:$J$103,MATCH($A78,Jalons!$A$4:$A$103,0))=0,"",INDEX(Jalons!$J$4:$J$103,MATCH($A78,Jalons!$A$4:$A$103,0))),"")) | E78: =IF($A78="","",IFERROR(INDEX(Jalons!$M$4:$M$103,MATCH($A78,Jalons!$A$4:$A$103,0)),"")) | F78: =IF($A78="","",IFERROR(INDEX(Jalons!$R$4:$R$103,MATCH($A78,Jalons!$A$4:$A$103,0)),""))
A79: =IFERROR(INDEX(Jalons!$A$4:$A$103,AGGREGATE(15,6,(ROW(Jalons!$A$4:$A$103)-ROW(Jalons!$A$4)+1)/((Jalons!$B$4:$B$103=Paramètres!$B$3)*(Jalons!$R$4:$R$103<>"")*(Jalons!$R$4:$R$103<>"OK")),67)),"") | B79: =IF($A79="","",IFERROR(INDEX(Jalons!$E$4:$E$103,MATCH($A79,Jalons!$A$4:$A$103,0)),"")) | C79: =IF($A79="","",IFERROR(INDEX(Jalons!$G$4:$G$103,MATCH($A79,Jalons!$A$4:$A$103,0)),"")) | D79: =IF($A79="","",IFERROR(IF(INDEX(Jalons!$J$4:$J$103,MATCH($A79,Jalons!$A$4:$A$103,0))=0,"",INDEX(Jalons!$J$4:$J$103,MATCH($A79,Jalons!$A$4:$A$103,0))),"")) | E79: =IF($A79="","",IFERROR(INDEX(Jalons!$M$4:$M$103,MATCH($A79,Jalons!$A$4:$A$103,0)),"")) | F79: =IF($A79="","",IFERROR(INDEX(Jalons!$R$4:$R$103,MATCH($A79,Jalons!$A$4:$A$103,0)),""))
A80: =IFERROR(INDEX(Jalons!$A$4:$A$103,AGGREGATE(15,6,(ROW(Jalons!$A$4:$A$103)-ROW(Jalons!$A$4)+1)/((Jalons!$B$4:$B$103=Paramètres!$B$3)*(Jalons!$R$4:$R$103<>"")*(Jalons!$R$4:$R$103<>"OK")),68)),"") | B80: =IF($A80="","",IFERROR(INDEX(Jalons!$E$4:$E$103,MATCH($A80,Jalons!$A$4:$A$103,0)),"")) | C80: =IF($A80="","",IFERROR(INDEX(Jalons!$G$4:$G$103,MATCH($A80,Jalons!$A$4:$A$103,0)),"")) | D80: =IF($A80="","",IFERROR(IF(INDEX(Jalons!$J$4:$J$103,MATCH($A80,Jalons!$A$4:$A$103,0))=0,"",INDEX(Jalons!$J$4:$J$103,MATCH($A80,Jalons!$A$4:$A$103,0))),"")) | E80: =IF($A80="","",IFERROR(INDEX(Jalons!$M$4:$M$103,MATCH($A80,Jalons!$A$4:$A$103,0)),"")) | F80: =IF($A80="","",IFERROR(INDEX(Jalons!$R$4:$R$103,MATCH($A80,Jalons!$A$4:$A$103,0)),""))
A81: =IFERROR(INDEX(Jalons!$A$4:$A$103,AGGREGATE(15,6,(ROW(Jalons!$A$4:$A$103)-ROW(Jalons!$A$4)+1)/((Jalons!$B$4:$B$103=Paramètres!$B$3)*(Jalons!$R$4:$R$103<>"")*(Jalons!$R$4:$R$103<>"OK")),69)),"") | B81: =IF($A81="","",IFERROR(INDEX(Jalons!$E$4:$E$103,MATCH($A81,Jalons!$A$4:$A$103,0)),"")) | C81: =IF($A81="","",IFERROR(INDEX(Jalons!$G$4:$G$103,MATCH($A81,Jalons!$A$4:$A$103,0)),"")) | D81: =IF($A81="","",IFERROR(IF(INDEX(Jalons!$J$4:$J$103,MATCH($A81,Jalons!$A$4:$A$103,0))=0,"",INDEX(Jalons!$J$4:$J$103,MATCH($A81,Jalons!$A$4:$A$103,0))),"")) | E81: =IF($A81="","",IFERROR(INDEX(Jalons!$M$4:$M$103,MATCH($A81,Jalons!$A$4:$A$103,0)),"")) | F81: =IF($A81="","",IFERROR(INDEX(Jalons!$R$4:$R$103,MATCH($A81,Jalons!$A$4:$A$103,0)),""))
A82: =IFERROR(INDEX(Jalons!$A$4:$A$103,AGGREGATE(15,6,(ROW(Jalons!$A$4:$A$103)-ROW(Jalons!$A$4)+1)/((Jalons!$B$4:$B$103=Paramètres!$B$3)*(Jalons!$R$4:$R$103<>"")*(Jalons!$R$4:$R$103<>"OK")),70)),"") | B82: =IF($A82="","",IFERROR(INDEX(Jalons!$E$4:$E$103,MATCH($A82,Jalons!$A$4:$A$103,0)),"")) | C82: =IF($A82="","",IFERROR(INDEX(Jalons!$G$4:$G$103,MATCH($A82,Jalons!$A$4:$A$103,0)),"")) | D82: =IF($A82="","",IFERROR(IF(INDEX(Jalons!$J$4:$J$103,MATCH($A82,Jalons!$A$4:$A$103,0))=0,"",INDEX(Jalons!$J$4:$J$103,MATCH($A82,Jalons!$A$4:$A$103,0))),"")) | E82: =IF($A82="","",IFERROR(INDEX(Jalons!$M$4:$M$103,MATCH($A82,Jalons!$A$4:$A$103,0)),"")) | F82: =IF($A82="","",IFERROR(INDEX(Jalons!$R$4:$R$103,MATCH($A82,Jalons!$A$4:$A$103,0)),""))
A83: =IFERROR(INDEX(Jalons!$A$4:$A$103,AGGREGATE(15,6,(ROW(Jalons!$A$4:$A$103)-ROW(Jalons!$A$4)+1)/((Jalons!$B$4:$B$103=Paramètres!$B$3)*(Jalons!$R$4:$R$103<>"")*(Jalons!$R$4:$R$103<>"OK")),71)),"") | B83: =IF($A83="","",IFERROR(INDEX(Jalons!$E$4:$E$103,MATCH($A83,Jalons!$A$4:$A$103,0)),"")) | C83: =IF($A83="","",IFERROR(INDEX(Jalons!$G$4:$G$103,MATCH($A83,Jalons!$A$4:$A$103,0)),"")) | D83: =IF($A83="","",IFERROR(IF(INDEX(Jalons!$J$4:$J$103,MATCH($A83,Jalons!$A$4:$A$103,0))=0,"",INDEX(Jalons!$J$4:$J$103,MATCH($A83,Jalons!$A$4:$A$103,0))),"")) | E83: =IF($A83="","",IFERROR(INDEX(Jalons!$M$4:$M$103,MATCH($A83,Jalons!$A$4:$A$103,0)),"")) | F83: =IF($A83="","",IFERROR(INDEX(Jalons!$R$4:$R$103,MATCH($A83,Jalons!$A$4:$A$103,0)),""))
A84: =IFERROR(INDEX(Jalons!$A$4:$A$103,AGGREGATE(15,6,(ROW(Jalons!$A$4:$A$103)-ROW(Jalons!$A$4)+1)/((Jalons!$B$4:$B$103=Paramètres!$B$3)*(Jalons!$R$4:$R$103<>"")*(Jalons!$R$4:$R$103<>"OK")),72)),"") | B84: =IF($A84="","",IFERROR(INDEX(Jalons!$E$4:$E$103,MATCH($A84,Jalons!$A$4:$A$103,0)),"")) | C84: =IF($A84="","",IFERROR(INDEX(Jalons!$G$4:$G$103,MATCH($A84,Jalons!$A$4:$A$103,0)),"")) | D84: =IF($A84="","",IFERROR(IF(INDEX(Jalons!$J$4:$J$103,MATCH($A84,Jalons!$A$4:$A$103,0))=0,"",INDEX(Jalons!$J$4:$J$103,MATCH($A84,Jalons!$A$4:$A$103,0))),"")) | E84: =IF($A84="","",IFERROR(INDEX(Jalons!$M$4:$M$103,MATCH($A84,Jalons!$A$4:$A$103,0)),"")) | F84: =IF($A84="","",IFERROR(INDEX(Jalons!$R$4:$R$103,MATCH($A84,Jalons!$A$4:$A$103,0)),""))
A85: =IFERROR(INDEX(Jalons!$A$4:$A$103,AGGREGATE(15,6,(ROW(Jalons!$A$4:$A$103)-ROW(Jalons!$A$4)+1)/((Jalons!$B$4:$B$103=Paramètres!$B$3)*(Jalons!$R$4:$R$103<>"")*(Jalons!$R$4:$R$103<>"OK")),73)),"") | B85: =IF($A85="","",IFERROR(INDEX(Jalons!$E$4:$E$103,MATCH($A85,Jalons!$A$4:$A$103,0)),"")) | C85: =IF($A85="","",IFERROR(INDEX(Jalons!$G$4:$G$103,MATCH($A85,Jalons!$A$4:$A$103,0)),"")) | D85: =IF($A85="","",IFERROR(IF(INDEX(Jalons!$J$4:$J$103,MATCH($A85,Jalons!$A$4:$A$103,0))=0,"",INDEX(Jalons!$J$4:$J$103,MATCH($A85,Jalons!$A$4:$A$103,0))),"")) | E85: =IF($A85="","",IFERROR(INDEX(Jalons!$M$4:$M$103,MATCH($A85,Jalons!$A$4:$A$103,0)),"")) | F85: =IF($A85="","",IFERROR(INDEX(Jalons!$R$4:$R$103,MATCH($A85,Jalons!$A$4:$A$103,0)),""))
A86: =IFERROR(INDEX(Jalons!$A$4:$A$103,AGGREGATE(15,6,(ROW(Jalons!$A$4:$A$103)-ROW(Jalons!$A$4)+1)/((Jalons!$B$4:$B$103=Paramètres!$B$3)*(Jalons!$R$4:$R$103<>"")*(Jalons!$R$4:$R$103<>"OK")),74)),"") | B86: =IF($A86="","",IFERROR(INDEX(Jalons!$E$4:$E$103,MATCH($A86,Jalons!$A$4:$A$103,0)),"")) | C86: =IF($A86="","",IFERROR(INDEX(Jalons!$G$4:$G$103,MATCH($A86,Jalons!$A$4:$A$103,0)),"")) | D86: =IF($A86="","",IFERROR(IF(INDEX(Jalons!$J$4:$J$103,MATCH($A86,Jalons!$A$4:$A$103,0))=0,"",INDEX(Jalons!$J$4:$J$103,MATCH($A86,Jalons!$A$4:$A$103,0))),"")) | E86: =IF($A86="","",IFERROR(INDEX(Jalons!$M$4:$M$103,MATCH($A86,Jalons!$A$4:$A$103,0)),"")) | F86: =IF($A86="","",IFERROR(INDEX(Jalons!$R$4:$R$103,MATCH($A86,Jalons!$A$4:$A$103,0)),""))
A87: =IFERROR(INDEX(Jalons!$A$4:$A$103,AGGREGATE(15,6,(ROW(Jalons!$A$4:$A$103)-ROW(Jalons!$A$4)+1)/((Jalons!$B$4:$B$103=Paramètres!$B$3)*(Jalons!$R$4:$R$103<>"")*(Jalons!$R$4:$R$103<>"OK")),75)),"") | B87: =IF($A87="","",IFERROR(INDEX(Jalons!$E$4:$E$103,MATCH($A87,Jalons!$A$4:$A$103,0)),"")) | C87: =IF($A87="","",IFERROR(INDEX(Jalons!$G$4:$G$103,MATCH($A87,Jalons!$A$4:$A$103,0)),"")) | D87: =IF($A87="","",IFERROR(IF(INDEX(Jalons!$J$4:$J$103,MATCH($A87,Jalons!$A$4:$A$103,0))=0,"",INDEX(Jalons!$J$4:$J$103,MATCH($A87,Jalons!$A$4:$A$103,0))),"")) | E87: =IF($A87="","",IFERROR(INDEX(Jalons!$M$4:$M$103,MATCH($A87,Jalons!$A$4:$A$103,0)),"")) | F87: =IF($A87="","",IFERROR(INDEX(Jalons!$R$4:$R$103,MATCH($A87,Jalons!$A$4:$A$103,0)),""))
A88: =IFERROR(INDEX(Jalons!$A$4:$A$103,AGGREGATE(15,6,(ROW(Jalons!$A$4:$A$103)-ROW(Jalons!$A$4)+1)/((Jalons!$B$4:$B$103=Paramètres!$B$3)*(Jalons!$R$4:$R$103<>"")*(Jalons!$R$4:$R$103<>"OK")),76)),"") | B88: =IF($A88="","",IFERROR(INDEX(Jalons!$E$4:$E$103,MATCH($A88,Jalons!$A$4:$A$103,0)),"")) | C88: =IF($A88="","",IFERROR(INDEX(Jalons!$G$4:$G$103,MATCH($A88,Jalons!$A$4:$A$103,0)),"")) | D88: =IF($A88="","",IFERROR(IF(INDEX(Jalons!$J$4:$J$103,MATCH($A88,Jalons!$A$4:$A$103,0))=0,"",INDEX(Jalons!$J$4:$J$103,MATCH($A88,Jalons!$A$4:$A$103,0))),"")) | E88: =IF($A88="","",IFERROR(INDEX(Jalons!$M$4:$M$103,MATCH($A88,Jalons!$A$4:$A$103,0)),"")) | F88: =IF($A88="","",IFERROR(INDEX(Jalons!$R$4:$R$103,MATCH($A88,Jalons!$A$4:$A$103,0)),""))
A89: =IFERROR(INDEX(Jalons!$A$4:$A$103,AGGREGATE(15,6,(ROW(Jalons!$A$4:$A$103)-ROW(Jalons!$A$4)+1)/((Jalons!$B$4:$B$103=Paramètres!$B$3)*(Jalons!$R$4:$R$103<>"")*(Jalons!$R$4:$R$103<>"OK")),77)),"") | B89: =IF($A89="","",IFERROR(INDEX(Jalons!$E$4:$E$103,MATCH($A89,Jalons!$A$4:$A$103,0)),"")) | C89: =IF($A89="","",IFERROR(INDEX(Jalons!$G$4:$G$103,MATCH($A89,Jalons!$A$4:$A$103,0)),"")) | D89: =IF($A89="","",IFERROR(IF(INDEX(Jalons!$J$4:$J$103,MATCH($A89,Jalons!$A$4:$A$103,0))=0,"",INDEX(Jalons!$J$4:$J$103,MATCH($A89,Jalons!$A$4:$A$103,0))),"")) | E89: =IF($A89="","",IFERROR(INDEX(Jalons!$M$4:$M$103,MATCH($A89,Jalons!$A$4:$A$103,0)),"")) | F89: =IF($A89="","",IFERROR(INDEX(Jalons!$R$4:$R$103,MATCH($A89,Jalons!$A$4:$A$103,0)),""))
A90: =IFERROR(INDEX(Jalons!$A$4:$A$103,AGGREGATE(15,6,(ROW(Jalons!$A$4:$A$103)-ROW(Jalons!$A$4)+1)/((Jalons!$B$4:$B$103=Paramètres!$B$3)*(Jalons!$R$4:$R$103<>"")*(Jalons!$R$4:$R$103<>"OK")),78)),"") | B90: =IF($A90="","",IFERROR(INDEX(Jalons!$E$4:$E$103,MATCH($A90,Jalons!$A$4:$A$103,0)),"")) | C90: =IF($A90="","",IFERROR(INDEX(Jalons!$G$4:$G$103,MATCH($A90,Jalons!$A$4:$A$103,0)),"")) | D90: =IF($A90="","",IFERROR(IF(INDEX(Jalons!$J$4:$J$103,MATCH($A90,Jalons!$A$4:$A$103,0))=0,"",INDEX(Jalons!$J$4:$J$103,MATCH($A90,Jalons!$A$4:$A$103,0))),"")) | E90: =IF($A90="","",IFERROR(INDEX(Jalons!$M$4:$M$103,MATCH($A90,Jalons!$A$4:$A$103,0)),"")) | F90: =IF($A90="","",IFERROR(INDEX(Jalons!$R$4:$R$103,MATCH($A90,Jalons!$A$4:$A$103,0)),""))
A91: =IFERROR(INDEX(Jalons!$A$4:$A$103,AGGREGATE(15,6,(ROW(Jalons!$A$4:$A$103)-ROW(Jalons!$A$4)+1)/((Jalons!$B$4:$B$103=Paramètres!$B$3)*(Jalons!$R$4:$R$103<>"")*(Jalons!$R$4:$R$103<>"OK")),79)),"") | B91: =IF($A91="","",IFERROR(INDEX(Jalons!$E$4:$E$103,MATCH($A91,Jalons!$A$4:$A$103,0)),"")) | C91: =IF($A91="","",IFERROR(INDEX(Jalons!$G$4:$G$103,MATCH($A91,Jalons!$A$4:$A$103,0)),"")) | D91: =IF($A91="","",IFERROR(IF(INDEX(Jalons!$J$4:$J$103,MATCH($A91,Jalons!$A$4:$A$103,0))=0,"",INDEX(Jalons!$J$4:$J$103,MATCH($A91,Jalons!$A$4:$A$103,0))),"")) | E91: =IF($A91="","",IFERROR(INDEX(Jalons!$M$4:$M$103,MATCH($A91,Jalons!$A$4:$A$103,0)),"")) | F91: =IF($A91="","",IFERROR(INDEX(Jalons!$R$4:$R$103,MATCH($A91,Jalons!$A$4:$A$103,0)),""))
A92: =IFERROR(INDEX(Jalons!$A$4:$A$103,AGGREGATE(15,6,(ROW(Jalons!$A$4:$A$103)-ROW(Jalons!$A$4)+1)/((Jalons!$B$4:$B$103=Paramètres!$B$3)*(Jalons!$R$4:$R$103<>"")*(Jalons!$R$4:$R$103<>"OK")),80)),"") | B92: =IF($A92="","",IFERROR(INDEX(Jalons!$E$4:$E$103,MATCH($A92,Jalons!$A$4:$A$103,0)),"")) | C92: =IF($A92="","",IFERROR(INDEX(Jalons!$G$4:$G$103,MATCH($A92,Jalons!$A$4:$A$103,0)),"")) | D92: =IF($A92="","",IFERROR(IF(INDEX(Jalons!$J$4:$J$103,MATCH($A92,Jalons!$A$4:$A$103,0))=0,"",INDEX(Jalons!$J$4:$J$103,MATCH($A92,Jalons!$A$4:$A$103,0))),"")) | E92: =IF($A92="","",IFERROR(INDEX(Jalons!$M$4:$M$103,MATCH($A92,Jalons!$A$4:$A$103,0)),"")) | F92: =IF($A92="","",IFERROR(INDEX(Jalons!$R$4:$R$103,MATCH($A92,Jalons!$A$4:$A$103,0)),""))
A93: =IFERROR(INDEX(Jalons!$A$4:$A$103,AGGREGATE(15,6,(ROW(Jalons!$A$4:$A$103)-ROW(Jalons!$A$4)+1)/((Jalons!$B$4:$B$103=Paramètres!$B$3)*(Jalons!$R$4:$R$103<>"")*(Jalons!$R$4:$R$103<>"OK")),81)),"") | B93: =IF($A93="","",IFERROR(INDEX(Jalons!$E$4:$E$103,MATCH($A93,Jalons!$A$4:$A$103,0)),"")) | C93: =IF($A93="","",IFERROR(INDEX(Jalons!$G$4:$G$103,MATCH($A93,Jalons!$A$4:$A$103,0)),"")) | D93: =IF($A93="","",IFERROR(IF(INDEX(Jalons!$J$4:$J$103,MATCH($A93,Jalons!$A$4:$A$103,0))=0,"",INDEX(Jalons!$J$4:$J$103,MATCH($A93,Jalons!$A$4:$A$103,0))),"")) | E93: =IF($A93="","",IFERROR(INDEX(Jalons!$M$4:$M$103,MATCH($A93,Jalons!$A$4:$A$103,0)),"")) | F93: =IF($A93="","",IFERROR(INDEX(Jalons!$R$4:$R$103,MATCH($A93,Jalons!$A$4:$A$103,0)),""))
A94: =IFERROR(INDEX(Jalons!$A$4:$A$103,AGGREGATE(15,6,(ROW(Jalons!$A$4:$A$103)-ROW(Jalons!$A$4)+1)/((Jalons!$B$4:$B$103=Paramètres!$B$3)*(Jalons!$R$4:$R$103<>"")*(Jalons!$R$4:$R$103<>"OK")),82)),"") | B94: =IF($A94="","",IFERROR(INDEX(Jalons!$E$4:$E$103,MATCH($A94,Jalons!$A$4:$A$103,0)),"")) | C94: =IF($A94="","",IFERROR(INDEX(Jalons!$G$4:$G$103,MATCH($A94,Jalons!$A$4:$A$103,0)),"")) | D94: =IF($A94="","",IFERROR(IF(INDEX(Jalons!$J$4:$J$103,MATCH($A94,Jalons!$A$4:$A$103,0))=0,"",INDEX(Jalons!$J$4:$J$103,MATCH($A94,Jalons!$A$4:$A$103,0))),"")) | E94: =IF($A94="","",IFERROR(INDEX(Jalons!$M$4:$M$103,MATCH($A94,Jalons!$A$4:$A$103,0)),"")) | F94: =IF($A94="","",IFERROR(INDEX(Jalons!$R$4:$R$103,MATCH($A94,Jalons!$A$4:$A$103,0)),""))
A95: =IFERROR(INDEX(Jalons!$A$4:$A$103,AGGREGATE(15,6,(ROW(Jalons!$A$4:$A$103)-ROW(Jalons!$A$4)+1)/((Jalons!$B$4:$B$103=Paramètres!$B$3)*(Jalons!$R$4:$R$103<>"")*(Jalons!$R$4:$R$103<>"OK")),83)),"") | B95: =IF($A95="","",IFERROR(INDEX(Jalons!$E$4:$E$103,MATCH($A95,Jalons!$A$4:$A$103,0)),"")) | C95: =IF($A95="","",IFERROR(INDEX(Jalons!$G$4:$G$103,MATCH($A95,Jalons!$A$4:$A$103,0)),"")) | D95: =IF($A95="","",IFERROR(IF(INDEX(Jalons!$J$4:$J$103,MATCH($A95,Jalons!$A$4:$A$103,0))=0,"",INDEX(Jalons!$J$4:$J$103,MATCH($A95,Jalons!$A$4:$A$103,0))),"")) | E95: =IF($A95="","",IFERROR(INDEX(Jalons!$M$4:$M$103,MATCH($A95,Jalons!$A$4:$A$103,0)),"")) | F95: =IF($A95="","",IFERROR(INDEX(Jalons!$R$4:$R$103,MATCH($A95,Jalons!$A$4:$A$103,0)),""))
A96: =IFERROR(INDEX(Jalons!$A$4:$A$103,AGGREGATE(15,6,(ROW(Jalons!$A$4:$A$103)-ROW(Jalons!$A$4)+1)/((Jalons!$B$4:$B$103=Paramètres!$B$3)*(Jalons!$R$4:$R$103<>"")*(Jalons!$R$4:$R$103<>"OK")),84)),"") | B96: =IF($A96="","",IFERROR(INDEX(Jalons!$E$4:$E$103,MATCH($A96,Jalons!$A$4:$A$103,0)),"")) | C96: =IF($A96="","",IFERROR(INDEX(Jalons!$G$4:$G$103,MATCH($A96,Jalons!$A$4:$A$103,0)),"")) | D96: =IF($A96="","",IFERROR(IF(INDEX(Jalons!$J$4:$J$103,MATCH($A96,Jalons!$A$4:$A$103,0))=0,"",INDEX(Jalons!$J$4:$J$103,MATCH($A96,Jalons!$A$4:$A$103,0))),"")) | E96: =IF($A96="","",IFERROR(INDEX(Jalons!$M$4:$M$103,MATCH($A96,Jalons!$A$4:$A$103,0)),"")) | F96: =IF($A96="","",IFERROR(INDEX(Jalons!$R$4:$R$103,MATCH($A96,Jalons!$A$4:$A$103,0)),""))
A97: =IFERROR(INDEX(Jalons!$A$4:$A$103,AGGREGATE(15,6,(ROW(Jalons!$A$4:$A$103)-ROW(Jalons!$A$4)+1)/((Jalons!$B$4:$B$103=Paramètres!$B$3)*(Jalons!$R$4:$R$103<>"")*(Jalons!$R$4:$R$103<>"OK")),85)),"") | B97: =IF($A97="","",IFERROR(INDEX(Jalons!$E$4:$E$103,MATCH($A97,Jalons!$A$4:$A$103,0)),"")) | C97: =IF($A97="","",IFERROR(INDEX(Jalons!$G$4:$G$103,MATCH($A97,Jalons!$A$4:$A$103,0)),"")) | D97: =IF($A97="","",IFERROR(IF(INDEX(Jalons!$J$4:$J$103,MATCH($A97,Jalons!$A$4:$A$103,0))=0,"",INDEX(Jalons!$J$4:$J$103,MATCH($A97,Jalons!$A$4:$A$103,0))),"")) | E97: =IF($A97="","",IFERROR(INDEX(Jalons!$M$4:$M$103,MATCH($A97,Jalons!$A$4:$A$103,0)),"")) | F97: =IF($A97="","",IFERROR(INDEX(Jalons!$R$4:$R$103,MATCH($A97,Jalons!$A$4:$A$103,0)),""))
A98: =IFERROR(INDEX(Jalons!$A$4:$A$103,AGGREGATE(15,6,(ROW(Jalons!$A$4:$A$103)-ROW(Jalons!$A$4)+1)/((Jalons!$B$4:$B$103=Paramètres!$B$3)*(Jalons!$R$4:$R$103<>"")*(Jalons!$R$4:$R$103<>"OK")),86)),"") | B98: =IF($A98="","",IFERROR(INDEX(Jalons!$E$4:$E$103,MATCH($A98,Jalons!$A$4:$A$103,0)),"")) | C98: =IF($A98="","",IFERROR(INDEX(Jalons!$G$4:$G$103,MATCH($A98,Jalons!$A$4:$A$103,0)),"")) | D98: =IF($A98="","",IFERROR(IF(INDEX(Jalons!$J$4:$J$103,MATCH($A98,Jalons!$A$4:$A$103,0))=0,"",INDEX(Jalons!$J$4:$J$103,MATCH($A98,Jalons!$A$4:$A$103,0))),"")) | E98: =IF($A98="","",IFERROR(INDEX(Jalons!$M$4:$M$103,MATCH($A98,Jalons!$A$4:$A$103,0)),"")) | F98: =IF($A98="","",IFERROR(INDEX(Jalons!$R$4:$R$103,MATCH($A98,Jalons!$A$4:$A$103,0)),""))
A99: =IFERROR(INDEX(Jalons!$A$4:$A$103,AGGREGATE(15,6,(ROW(Jalons!$A$4:$A$103)-ROW(Jalons!$A$4)+1)/((Jalons!$B$4:$B$103=Paramètres!$B$3)*(Jalons!$R$4:$R$103<>"")*(Jalons!$R$4:$R$103<>"OK")),87)),"") | B99: =IF($A99="","",IFERROR(INDEX(Jalons!$E$4:$E$103,MATCH($A99,Jalons!$A$4:$A$103,0)),"")) | C99: =IF($A99="","",IFERROR(INDEX(Jalons!$G$4:$G$103,MATCH($A99,Jalons!$A$4:$A$103,0)),"")) | D99: =IF($A99="","",IFERROR(IF(INDEX(Jalons!$J$4:$J$103,MATCH($A99,Jalons!$A$4:$A$103,0))=0,"",INDEX(Jalons!$J$4:$J$103,MATCH($A99,Jalons!$A$4:$A$103,0))),"")) | E99: =IF($A99="","",IFERROR(INDEX(Jalons!$M$4:$M$103,MATCH($A99,Jalons!$A$4:$A$103,0)),"")) | F99: =IF($A99="","",IFERROR(INDEX(Jalons!$R$4:$R$103,MATCH($A99,Jalons!$A$4:$A$103,0)),""))
A100: =IFERROR(INDEX(Jalons!$A$4:$A$103,AGGREGATE(15,6,(ROW(Jalons!$A$4:$A$103)-ROW(Jalons!$A$4)+1)/((Jalons!$B$4:$B$103=Paramètres!$B$3)*(Jalons!$R$4:$R$103<>"")*(Jalons!$R$4:$R$103<>"OK")),88)),"") | B100: =IF($A100="","",IFERROR(INDEX(Jalons!$E$4:$E$103,MATCH($A100,Jalons!$A$4:$A$103,0)),"")) | C100: =IF($A100="","",IFERROR(INDEX(Jalons!$G$4:$G$103,MATCH($A100,Jalons!$A$4:$A$103,0)),"")) | D100: =IF($A100="","",IFERROR(IF(INDEX(Jalons!$J$4:$J$103,MATCH($A100,Jalons!$A$4:$A$103,0))=0,"",INDEX(Jalons!$J$4:$J$103,MATCH($A100,Jalons!$A$4:$A$103,0))),"")) | E100: =IF($A100="","",IFERROR(INDEX(Jalons!$M$4:$M$103,MATCH($A100,Jalons!$A$4:$A$103,0)),"")) | F100: =IF($A100="","",IFERROR(INDEX(Jalons!$R$4:$R$103,MATCH($A100,Jalons!$A$4:$A$103,0)),""))
A101: =IFERROR(INDEX(Jalons!$A$4:$A$103,AGGREGATE(15,6,(ROW(Jalons!$A$4:$A$103)-ROW(Jalons!$A$4)+1)/((Jalons!$B$4:$B$103=Paramètres!$B$3)*(Jalons!$R$4:$R$103<>"")*(Jalons!$R$4:$R$103<>"OK")),89)),"") | B101: =IF($A101="","",IFERROR(INDEX(Jalons!$E$4:$E$103,MATCH($A101,Jalons!$A$4:$A$103,0)),"")) | C101: =IF($A101="","",IFERROR(INDEX(Jalons!$G$4:$G$103,MATCH($A101,Jalons!$A$4:$A$103,0)),"")) | D101: =IF($A101="","",IFERROR(IF(INDEX(Jalons!$J$4:$J$103,MATCH($A101,Jalons!$A$4:$A$103,0))=0,"",INDEX(Jalons!$J$4:$J$103,MATCH($A101,Jalons!$A$4:$A$103,0))),"")) | E101: =IF($A101="","",IFERROR(INDEX(Jalons!$M$4:$M$103,MATCH($A101,Jalons!$A$4:$A$103,0)),"")) | F101: =IF($A101="","",IFERROR(INDEX(Jalons!$R$4:$R$103,MATCH($A101,Jalons!$A$4:$A$103,0)),""))
A102: =IFERROR(INDEX(Jalons!$A$4:$A$103,AGGREGATE(15,6,(ROW(Jalons!$A$4:$A$103)-ROW(Jalons!$A$4)+1)/((Jalons!$B$4:$B$103=Paramètres!$B$3)*(Jalons!$R$4:$R$103<>"")*(Jalons!$R$4:$R$103<>"OK")),90)),"") | B102: =IF($A102="","",IFERROR(INDEX(Jalons!$E$4:$E$103,MATCH($A102,Jalons!$A$4:$A$103,0)),"")) | C102: =IF($A102="","",IFERROR(INDEX(Jalons!$G$4:$G$103,MATCH($A102,Jalons!$A$4:$A$103,0)),"")) | D102: =IF($A102="","",IFERROR(IF(INDEX(Jalons!$J$4:$J$103,MATCH($A102,Jalons!$A$4:$A$103,0))=0,"",INDEX(Jalons!$J$4:$J$103,MATCH($A102,Jalons!$A$4:$A$103,0))),"")) | E102: =IF($A102="","",IFERROR(INDEX(Jalons!$M$4:$M$103,MATCH($A102,Jalons!$A$4:$A$103,0)),"")) | F102: =IF($A102="","",IFERROR(INDEX(Jalons!$R$4:$R$103,MATCH($A102,Jalons!$A$4:$A$103,0)),""))
A103: =IFERROR(INDEX(Jalons!$A$4:$A$103,AGGREGATE(15,6,(ROW(Jalons!$A$4:$A$103)-ROW(Jalons!$A$4)+1)/((Jalons!$B$4:$B$103=Paramètres!$B$3)*(Jalons!$R$4:$R$103<>"")*(Jalons!$R$4:$R$103<>"OK")),91)),"") | B103: =IF($A103="","",IFERROR(INDEX(Jalons!$E$4:$E$103,MATCH($A103,Jalons!$A$4:$A$103,0)),"")) | C103: =IF($A103="","",IFERROR(INDEX(Jalons!$G$4:$G$103,MATCH($A103,Jalons!$A$4:$A$103,0)),"")) | D103: =IF($A103="","",IFERROR(IF(INDEX(Jalons!$J$4:$J$103,MATCH($A103,Jalons!$A$4:$A$103,0))=0,"",INDEX(Jalons!$J$4:$J$103,MATCH($A103,Jalons!$A$4:$A$103,0))),"")) | E103: =IF($A103="","",IFERROR(INDEX(Jalons!$M$4:$M$103,MATCH($A103,Jalons!$A$4:$A$103,0)),"")) | F103: =IF($A103="","",IFERROR(INDEX(Jalons!$R$4:$R$103,MATCH($A103,Jalons!$A$4:$A$103,0)),""))
A104: =IFERROR(INDEX(Jalons!$A$4:$A$103,AGGREGATE(15,6,(ROW(Jalons!$A$4:$A$103)-ROW(Jalons!$A$4)+1)/((Jalons!$B$4:$B$103=Paramètres!$B$3)*(Jalons!$R$4:$R$103<>"")*(Jalons!$R$4:$R$103<>"OK")),92)),"") | B104: =IF($A104="","",IFERROR(INDEX(Jalons!$E$4:$E$103,MATCH($A104,Jalons!$A$4:$A$103,0)),"")) | C104: =IF($A104="","",IFERROR(INDEX(Jalons!$G$4:$G$103,MATCH($A104,Jalons!$A$4:$A$103,0)),"")) | D104: =IF($A104="","",IFERROR(IF(INDEX(Jalons!$J$4:$J$103,MATCH($A104,Jalons!$A$4:$A$103,0))=0,"",INDEX(Jalons!$J$4:$J$103,MATCH($A104,Jalons!$A$4:$A$103,0))),"")) | E104: =IF($A104="","",IFERROR(INDEX(Jalons!$M$4:$M$103,MATCH($A104,Jalons!$A$4:$A$103,0)),"")) | F104: =IF($A104="","",IFERROR(INDEX(Jalons!$R$4:$R$103,MATCH($A104,Jalons!$A$4:$A$103,0)),""))
...

Sheet Paramètres
A1: Paramètres de validation des jalons
A2: Date de référence | B2: 46273 | D2: Types d’événement | E2: Phases | F2: Rôles | G2: Oui / Non | H2: Statuts | I2: Événements
A3: Événement analysé | B3: Événement Démo Horizon | D3: Séminaire interne | E3: Cadrage | F3: Chef de projet | G3: Oui | H3: À préparer | I3: Événement Démo Horizon
A4: Délai d’alerte (jours) | B4: 7 | D4: Conférence métier | E4: Conception | F4: Direction de projet | G4: Non | H4: Soumis | I4: Événement Fictif Boréal
D5: Convention professionnelle | E5: Programme | F5: Référent programme | H5: Validé | I5: Convention Démo Azur
D6: Atelier de direction | E6: Logistique | F6: Référent communication | H6: Refusé
A7: Usage | B7: Le résultat guide une décision interne de projet. Il ne constitue ni un engagement contractuel ni une appréciation de conformité. | E7: Technique | F7: Référent technique | H7: Sans objet
A8: Mise à jour | B8: Modifier la date de référence, l’événement analysé et le délai d’alerte pour actualiser les alertes et la décision. | E8: Production | F8: Référent logistique
A9: Listes | B9: Les valeurs jaunes peuvent être adaptées avant la saisie des jalons. Conserver des libellés uniques. | E9: Clôture | F9: Contrôle interne
F10: Comité de validation

Sheet Jalons
A1: Jalons et validations de l’événement
A2: Saisies modifiables en jaune. Les colonnes Jours restants, Dépendance validée et Alerte sont calculées automatiquement.
A3: ID jalon | B3: Événement | C3: Type d’événement | D3: Phase | E3: Jalon | F3: Livrable attendu | G3: Rôle responsable | H3: Rôle validateur | I3: ID dépendance | J3: Date cible | K3: Critique | L3: Date de soumission | M3: Statut de validation | N3: Date de validation | O3: Commentaire | P3: Jours restants | Q3: Dépendance validée | R3: Alerte
A4: DEMO-J001 | B4: Événement Démo Horizon | C4: Convention professionnelle | D4: Cadrage | E4: Cadrage du projet | F4: Note de cadrage interne approuvée | G4: Chef de projet | H4: Direction de projet | J4: 46280 | K4: Oui | L4: 46273 | M4: Validé | N4: 46274 | O4: Objectifs et périmètre internes confirmés. | P4: =IF($J4="","",IF($M4="Validé",0,$J4-Paramètres!$B$2)) | Q4: =IF($I4="","Sans dépendance",IFERROR(IF(INDEX('Jalons'!$M$4:$M$103,MATCH($I4,'Jalons'!$A$4:$A$103,0))="Validé","Oui","Non"),"ID introuvable")) | R4: =IF($A4="","",IF($M4="Refusé","ARBITRAGE",IF(AND($Q4<>"Oui",$Q4<>"Sans dépendance"),"BLOCAGE",IF($M4="Validé","OK",IF($J4="","DATE MANQUANTE",IF($P4<0,"EN RETARD",IF($P4<=Paramètres!$B$4,"À ÉCHÉANCE","À SUIVRE")))))))
A5: DEMO-J002 | B5: Événement Démo Horizon | C5: Convention professionnelle | D5: Conception | E5: Validation du format | F5: Fiche de format et séquencement | G5: Chef de projet | H5: Comité de validation | I5: DEMO-J001 | J5: 46285 | K5: Oui | L5: 46277 | M5: Validé | N5: 46279 | O5: Format plénier et ateliers retenu. | P5: =IF($J5="","",IF($M5="Validé",0,$J5-Paramètres!$B$2)) | Q5: =IF($I5="","Sans dépendance",IFERROR(IF(INDEX('Jalons'!$M$4:$M$103,MATCH($I5,'Jalons'!$A$4:$A$103,0))="Validé","Oui","Non"),"ID introuvable")) | R5: =IF($A5="","",IF($M5="Refusé","ARBITRAGE",IF(AND($Q5<>"Oui",$Q5<>"Sans dépendance"),"BLOCAGE",IF($M5="Validé","OK",IF($J5="","DATE MANQUANTE",IF($P5<0,"EN RETARD",IF($P5<=Paramètres!$B$4,"À ÉCHÉANCE","À SUIVRE")))))))
A6: DEMO-J003 | B6: Événement Démo Horizon | C6: Convention professionnelle | D6: Programme | E6: Programme éditorial | F6: Version soumise du programme | G6: Référent programme | H6: Comité de validation | I6: DEMO-J002 | J6: 46295 | K6: Oui | L6: 46291 | M6: Soumis | O6: Relecture interne en cours. | P6: =IF($J6="","",IF($M6="Validé",0,$J6-Paramètres!$B$2)) | Q6: =IF($I6="","Sans dépendance",IFERROR(IF(INDEX('Jalons'!$M$4:$M$103,MATCH($I6,'Jalons'!$A$4:$A$103,0))="Validé","Oui","Non"),"ID introuvable")) | R6: =IF($A6="","",IF($M6="Refusé","ARBITRAGE",IF(AND($Q6<>"Oui",$Q6<>"Sans dépendance"),"BLOCAGE",IF($M6="Validé","OK",IF($J6="","DATE MANQUANTE",IF($P6<0,"EN RETARD",IF($P6<=Paramètres!$B$4,"À ÉCHÉANCE","À SUIVRE")))))))
A7: DEMO-J004 | B7: Événement Démo Horizon | C7: Convention professionnelle | D7: Programme | E7: Intervenants internes | F7: Répartition fictive des prises de parole | G7: Référent programme | H7: Direction de projet | I7: DEMO-J003 | J7: 46305 | K7: Non | M7: À préparer | O7: À consolider après validation du programme. | P7: =IF($J7="","",IF($M7="Validé",0,$J7-Paramètres!$B$2)) | Q7: =IF($I7="","Sans dépendance",IFERROR(IF(INDEX('Jalons'!$M$4:$M$103,MATCH($I7,'Jalons'!$A$4:$A$103,0))="Validé","Oui","Non"),"ID introuvable")) | R7: =IF($A7="","",IF($M7="Refusé","ARBITRAGE",IF(AND($Q7<>"Oui",$Q7<>"Sans dépendance"),"BLOCAGE",IF($M7="Validé","OK",IF($J7="","DATE MANQUANTE",IF($P7<0,"EN RETARD",IF($P7<=Paramètres!$B$4,"À ÉCHÉANCE","À SUIVRE")))))))
A8: DEMO-J005 | B8: Événement Démo Horizon | C8: Convention professionnelle | D8: Logistique | E8: Réservation de l’espace | F8: Confirmation interne de disponibilité | G8: Référent logistique | H8: Chef de projet | I8: DEMO-J002 | J8: 46310 | K8: Oui | L8: 46296 | M8: Validé | N8: 46298 | O8: Espace fictif réservé pour la démonstration. | P8: =IF($J8="","",IF($M8="Validé",0,$J8-Paramètres!$B$2)) | Q8: =IF($I8="","Sans dépendance",IFERROR(IF(INDEX('Jalons'!$M$4:$M$103,MATCH($I8,'Jalons'!$A$4:$A$103,0))="Validé","Oui","Non"),"ID introuvable")) | R8: =IF($A8="","",IF($M8="Refusé","ARBITRAGE",IF(AND($Q8<>"Oui",$Q8<>"Sans dépendance"),"BLOCAGE",IF($M8="Validé","OK",IF($J8="","DATE MANQUANTE",IF($P8<0,"EN RETARD",IF($P8<=Paramètres!$B$4,"À ÉCHÉANCE","À SUIVRE")))))))
A9: DEMO-J006 | B9: Événement Démo Horizon | C9: Convention professionnelle | D9: Technique | E9: Besoins techniques | F9: Expression des besoins techniques | G9: Référent technique | H9: Chef de projet | I9: DEMO-J005 | J9: 46320 | K9: Oui | L9: 46315 | M9: Soumis | O9: Arbitrage interne des options en cours. | P9: =IF($J9="","",IF($M9="Validé",0,$J9-Paramètres!$B$2)) | Q9: =IF($I9="","Sans dépendance",IFERROR(IF(INDEX('Jalons'!$M$4:$M$103,MATCH($I9,'Jalons'!$A$4:$A$103,0))="Validé","Oui","Non"),"ID introuvable")) | R9: =IF($A9="","",IF($M9="Refusé","ARBITRAGE",IF(AND($Q9<>"Oui",$Q9<>"Sans dépendance"),"BLOCAGE",IF($M9="Validé","OK",IF($J9="","DATE MANQUANTE",IF($P9<0,"EN RETARD",IF($P9<=Paramètres!$B$4,"À ÉCHÉANCE","À SUIVRE")))))))
A10: DEMO-J007 | B10: Événement Démo Horizon | C10: Convention professionnelle | D10: Production | E10: Supports de présentation | F10: Gabarits et supports consolidés | G10: Référent communication | H10: Référent programme | I10: DEMO-J003 | J10: 46331 | K10: Non | M10: À préparer | O10: Production à lancer après stabilisation des contenus. | P10: =IF($J10="","",IF($M10="Validé",0,$J10-Paramètres!$B$2)) | Q10: =IF($I10="","Sans dépendance",IFERROR(IF(INDEX('Jalons'!$M$4:$M$103,MATCH($I10,'Jalons'!$A$4:$A$103,0))="Validé","Oui","Non"),"ID introuvable")) | R10: =IF($A10="","",IF($M10="Refusé","ARBITRAGE",IF(AND($Q10<>"Oui",$Q10<>"Sans dépendance"),"BLOCAGE",IF($M10="Validé","OK",IF($J10="","DATE MANQUANTE",IF($P10<0,"EN RETARD",IF($P10<=Paramètres!$B$4,"À ÉCHÉANCE","À SUIVRE")))))))
A11: DEMO-J008 | B11: Événement Démo Horizon | C11: Convention professionnelle | D11: Production | E11: Déroulé final | F11: Conducteur interne minute par minute | G11: Chef de projet | H11: Comité de validation | I11: DEMO-J003 | J11: 46341 | K11: Oui | M11: À préparer | O11: Dépend du programme éditorial. | P11: =IF($J11="","",IF($M11="Validé",0,$J11-Paramètres!$B$2)) | Q11: =IF($I11="","Sans dépendance",IFERROR(IF(INDEX('Jalons'!$M$4:$M$103,MATCH($I11,'Jalons'!$A$4:$A$103,0))="Validé","Oui","Non"),"ID introuvable")) | R11: =IF($A11="","",IF($M11="Refusé","ARBITRAGE",IF(AND($Q11<>"Oui",$Q11<>"Sans dépendance"),"BLOCAGE",IF($M11="Validé","OK",IF($J11="","DATE MANQUANTE",IF($P11<0,"EN RETARD",IF($P11<=Paramètres!$B$4,"À ÉCHÉANCE","À SUIVRE")))))))
A12: DEMO-J009 | B12: Événement Démo Horizon | C12: Convention professionnelle | D12: Production | E12: Répétition générale | F12: Compte rendu de répétition | G12: Chef de projet | H12: Direction de projet | I12: DEMO-J008 | J12: 46346 | K12: Oui | L12: 46344 | M12: Soumis | O12: Soumission enregistrée sans date de validation. | P12: =IF($J12="","",IF($M12="Validé",0,$J12-Paramètres!$B$2)) | Q12: =IF($I12="","Sans dépendance",IFERROR(IF(INDEX('Jalons'!$M$4:$M$103,MATCH($I12,'Jalons'!$A$4:$A$103,0))="Validé","Oui","Non"),"ID introuvable")) | R12: =IF($A12="","",IF($M12="Refusé","ARBITRAGE",IF(AND($Q12<>"Oui",$Q12<>"Sans dépendance"),"BLOCAGE",IF($M12="Validé","OK",IF($J12="","DATE MANQUANTE",IF($P12<0,"EN RETARD",IF($P12<=Paramètres!$B$4,"À ÉCHÉANCE","À SUIVRE")))))))
A13: DEMO-J010 | B13: Événement Démo Horizon | C13: Convention professionnelle | D13: Clôture | E13: Bilan interne | F13: Synthèse des enseignements du projet | G13: Chef de projet | H13: Direction de projet | I13: DEMO-J009 | J13: 46356 | K13: Non | M13: À préparer | O13: Bilan prévu après la tenue de l’événement fictif. | P13: =IF($J13="","",IF($M13="Validé",0,$J13-Paramètres!$B$2)) | Q13: =IF($I13="","Sans dépendance",IFERROR(IF(INDEX('Jalons'!$M$4:$M$103,MATCH($I13,'Jalons'!$A$4:$A$103,0))="Validé","Oui","Non"),"ID introuvable")) | R13: =IF($A13="","",IF($M13="Refusé","ARBITRAGE",IF(AND($Q13<>"Oui",$Q13<>"Sans dépendance"),"BLOCAGE",IF($M13="Validé","OK",IF($J13="","DATE MANQUANTE",IF($P13<0,"EN RETARD",IF($P13<=Paramètres!$B$4,"À ÉCHÉANCE","À SUIVRE")))))))
P14: =IF($J14="","",IF($M14="Validé",0,$J14-Paramètres!$B$2)) | Q14: =IF($I14="","Sans dépendance",IFERROR(IF(INDEX('Jalons'!$M$4:$M$103,MATCH($I14,'Jalons'!$A$4:$A$103,0))="Validé","Oui","Non"),"ID introuvable")) | R14: =IF($A14="","",IF($M14="Refusé","ARBITRAGE",IF(AND($Q14<>"Oui",$Q14<>"Sans dépendance"),"BLOCAGE",IF($M14="Validé","OK",IF($J14="","DATE MANQUANTE",IF($P14<0,"EN RETARD",IF($P14<=Paramètres!$B$4,"À ÉCHÉANCE","À SUIVRE")))))))
P15: =IF($J15="","",IF($M15="Validé",0,$J15-Paramètres!$B$2)) | Q15: =IF($I15="","Sans dépendance",IFERROR(IF(INDEX('Jalons'!$M$4:$M$103,MATCH($I15,'Jalons'!$A$4:$A$103,0))="Validé","Oui","Non"),"ID introuvable")) | R15: =IF($A15="","",IF($M15="Refusé","ARBITRAGE",IF(AND($Q15<>"Oui",$Q15<>"Sans dépendance"),"BLOCAGE",IF($M15="Validé","OK",IF($J15="","DATE MANQUANTE",IF($P15<0,"EN RETARD",IF($P15<=Paramètres!$B$4,"À ÉCHÉANCE","À SUIVRE")))))))
P16: =IF($J16="","",IF($M16="Validé",0,$J16-Paramètres!$B$2)) | Q16: =IF($I16="","Sans dépendance",IFERROR(IF(INDEX('Jalons'!$M$4:$M$103,MATCH($I16,'Jalons'!$A$4:$A$103,0))="Validé","Oui","Non"),"ID introuvable")) | R16: =IF($A16="","",IF($M16="Refusé","ARBITRAGE",IF(AND($Q16<>"Oui",$Q16<>"Sans dépendance"),"BLOCAGE",IF($M16="Validé","OK",IF($J16="","DATE MANQUANTE",IF($P16<0,"EN RETARD",IF($P16<=Paramètres!$B$4,"À ÉCHÉANCE","À SUIVRE")))))))
P17: =IF($J17="","",IF($M17="Validé",0,$J17-Paramètres!$B$2)) | Q17: =IF($I17="","Sans dépendance",IFERROR(IF(INDEX('Jalons'!$M$4:$M$103,MATCH($I17,'Jalons'!$A$4:$A$103,0))="Validé","Oui","Non"),"ID introuvable")) | R17: =IF($A17="","",IF($M17="Refusé","ARBITRAGE",IF(AND($Q17<>"Oui",$Q17<>"Sans dépendance"),"BLOCAGE",IF($M17="Validé","OK",IF($J17="","DATE MANQUANTE",IF($P17<0,"EN RETARD",IF($P17<=Paramètres!$B$4,"À ÉCHÉANCE","À SUIVRE")))))))
P18: =IF($J18="","",IF($M18="Validé",0,$J18-Paramètres!$B$2)) | Q18: =IF($I18="","Sans dépendance",IFERROR(IF(INDEX('Jalons'!$M$4:$M$103,MATCH($I18,'Jalons'!$A$4:$A$103,0))="Validé","Oui","Non"),"ID introuvable")) | R18: =IF($A18="","",IF($M18="Refusé","ARBITRAGE",IF(AND($Q18<>"Oui",$Q18<>"Sans dépendance"),"BLOCAGE",IF($M18="Validé","OK",IF($J18="","DATE MANQUANTE",IF($P18<0,"EN RETARD",IF($P18<=Paramètres!$B$4,"À ÉCHÉANCE","À SUIVRE")))))))
P19: =IF($J19="","",IF($M19="Validé",0,$J19-Paramètres!$B$2)) | Q19: =IF($I19="","Sans dépendance",IFERROR(IF(INDEX('Jalons'!$M$4:$M$103,MATCH($I19,'Jalons'!$A$4:$A$103,0))="Validé","Oui","Non"),"ID introuvable")) | R19: =IF($A19="","",IF($M19="Refusé","ARBITRAGE",IF(AND($Q19<>"Oui",$Q19<>"Sans dépendance"),"BLOCAGE",IF($M19="Validé","OK",IF($J19="","DATE MANQUANTE",IF($P19<0,"EN RETARD",IF($P19<=Paramètres!$B$4,"À ÉCHÉANCE","À SUIVRE")))))))
P20: =IF($J20="","",IF($M20="Validé",0,$J20-Paramètres!$B$2)) | Q20: =IF($I20="","Sans dépendance",IFERROR(IF(INDEX('Jalons'!$M$4:$M$103,MATCH($I20,'Jalons'!$A$4:$A$103,0))="Validé","Oui","Non"),"ID introuvable")) | R20: =IF($A20="","",IF($M20="Refusé","ARBITRAGE",IF(AND($Q20<>"Oui",$Q20<>"Sans dépendance"),"BLOCAGE",IF($M20="Validé","OK",IF($J20="","DATE MANQUANTE",IF($P20<0,"EN RETARD",IF($P20<=Paramètres!$B$4,"À ÉCHÉANCE","À SUIVRE")))))))
P21: =IF($J21="","",IF($M21="Validé",0,$J21-Paramètres!$B$2)) | Q21: =IF($I21="","Sans dépendance",IFERROR(IF(INDEX('Jalons'!$M$4:$M$103,MATCH($I21,'Jalons'!$A$4:$A$103,0))="Validé","Oui","Non"),"ID introuvable")) | R21: =IF($A21="","",IF($M21="Refusé","ARBITRAGE",IF(AND($Q21<>"Oui",$Q21<>"Sans dépendance"),"BLOCAGE",IF($M21="Validé","OK",IF($J21="","DATE MANQUANTE",IF($P21<0,"EN RETARD",IF($P21<=Paramètres!$B$4,"À ÉCHÉANCE","À SUIVRE")))))))
P22: =IF($J22="","",IF($M22="Validé",0,$J22-Paramètres!$B$2)) | Q22: =IF($I22="","Sans dépendance",IFERROR(IF(INDEX('Jalons'!$M$4:$M$103,MATCH($I22,'Jalons'!$A$4:$A$103,0))="Validé","Oui","Non"),"ID introuvable")) | R22: =IF($A22="","",IF($M22="Refusé","ARBITRAGE",IF(AND($Q22<>"Oui",$Q22<>"Sans dépendance"),"BLOCAGE",IF($M22="Validé","OK",IF($J22="","DATE MANQUANTE",IF($P22<0,"EN RETARD",IF($P22<=Paramètres!$B$4,"À ÉCHÉANCE","À SUIVRE")))))))
P23: =IF($J23="","",IF($M23="Validé",0,$J23-Paramètres!$B$2)) | Q23: =IF($I23="","Sans dépendance",IFERROR(IF(INDEX('Jalons'!$M$4:$M$103,MATCH($I23,'Jalons'!$A$4:$A$103,0))="Validé","Oui","Non"),"ID introuvable")) | R23: =IF($A23="","",IF($M23="Refusé","ARBITRAGE",IF(AND($Q23<>"Oui",$Q23<>"Sans dépendance"),"BLOCAGE",IF($M23="Validé","OK",IF($J23="","DATE MANQUANTE",IF($P23<0,"EN RETARD",IF($P23<=Paramètres!$B$4,"À ÉCHÉANCE","À SUIVRE")))))))
P24: =IF($J24="","",IF($M24="Validé",0,$J24-Paramètres!$B$2)) | Q24: =IF($I24="","Sans dépendance",IFERROR(IF(INDEX('Jalons'!$M$4:$M$103,MATCH($I24,'Jalons'!$A$4:$A$103,0))="Validé","Oui","Non"),"ID introuvable")) | R24: =IF($A24="","",IF($M24="Refusé","ARBITRAGE",IF(AND($Q24<>"Oui",$Q24<>"Sans dépendance"),"BLOCAGE",IF($M24="Validé","OK",IF($J24="","DATE MANQUANTE",IF($P24<0,"EN RETARD",IF($P24<=Paramètres!$B$4,"À ÉCHÉANCE","À SUIVRE")))))))
P25: =IF($J25="","",IF($M25="Validé",0,$J25-Paramètres!$B$2)) | Q25: =IF($I25="","Sans dépendance",IFERROR(IF(INDEX('Jalons'!$M$4:$M$103,MATCH($I25,'Jalons'!$A$4:$A$103,0))="Validé","Oui","Non"),"ID introuvable")) | R25: =IF($A25="","",IF($M25="Refusé","ARBITRAGE",IF(AND($Q25<>"Oui",$Q25<>"Sans dépendance"),"BLOCAGE",IF($M25="Validé","OK",IF($J25="","DATE MANQUANTE",IF($P25<0,"EN RETARD",IF($P25<=Paramètres!$B$4,"À ÉCHÉANCE","À SUIVRE")))))))
... P103: =IF($J103="","",IF($M103="Validé",0,$J103-Paramètres!$B$2)) | Q103: =IF($I103="","Sans dépendance",IFERROR(IF(INDEX('Jalons'!$M$4:$M$103,MATCH($I103,'Jalons'!$A$4:$A$103,0))="Validé","Oui","Non"),"ID introuvable")) | R103: =IF($A103="","",IF($M103="Refusé","ARBITRAGE",IF(AND($Q103<>"Oui",$Q103<>"Sans dépendance"),"BLOCAGE",IF($M103="Validé","OK",IF($J103="","DATE MANQUANTE",IF($P103<0,"EN RETARD",IF($P103<=Paramètres!$B$4,"À ÉCHÉANCE","À SUIVRE")))))))
